BEGIN:VCALENDAR
VERSION:2.0
PRODID:-//The City of Murphysboro - ECPv6.15.20//NONSGML v1.0//EN
CALSCALE:GREGORIAN
METHOD:PUBLISH
X-ORIGINAL-URL:https://murphysboro.com
X-WR-CALDESC:Events for The City of Murphysboro
REFRESH-INTERVAL;VALUE=DURATION:PT1H
X-Robots-Tag:noindex
X-PUBLISHED-TTL:PT1H
BEGIN:VTIMEZONE
TZID:America/Chicago
BEGIN:DAYLIGHT
TZOFFSETFROM:-0600
TZOFFSETTO:-0500
TZNAME:CDT
DTSTART:20250309T080000
END:DAYLIGHT
BEGIN:STANDARD
TZOFFSETFROM:-0500
TZOFFSETTO:-0600
TZNAME:CST
DTSTART:20251102T070000
END:STANDARD
BEGIN:DAYLIGHT
TZOFFSETFROM:-0600
TZOFFSETTO:-0500
TZNAME:CDT
DTSTART:20260308T080000
END:DAYLIGHT
BEGIN:STANDARD
TZOFFSETFROM:-0500
TZOFFSETTO:-0600
TZNAME:CST
DTSTART:20261101T070000
END:STANDARD
BEGIN:DAYLIGHT
TZOFFSETFROM:-0600
TZOFFSETTO:-0500
TZNAME:CDT
DTSTART:20270314T080000
END:DAYLIGHT
BEGIN:STANDARD
TZOFFSETFROM:-0500
TZOFFSETTO:-0600
TZNAME:CST
DTSTART:20271107T070000
END:STANDARD
END:VTIMEZONE
BEGIN:VEVENT
DTSTART;TZID=America/Chicago:20260821T120000
DTEND;TZID=America/Chicago:20260821T150000
DTSTAMP:20260421T143058
CREATED:20251225T121036Z
LAST-MODIFIED:20251225T121036Z
UID:10012828-1787313600-1787324400@murphysboro.com
SUMMARY:Open hours – Jackson County Historical Society
DESCRIPTION:Related
URL:https://murphysboro.com/event/open-hours-jackson-county-historical-society-4/2026-08-21/
LOCATION:Jackson County Historical Society\, 1616 Edith Street\, Murphysboro\, IL\, 62966\, United States
CATEGORIES:Business,Educational
END:VEVENT
BEGIN:VEVENT
DTSTART;TZID=America/Chicago:20260826T120000
DTEND;TZID=America/Chicago:20260826T150000
DTSTAMP:20260421T143058
CREATED:20251223T143919Z
LAST-MODIFIED:20251223T143919Z
UID:10012154-1787745600-1787756400@murphysboro.com
SUMMARY:Open hours – Jackson County Historical Society
DESCRIPTION:Related
URL:https://murphysboro.com/event/open-hours-jackson-county-historical-society-3/2026-08-26/
LOCATION:Jackson County Historical Society\, 1616 Edith Street\, Murphysboro\, IL\, 62966\, United States
CATEGORIES:Business,Educational
END:VEVENT
BEGIN:VEVENT
DTSTART;TZID=America/Chicago:20260828T120000
DTEND;TZID=America/Chicago:20260828T150000
DTSTAMP:20260421T143058
CREATED:20251225T121036Z
LAST-MODIFIED:20251225T121036Z
UID:10012829-1787918400-1787929200@murphysboro.com
SUMMARY:Open hours – Jackson County Historical Society
DESCRIPTION:Related
URL:https://murphysboro.com/event/open-hours-jackson-county-historical-society-4/2026-08-28/
LOCATION:Jackson County Historical Society\, 1616 Edith Street\, Murphysboro\, IL\, 62966\, United States
CATEGORIES:Business,Educational
END:VEVENT
BEGIN:VEVENT
DTSTART;TZID=America/Chicago:20260902T120000
DTEND;TZID=America/Chicago:20260902T150000
DTSTAMP:20260421T143058
CREATED:20251223T143919Z
LAST-MODIFIED:20251223T143919Z
UID:10012155-1788350400-1788361200@murphysboro.com
SUMMARY:Open hours – Jackson County Historical Society
DESCRIPTION:Related
URL:https://murphysboro.com/event/open-hours-jackson-county-historical-society-3/2026-09-02/
LOCATION:Jackson County Historical Society\, 1616 Edith Street\, Murphysboro\, IL\, 62966\, United States
CATEGORIES:Business,Educational
END:VEVENT
BEGIN:VEVENT
DTSTART;TZID=America/Chicago:20260904T120000
DTEND;TZID=America/Chicago:20260904T150000
DTSTAMP:20260421T143058
CREATED:20251225T121036Z
LAST-MODIFIED:20251225T121036Z
UID:10012830-1788523200-1788534000@murphysboro.com
SUMMARY:Open hours – Jackson County Historical Society
DESCRIPTION:Related
URL:https://murphysboro.com/event/open-hours-jackson-county-historical-society-4/2026-09-04/
LOCATION:Jackson County Historical Society\, 1616 Edith Street\, Murphysboro\, IL\, 62966\, United States
CATEGORIES:Business,Educational
END:VEVENT
BEGIN:VEVENT
DTSTART;TZID=America/Chicago:20260909T120000
DTEND;TZID=America/Chicago:20260909T150000
DTSTAMP:20260421T143058
CREATED:20251223T143919Z
LAST-MODIFIED:20251223T143919Z
UID:10012156-1788955200-1788966000@murphysboro.com
SUMMARY:Open hours – Jackson County Historical Society
DESCRIPTION:Related
URL:https://murphysboro.com/event/open-hours-jackson-county-historical-society-3/2026-09-09/
LOCATION:Jackson County Historical Society\, 1616 Edith Street\, Murphysboro\, IL\, 62966\, United States
CATEGORIES:Business,Educational
END:VEVENT
BEGIN:VEVENT
DTSTART;TZID=America/Chicago:20260911T120000
DTEND;TZID=America/Chicago:20260911T150000
DTSTAMP:20260421T143058
CREATED:20251225T121036Z
LAST-MODIFIED:20251225T121036Z
UID:10012831-1789128000-1789138800@murphysboro.com
SUMMARY:Open hours – Jackson County Historical Society
DESCRIPTION:Related
URL:https://murphysboro.com/event/open-hours-jackson-county-historical-society-4/2026-09-11/
LOCATION:Jackson County Historical Society\, 1616 Edith Street\, Murphysboro\, IL\, 62966\, United States
CATEGORIES:Business,Educational
END:VEVENT
BEGIN:VEVENT
DTSTART;TZID=America/Chicago:20260916T120000
DTEND;TZID=America/Chicago:20260916T150000
DTSTAMP:20260421T143058
CREATED:20251223T143919Z
LAST-MODIFIED:20251223T143919Z
UID:10012157-1789560000-1789570800@murphysboro.com
SUMMARY:Open hours – Jackson County Historical Society
DESCRIPTION:Related
URL:https://murphysboro.com/event/open-hours-jackson-county-historical-society-3/2026-09-16/
LOCATION:Jackson County Historical Society\, 1616 Edith Street\, Murphysboro\, IL\, 62966\, United States
CATEGORIES:Business,Educational
END:VEVENT
BEGIN:VEVENT
DTSTART;TZID=America/Chicago:20260918T120000
DTEND;TZID=America/Chicago:20260918T150000
DTSTAMP:20260421T143058
CREATED:20251225T121036Z
LAST-MODIFIED:20251225T121036Z
UID:10012832-1789732800-1789743600@murphysboro.com
SUMMARY:Open hours – Jackson County Historical Society
DESCRIPTION:Related
URL:https://murphysboro.com/event/open-hours-jackson-county-historical-society-4/2026-09-18/
LOCATION:Jackson County Historical Society\, 1616 Edith Street\, Murphysboro\, IL\, 62966\, United States
CATEGORIES:Business,Educational
END:VEVENT
BEGIN:VEVENT
DTSTART;TZID=America/Chicago:20260923T120000
DTEND;TZID=America/Chicago:20260923T150000
DTSTAMP:20260421T143058
CREATED:20251223T143919Z
LAST-MODIFIED:20251223T143919Z
UID:10012158-1790164800-1790175600@murphysboro.com
SUMMARY:Open hours – Jackson County Historical Society
DESCRIPTION:Related
URL:https://murphysboro.com/event/open-hours-jackson-county-historical-society-3/2026-09-23/
LOCATION:Jackson County Historical Society\, 1616 Edith Street\, Murphysboro\, IL\, 62966\, United States
CATEGORIES:Business,Educational
END:VEVENT
BEGIN:VEVENT
DTSTART;TZID=America/Chicago:20260925T120000
DTEND;TZID=America/Chicago:20260925T150000
DTSTAMP:20260421T143058
CREATED:20251225T121036Z
LAST-MODIFIED:20251225T121036Z
UID:10012833-1790337600-1790348400@murphysboro.com
SUMMARY:Open hours – Jackson County Historical Society
DESCRIPTION:Related
URL:https://murphysboro.com/event/open-hours-jackson-county-historical-society-4/2026-09-25/
LOCATION:Jackson County Historical Society\, 1616 Edith Street\, Murphysboro\, IL\, 62966\, United States
CATEGORIES:Business,Educational
END:VEVENT
BEGIN:VEVENT
DTSTART;TZID=America/Chicago:20260930T120000
DTEND;TZID=America/Chicago:20260930T150000
DTSTAMP:20260421T143058
CREATED:20251223T143919Z
LAST-MODIFIED:20251223T143919Z
UID:10012159-1790769600-1790780400@murphysboro.com
SUMMARY:Open hours – Jackson County Historical Society
DESCRIPTION:Related
URL:https://murphysboro.com/event/open-hours-jackson-county-historical-society-3/2026-09-30/
LOCATION:Jackson County Historical Society\, 1616 Edith Street\, Murphysboro\, IL\, 62966\, United States
CATEGORIES:Business,Educational
END:VEVENT
BEGIN:VEVENT
DTSTART;TZID=America/Chicago:20261002T120000
DTEND;TZID=America/Chicago:20261002T150000
DTSTAMP:20260421T143059
CREATED:20251225T121036Z
LAST-MODIFIED:20251225T121036Z
UID:10012834-1790942400-1790953200@murphysboro.com
SUMMARY:Open hours – Jackson County Historical Society
DESCRIPTION:Related
URL:https://murphysboro.com/event/open-hours-jackson-county-historical-society-4/2026-10-02/
LOCATION:Jackson County Historical Society\, 1616 Edith Street\, Murphysboro\, IL\, 62966\, United States
CATEGORIES:Business,Educational
END:VEVENT
BEGIN:VEVENT
DTSTART;TZID=America/Chicago:20261007T120000
DTEND;TZID=America/Chicago:20261007T150000
DTSTAMP:20260421T143059
CREATED:20251223T143919Z
LAST-MODIFIED:20251223T143919Z
UID:10012160-1791374400-1791385200@murphysboro.com
SUMMARY:Open hours – Jackson County Historical Society
DESCRIPTION:Related
URL:https://murphysboro.com/event/open-hours-jackson-county-historical-society-3/2026-10-07/
LOCATION:Jackson County Historical Society\, 1616 Edith Street\, Murphysboro\, IL\, 62966\, United States
CATEGORIES:Business,Educational
END:VEVENT
BEGIN:VEVENT
DTSTART;TZID=America/Chicago:20261009T120000
DTEND;TZID=America/Chicago:20261009T150000
DTSTAMP:20260421T143059
CREATED:20251225T121036Z
LAST-MODIFIED:20251225T121036Z
UID:10012835-1791547200-1791558000@murphysboro.com
SUMMARY:Open hours – Jackson County Historical Society
DESCRIPTION:Related
URL:https://murphysboro.com/event/open-hours-jackson-county-historical-society-4/2026-10-09/
LOCATION:Jackson County Historical Society\, 1616 Edith Street\, Murphysboro\, IL\, 62966\, United States
CATEGORIES:Business,Educational
END:VEVENT
BEGIN:VEVENT
DTSTART;TZID=America/Chicago:20261014T120000
DTEND;TZID=America/Chicago:20261014T150000
DTSTAMP:20260421T143059
CREATED:20251223T143919Z
LAST-MODIFIED:20251223T143919Z
UID:10012161-1791979200-1791990000@murphysboro.com
SUMMARY:Open hours – Jackson County Historical Society
DESCRIPTION:Related
URL:https://murphysboro.com/event/open-hours-jackson-county-historical-society-3/2026-10-14/
LOCATION:Jackson County Historical Society\, 1616 Edith Street\, Murphysboro\, IL\, 62966\, United States
CATEGORIES:Business,Educational
END:VEVENT
BEGIN:VEVENT
DTSTART;TZID=America/Chicago:20261016T120000
DTEND;TZID=America/Chicago:20261016T150000
DTSTAMP:20260421T143059
CREATED:20251225T121036Z
LAST-MODIFIED:20251225T121036Z
UID:10012836-1792152000-1792162800@murphysboro.com
SUMMARY:Open hours – Jackson County Historical Society
DESCRIPTION:Related
URL:https://murphysboro.com/event/open-hours-jackson-county-historical-society-4/2026-10-16/
LOCATION:Jackson County Historical Society\, 1616 Edith Street\, Murphysboro\, IL\, 62966\, United States
CATEGORIES:Business,Educational
END:VEVENT
BEGIN:VEVENT
DTSTART;TZID=America/Chicago:20261021T120000
DTEND;TZID=America/Chicago:20261021T150000
DTSTAMP:20260421T143059
CREATED:20251223T143919Z
LAST-MODIFIED:20251223T143919Z
UID:10012162-1792584000-1792594800@murphysboro.com
SUMMARY:Open hours – Jackson County Historical Society
DESCRIPTION:Related
URL:https://murphysboro.com/event/open-hours-jackson-county-historical-society-3/2026-10-21/
LOCATION:Jackson County Historical Society\, 1616 Edith Street\, Murphysboro\, IL\, 62966\, United States
CATEGORIES:Business,Educational
END:VEVENT
BEGIN:VEVENT
DTSTART;TZID=America/Chicago:20261023T120000
DTEND;TZID=America/Chicago:20261023T150000
DTSTAMP:20260421T143059
CREATED:20251225T121036Z
LAST-MODIFIED:20251225T121036Z
UID:10012837-1792756800-1792767600@murphysboro.com
SUMMARY:Open hours – Jackson County Historical Society
DESCRIPTION:Related
URL:https://murphysboro.com/event/open-hours-jackson-county-historical-society-4/2026-10-23/
LOCATION:Jackson County Historical Society\, 1616 Edith Street\, Murphysboro\, IL\, 62966\, United States
CATEGORIES:Business,Educational
END:VEVENT
BEGIN:VEVENT
DTSTART;TZID=America/Chicago:20261028T120000
DTEND;TZID=America/Chicago:20261028T150000
DTSTAMP:20260421T143059
CREATED:20251223T143919Z
LAST-MODIFIED:20251223T143919Z
UID:10012163-1793188800-1793199600@murphysboro.com
SUMMARY:Open hours – Jackson County Historical Society
DESCRIPTION:Related
URL:https://murphysboro.com/event/open-hours-jackson-county-historical-society-3/2026-10-28/
LOCATION:Jackson County Historical Society\, 1616 Edith Street\, Murphysboro\, IL\, 62966\, United States
CATEGORIES:Business,Educational
END:VEVENT
BEGIN:VEVENT
DTSTART;TZID=America/Chicago:20261030T120000
DTEND;TZID=America/Chicago:20261030T150000
DTSTAMP:20260421T143059
CREATED:20251225T121036Z
LAST-MODIFIED:20251225T121036Z
UID:10012838-1793361600-1793372400@murphysboro.com
SUMMARY:Open hours – Jackson County Historical Society
DESCRIPTION:Related
URL:https://murphysboro.com/event/open-hours-jackson-county-historical-society-4/2026-10-30/
LOCATION:Jackson County Historical Society\, 1616 Edith Street\, Murphysboro\, IL\, 62966\, United States
CATEGORIES:Business,Educational
END:VEVENT
BEGIN:VEVENT
DTSTART;TZID=America/Chicago:20261104T120000
DTEND;TZID=America/Chicago:20261104T150000
DTSTAMP:20260421T143059
CREATED:20251223T143919Z
LAST-MODIFIED:20251223T143919Z
UID:10012164-1793793600-1793804400@murphysboro.com
SUMMARY:Open hours – Jackson County Historical Society
DESCRIPTION:Related
URL:https://murphysboro.com/event/open-hours-jackson-county-historical-society-3/2026-11-04/
LOCATION:Jackson County Historical Society\, 1616 Edith Street\, Murphysboro\, IL\, 62966\, United States
CATEGORIES:Business,Educational
END:VEVENT
BEGIN:VEVENT
DTSTART;TZID=America/Chicago:20261106T120000
DTEND;TZID=America/Chicago:20261106T150000
DTSTAMP:20260421T143059
CREATED:20251225T121036Z
LAST-MODIFIED:20251225T121036Z
UID:10012839-1793966400-1793977200@murphysboro.com
SUMMARY:Open hours – Jackson County Historical Society
DESCRIPTION:Related
URL:https://murphysboro.com/event/open-hours-jackson-county-historical-society-4/2026-11-06/
LOCATION:Jackson County Historical Society\, 1616 Edith Street\, Murphysboro\, IL\, 62966\, United States
CATEGORIES:Business,Educational
END:VEVENT
BEGIN:VEVENT
DTSTART;TZID=America/Chicago:20261111T120000
DTEND;TZID=America/Chicago:20261111T150000
DTSTAMP:20260421T143059
CREATED:20251223T143919Z
LAST-MODIFIED:20251223T143919Z
UID:10012165-1794398400-1794409200@murphysboro.com
SUMMARY:Open hours – Jackson County Historical Society
DESCRIPTION:Related
URL:https://murphysboro.com/event/open-hours-jackson-county-historical-society-3/2026-11-11/
LOCATION:Jackson County Historical Society\, 1616 Edith Street\, Murphysboro\, IL\, 62966\, United States
CATEGORIES:Business,Educational
END:VEVENT
BEGIN:VEVENT
DTSTART;TZID=America/Chicago:20261113T120000
DTEND;TZID=America/Chicago:20261113T150000
DTSTAMP:20260421T143059
CREATED:20251225T121036Z
LAST-MODIFIED:20251225T121036Z
UID:10012840-1794571200-1794582000@murphysboro.com
SUMMARY:Open hours – Jackson County Historical Society
DESCRIPTION:Related
URL:https://murphysboro.com/event/open-hours-jackson-county-historical-society-4/2026-11-13/
LOCATION:Jackson County Historical Society\, 1616 Edith Street\, Murphysboro\, IL\, 62966\, United States
CATEGORIES:Business,Educational
END:VEVENT
BEGIN:VEVENT
DTSTART;TZID=America/Chicago:20261118T120000
DTEND;TZID=America/Chicago:20261118T150000
DTSTAMP:20260421T143059
CREATED:20251223T143919Z
LAST-MODIFIED:20251223T143919Z
UID:10012166-1795003200-1795014000@murphysboro.com
SUMMARY:Open hours – Jackson County Historical Society
DESCRIPTION:Related
URL:https://murphysboro.com/event/open-hours-jackson-county-historical-society-3/2026-11-18/
LOCATION:Jackson County Historical Society\, 1616 Edith Street\, Murphysboro\, IL\, 62966\, United States
CATEGORIES:Business,Educational
END:VEVENT
BEGIN:VEVENT
DTSTART;TZID=America/Chicago:20261120T120000
DTEND;TZID=America/Chicago:20261120T150000
DTSTAMP:20260421T143059
CREATED:20251225T121036Z
LAST-MODIFIED:20251225T121036Z
UID:10012841-1795176000-1795186800@murphysboro.com
SUMMARY:Open hours – Jackson County Historical Society
DESCRIPTION:Related
URL:https://murphysboro.com/event/open-hours-jackson-county-historical-society-4/2026-11-20/
LOCATION:Jackson County Historical Society\, 1616 Edith Street\, Murphysboro\, IL\, 62966\, United States
CATEGORIES:Business,Educational
END:VEVENT
BEGIN:VEVENT
DTSTART;TZID=America/Chicago:20261125T120000
DTEND;TZID=America/Chicago:20261125T150000
DTSTAMP:20260421T143059
CREATED:20251223T143919Z
LAST-MODIFIED:20251223T143919Z
UID:10012167-1795608000-1795618800@murphysboro.com
SUMMARY:Open hours – Jackson County Historical Society
DESCRIPTION:Related
URL:https://murphysboro.com/event/open-hours-jackson-county-historical-society-3/2026-11-25/
LOCATION:Jackson County Historical Society\, 1616 Edith Street\, Murphysboro\, IL\, 62966\, United States
CATEGORIES:Business,Educational
END:VEVENT
BEGIN:VEVENT
DTSTART;TZID=America/Chicago:20261127T120000
DTEND;TZID=America/Chicago:20261127T150000
DTSTAMP:20260421T143059
CREATED:20251225T121036Z
LAST-MODIFIED:20251225T121036Z
UID:10012842-1795780800-1795791600@murphysboro.com
SUMMARY:Open hours – Jackson County Historical Society
DESCRIPTION:Related
URL:https://murphysboro.com/event/open-hours-jackson-county-historical-society-4/2026-11-27/
LOCATION:Jackson County Historical Society\, 1616 Edith Street\, Murphysboro\, IL\, 62966\, United States
CATEGORIES:Business,Educational
END:VEVENT
BEGIN:VEVENT
DTSTART;TZID=America/Chicago:20261202T120000
DTEND;TZID=America/Chicago:20261202T150000
DTSTAMP:20260421T143059
CREATED:20251223T143919Z
LAST-MODIFIED:20251223T143919Z
UID:10012168-1796212800-1796223600@murphysboro.com
SUMMARY:Open hours – Jackson County Historical Society
DESCRIPTION:Related
URL:https://murphysboro.com/event/open-hours-jackson-county-historical-society-3/2026-12-02/
LOCATION:Jackson County Historical Society\, 1616 Edith Street\, Murphysboro\, IL\, 62966\, United States
CATEGORIES:Business,Educational
END:VEVENT
END:VCALENDAR