BEGIN:VCALENDAR
VERSION:2.0
PRODID:-//The City of Murphysboro - ECPv6.15.20//NONSGML v1.0//EN
CALSCALE:GREGORIAN
METHOD:PUBLISH
X-ORIGINAL-URL:https://murphysboro.com
X-WR-CALDESC:Events for The City of Murphysboro
REFRESH-INTERVAL;VALUE=DURATION:PT1H
X-Robots-Tag:noindex
X-PUBLISHED-TTL:PT1H
BEGIN:VTIMEZONE
TZID:America/Chicago
BEGIN:DAYLIGHT
TZOFFSETFROM:-0600
TZOFFSETTO:-0500
TZNAME:CDT
DTSTART:20240310T080000
END:DAYLIGHT
BEGIN:STANDARD
TZOFFSETFROM:-0500
TZOFFSETTO:-0600
TZNAME:CST
DTSTART:20241103T070000
END:STANDARD
BEGIN:DAYLIGHT
TZOFFSETFROM:-0600
TZOFFSETTO:-0500
TZNAME:CDT
DTSTART:20250309T080000
END:DAYLIGHT
BEGIN:STANDARD
TZOFFSETFROM:-0500
TZOFFSETTO:-0600
TZNAME:CST
DTSTART:20251102T070000
END:STANDARD
BEGIN:DAYLIGHT
TZOFFSETFROM:-0600
TZOFFSETTO:-0500
TZNAME:CDT
DTSTART:20260308T080000
END:DAYLIGHT
BEGIN:STANDARD
TZOFFSETFROM:-0500
TZOFFSETTO:-0600
TZNAME:CST
DTSTART:20261101T070000
END:STANDARD
BEGIN:DAYLIGHT
TZOFFSETFROM:-0600
TZOFFSETTO:-0500
TZNAME:CDT
DTSTART:20270314T080000
END:DAYLIGHT
BEGIN:STANDARD
TZOFFSETFROM:-0500
TZOFFSETTO:-0600
TZNAME:CST
DTSTART:20271107T070000
END:STANDARD
END:VTIMEZONE
BEGIN:VTIMEZONE
TZID:UTC
BEGIN:STANDARD
TZOFFSETFROM:+0000
TZOFFSETTO:+0000
TZNAME:UTC
DTSTART:20230101T000000
END:STANDARD
END:VTIMEZONE
BEGIN:VEVENT
DTSTART;TZID=America/Chicago:20260418T120000
DTEND;TZID=America/Chicago:20260418T180000
DTSTAMP:20260421T111208
CREATED:20260325T124832Z
LAST-MODIFIED:20260325T124832Z
UID:10014106-1776513600-1776535200@murphysboro.com
SUMMARY:17th Anniversary Backyard and Brews BBQ - Big Muddy Brewing
DESCRIPTION:Related
URL:https://murphysboro.com/event/17th-anniversary-backyard-and-brews-bbq-big-muddy-brewing/
LOCATION:Big Muddy Brewing\, 1510 North 7th Street\, Murphysboro\, IL\, 62966\, United States
CATEGORIES:Business
END:VEVENT
BEGIN:VEVENT
DTSTART;TZID=America/Chicago:20260329T130000
DTEND;TZID=America/Chicago:20260329T150000
DTSTAMP:20260421T111208
CREATED:20260327T101142Z
LAST-MODIFIED:20260327T101142Z
UID:10014118-1774789200-1774796400@murphysboro.com
SUMMARY:Beads and Brews: A Beaded Plant Workshop - Big Muddy Brewing
DESCRIPTION:Related
URL:https://murphysboro.com/event/beads-and-brews-a-beaded-plant-workshop-big-muddy-brewing/
LOCATION:Big Muddy Brewing\, 1510 North 7th Street\, Murphysboro\, IL\, 62966\, United States
CATEGORIES:Business,Educational
END:VEVENT
BEGIN:VEVENT
DTSTART;TZID=America/Chicago:20260308T160000
DTEND;TZID=America/Chicago:20260308T190000
DTSTAMP:20260421T111208
CREATED:20260217T231601Z
LAST-MODIFIED:20260217T231601Z
UID:10013978-1772985600-1772996400@murphysboro.com
SUMMARY:5th Annual Girl Scout Cookies and Beer Pairing - Big Muddy Brewing
DESCRIPTION:Related
URL:https://murphysboro.com/event/5th-annual-girl-scout-cookies-and-beer-pairing-big-muddy-brewing/2026-03-08/
LOCATION:Big Muddy Brewing\, 1510 North 7th Street\, Murphysboro\, IL\, 62966\, United States
CATEGORIES:Business
END:VEVENT
BEGIN:VEVENT
DTSTART;TZID=America/Chicago:20260307T160000
DTEND;TZID=America/Chicago:20260307T190000
DTSTAMP:20260421T111208
CREATED:20260217T231601Z
LAST-MODIFIED:20260217T231601Z
UID:10013977-1772899200-1772910000@murphysboro.com
SUMMARY:5th Annual Girl Scout Cookies and Beer Pairing - Big Muddy Brewing
DESCRIPTION:Related
URL:https://murphysboro.com/event/5th-annual-girl-scout-cookies-and-beer-pairing-big-muddy-brewing/2026-03-07/
LOCATION:Big Muddy Brewing\, 1510 North 7th Street\, Murphysboro\, IL\, 62966\, United States
CATEGORIES:Business
END:VEVENT
BEGIN:VEVENT
DTSTART;TZID=America/Chicago:20260306T160000
DTEND;TZID=America/Chicago:20260306T190000
DTSTAMP:20260421T111208
CREATED:20260217T231601Z
LAST-MODIFIED:20260217T231601Z
UID:10013976-1772812800-1772823600@murphysboro.com
SUMMARY:5th Annual Girl Scout Cookies and Beer Pairing - Big Muddy Brewing
DESCRIPTION:Related
URL:https://murphysboro.com/event/5th-annual-girl-scout-cookies-and-beer-pairing-big-muddy-brewing/2026-03-06/
LOCATION:Big Muddy Brewing\, 1510 North 7th Street\, Murphysboro\, IL\, 62966\, United States
CATEGORIES:Business
END:VEVENT
BEGIN:VEVENT
DTSTART;TZID=America/Chicago:20260213T180000
DTEND;TZID=America/Chicago:20260213T200000
DTSTAMP:20260421T111208
CREATED:20260120T114757Z
LAST-MODIFIED:20260120T114757Z
UID:10013840-1771005600-1771012800@murphysboro.com
SUMMARY:Galentine's Day - Big Muddy Brewing
DESCRIPTION:Related
URL:https://murphysboro.com/event/galentines-day-big-muddy-brewing-2/
LOCATION:Big Muddy Brewing\, 1510 North 7th Street\, Murphysboro\, IL\, 62966\, United States
CATEGORIES:Business,Festival
END:VEVENT
BEGIN:VEVENT
DTSTART;TZID=America/Chicago:20260109T180000
DTEND;TZID=America/Chicago:20260109T200000
DTSTAMP:20260421T111208
CREATED:20260102T114910Z
LAST-MODIFIED:20260102T114910Z
UID:10013227-1767981600-1767988800@murphysboro.com
SUMMARY:Create Your Own Punch Card - Big Muddy Brewing
DESCRIPTION:Related
URL:https://murphysboro.com/event/create-your-own-punch-card-big-muddy-brewing/
LOCATION:Big Muddy Brewing\, 1510 North 7th Street\, Murphysboro\, IL\, 62966\, United States
CATEGORIES:Business,Educational
END:VEVENT
BEGIN:VEVENT
DTSTART;TZID=America/Chicago:20251231T160000
DTEND;TZID=America/Chicago:20251231T220000
DTSTAMP:20260421T111208
CREATED:20251231T034149Z
LAST-MODIFIED:20251231T034149Z
UID:10013212-1767196800-1767218400@murphysboro.com
SUMMARY:New Year's Eve Party - Big Muddy Brewing
DESCRIPTION:Related
URL:https://murphysboro.com/event/new-years-eve-party-big-muddy-brewing/
LOCATION:Big Muddy Brewing\, 1510 North 7th Street\, Murphysboro\, IL\, 62966\, United States
CATEGORIES:Business
END:VEVENT
BEGIN:VEVENT
DTSTART;TZID=America/Chicago:20251213T120000
DTEND;TZID=America/Chicago:20251213T160000
DTSTAMP:20260421T111208
CREATED:20251204T025700Z
LAST-MODIFIED:20251204T025700Z
UID:10010629-1765627200-1765641600@murphysboro.com
SUMMARY:Christkindl Market - Big Muddy Brewing
DESCRIPTION:Related
URL:https://murphysboro.com/event/christkindl-market-big-muddy-brewing/
LOCATION:Big Muddy Brewing\, 1510 North 7th Street\, Murphysboro\, IL\, 62966\, United States
CATEGORIES:Business,Festival
END:VEVENT
BEGIN:VEVENT
DTSTART;TZID=America/Chicago:20251126T120000
DTEND;TZID=America/Chicago:20251126T220000
DTSTAMP:20260421T111208
CREATED:20251118T184332Z
LAST-MODIFIED:20251118T184332Z
UID:10010572-1764158400-1764194400@murphysboro.com
SUMMARY:Blackout Wednesday - Big Muddy Brewing
DESCRIPTION:Related
URL:https://murphysboro.com/event/blackout-wednesday-big-muddy-brewing-2/
LOCATION:Big Muddy Brewing\, 1510 North 7th Street\, Murphysboro\, IL\, 62966\, United States
CATEGORIES:Business
END:VEVENT
BEGIN:VEVENT
DTSTART;TZID=America/Chicago:20251114T190000
DTEND;TZID=America/Chicago:20251114T210000
DTSTAMP:20260421T111208
CREATED:20250904T122857Z
LAST-MODIFIED:20250904T122857Z
UID:10010262-1763146800-1763154000@murphysboro.com
SUMMARY:Live Music - Big Muddy Brewing
DESCRIPTION:Related
URL:https://murphysboro.com/event/live-music-big-muddy-brewing-10/
LOCATION:Big Muddy Brewing\, 1510 North 7th Street\, Murphysboro\, IL\, 62966\, United States
CATEGORIES:Business,Concert
END:VEVENT
BEGIN:VEVENT
DTSTART;TZID=America/Chicago:20251107T180000
DTEND;TZID=America/Chicago:20251107T210000
DTSTAMP:20260421T111208
CREATED:20251021T120553Z
LAST-MODIFIED:20251021T120553Z
UID:10010457-1762538400-1762549200@murphysboro.com
SUMMARY:Science on Tap - Big Muddy Brewing
DESCRIPTION:Related
URL:https://murphysboro.com/event/science-on-tap-big-muddy-brewing-3/
LOCATION:Big Muddy Brewing\, 1510 North 7th Street\, Murphysboro\, IL\, 62966\, United States
CATEGORIES:Business,Educational
END:VEVENT
BEGIN:VEVENT
DTSTART;TZID=America/Chicago:20251101T120000
DTEND;TZID=America/Chicago:20251101T150000
DTSTAMP:20260421T111208
CREATED:20251022T112929Z
LAST-MODIFIED:20251022T112929Z
UID:10010469-1761998400-1762009200@murphysboro.com
SUMMARY:Learn to Home Brew Day - Big Muddy Brewing
DESCRIPTION:Related
URL:https://murphysboro.com/event/learn-to-home-brew-day-big-muddy-brewing/
LOCATION:Big Muddy Brewing\, 1510 North 7th Street\, Murphysboro\, IL\, 62966\, United States
CATEGORIES:Business,Educational
END:VEVENT
BEGIN:VEVENT
DTSTART;TZID=America/Chicago:20251011T190000
DTEND;TZID=America/Chicago:20251011T220000
DTSTAMP:20260421T111208
CREATED:20250922T181827Z
LAST-MODIFIED:20250922T181827Z
UID:10010405-1760209200-1760220000@murphysboro.com
SUMMARY:Live Music - Big Muddy Brewing
DESCRIPTION:Related
URL:https://murphysboro.com/event/live-music-big-muddy-brewing-11/
LOCATION:Big Muddy Brewing\, 1510 North 7th Street\, Murphysboro\, IL\, 62966\, United States
CATEGORIES:Business,Concert
END:VEVENT
BEGIN:VEVENT
DTSTART;TZID=America/Chicago:20251003T190000
DTEND;TZID=America/Chicago:20251003T220000
DTSTAMP:20260421T111208
CREATED:20250904T122711Z
LAST-MODIFIED:20250904T122711Z
UID:10010261-1759518000-1759528800@murphysboro.com
SUMMARY:Live Music - Big Muddy Brewing
DESCRIPTION:Related
URL:https://murphysboro.com/event/live-music-big-muddy-brewing-9/
LOCATION:Big Muddy Brewing\, 1510 North 7th Street\, Murphysboro\, IL\, 62966\, United States
CATEGORIES:Business,Concert
END:VEVENT
BEGIN:VEVENT
DTSTART;TZID=America/Chicago:20251003T170000
DTEND;TZID=America/Chicago:20251003T220000
DTSTAMP:20260421T111208
CREATED:20250910T110103Z
LAST-MODIFIED:20250910T110103Z
UID:10010285-1759510800-1759528800@murphysboro.com
SUMMARY:Life of a Showgirl Release Party - Big Muddy Brewing
DESCRIPTION:Related
URL:https://murphysboro.com/event/life-of-a-showgirl-release-party-big-muddy-brewing/
LOCATION:Big Muddy Brewing\, 1510 North 7th Street\, Murphysboro\, IL\, 62966\, United States
CATEGORIES:Business
END:VEVENT
BEGIN:VEVENT
DTSTART;TZID=America/Chicago:20250927T120000
DTEND;TZID=America/Chicago:20250927T220000
DTSTAMP:20260421T111208
CREATED:20250923T130127Z
LAST-MODIFIED:20250923T130127Z
UID:10010406-1758974400-1759010400@murphysboro.com
SUMMARY:Oktoberfest - Big Muddy Brewing
DESCRIPTION:Related
URL:https://murphysboro.com/event/oktoberfest-big-muddy-brewing/
LOCATION:Big Muddy Brewing\, 1510 North 7th Street\, Murphysboro\, IL\, 62966\, United States
CATEGORIES:Business,Festival
END:VEVENT
BEGIN:VEVENT
DTSTART;TZID=America/Chicago:20250921T130000
DTEND;TZID=America/Chicago:20250921T160000
DTSTAMP:20260421T111208
CREATED:20250921T103258Z
LAST-MODIFIED:20250921T103258Z
UID:10010394-1758459600-1758470400@murphysboro.com
SUMMARY:Clothes Line Pop-Up Shop - Big Muddy Brewing
DESCRIPTION:Related
URL:https://murphysboro.com/event/clothes-line-pop-up-shop-big-muddy-brewing/
LOCATION:Big Muddy Brewing\, 1510 North 7th Street\, Murphysboro\, IL\, 62966\, United States
CATEGORIES:Arts | Culture,Business
END:VEVENT
BEGIN:VEVENT
DTSTART;TZID=America/Chicago:20250905T180000
DTEND;TZID=America/Chicago:20250905T200000
DTSTAMP:20260421T111208
CREATED:20250725T120351Z
LAST-MODIFIED:20250725T120351Z
UID:10009544-1757095200-1757102400@murphysboro.com
SUMMARY:Science on Tap - Big Muddy Brewing
DESCRIPTION:Related
URL:https://murphysboro.com/event/science-on-tap-big-muddy-brewing/
LOCATION:Big Muddy Brewing\, 1510 North 7th Street\, Murphysboro\, IL\, 62966\, United States
CATEGORIES:Business,Educational
END:VEVENT
BEGIN:VEVENT
DTSTART;TZID=America/Chicago:20250802T190000
DTEND;TZID=America/Chicago:20250802T233000
DTSTAMP:20260421T111208
CREATED:20250619T123944Z
LAST-MODIFIED:20250619T123944Z
UID:10009425-1754161200-1754177400@murphysboro.com
SUMMARY:Nonstop Reggae Band - Big Muddy Brewing
DESCRIPTION:Related
URL:https://murphysboro.com/event/nonstop-reggae-band-big-muddy-brewing/
LOCATION:Big Muddy Brewing\, 1510 North 7th Street\, Murphysboro\, IL\, 62966\, United States
CATEGORIES:Business,Concert
END:VEVENT
BEGIN:VEVENT
DTSTART;TZID=America/Chicago:20250726T180000
DTEND;TZID=America/Chicago:20250726T210000
DTSTAMP:20260421T111208
CREATED:20250629T112933Z
LAST-MODIFIED:20250629T112933Z
UID:10009457-1753552800-1753563600@murphysboro.com
SUMMARY:Live Music - Big Muddy Brewing
DESCRIPTION:Related
URL:https://murphysboro.com/event/live-music-big-muddy-brewing-8/
LOCATION:Big Muddy Brewing\, 1510 North 7th Street\, Murphysboro\, IL\, 62966\, United States
CATEGORIES:Business,Concert
END:VEVENT
BEGIN:VEVENT
DTSTART;TZID=America/Chicago:20250710T190000
DTEND;TZID=America/Chicago:20250710T210000
DTSTAMP:20260421T111208
CREATED:20250709T103834Z
LAST-MODIFIED:20250709T103834Z
UID:10009516-1752174000-1752181200@murphysboro.com
SUMMARY:Bibles and Brews - Big Muddy Brewing
DESCRIPTION:Related
URL:https://murphysboro.com/event/bibles-and-brews-big-muddy-brewing/
LOCATION:Big Muddy Brewing\, 1510 North 7th Street\, Murphysboro\, IL\, 62966\, United States
CATEGORIES:Business,Educational
END:VEVENT
BEGIN:VEVENT
DTSTART;TZID=America/Chicago:20250607T190000
DTEND;TZID=America/Chicago:20250607T233000
DTSTAMP:20260421T111208
CREATED:20250605T163103Z
LAST-MODIFIED:20250605T163103Z
UID:10009356-1749322800-1749339000@murphysboro.com
SUMMARY:Live Music - Big Muddy Brewing
DESCRIPTION:Related
URL:https://murphysboro.com/event/live-music-big-muddy-brewing-7/
LOCATION:Big Muddy Brewing\, 1510 North 7th Street\, Murphysboro\, IL\, 62966\, United States
CATEGORIES:Concert
END:VEVENT
BEGIN:VEVENT
DTSTART;TZID=America/Chicago:20250503T180000
DTEND;TZID=America/Chicago:20250503T210000
DTSTAMP:20260421T111208
CREATED:20240403T125019Z
LAST-MODIFIED:20250211T134536Z
UID:10006056-1746295200-1746306000@murphysboro.com
SUMMARY:St. Andrew's Mega Raffle - Big Muddy Brewing
DESCRIPTION:Related
URL:https://murphysboro.com/event/st-andrews-mega-raffle-big-muddy-brewing/
LOCATION:Big Muddy Brewing\, 1510 North 7th Street\, Murphysboro\, IL\, 62966\, United States
CATEGORIES:Business,Fundraiser
END:VEVENT
BEGIN:VEVENT
DTSTART;TZID=America/Chicago:20250405T160000
DTEND;TZID=America/Chicago:20250405T190000
DTSTAMP:20260421T111208
CREATED:20250323T172306Z
LAST-MODIFIED:20250323T172306Z
UID:10009153-1743868800-1743879600@murphysboro.com
SUMMARY:The Clothes Line Pop-Up - Big Muddy Brewing
DESCRIPTION:Related
URL:https://murphysboro.com/event/the-clothes-line-pop-up-big-muddy-brewing/
LOCATION:Big Muddy Brewing\, 1510 North 7th Street\, Murphysboro\, IL\, 62966\, United States
CATEGORIES:Business
END:VEVENT
BEGIN:VEVENT
DTSTART;TZID=America/Chicago:20250309T160000
DTEND;TZID=America/Chicago:20250309T210000
DTSTAMP:20260421T111208
CREATED:20240109T173027Z
LAST-MODIFIED:20250222T164018Z
UID:10009014-1741536000-1741554000@murphysboro.com
SUMMARY:Girl Scout Cookies and Beer Pairing - Big Muddy Brewing
DESCRIPTION:Related
URL:https://murphysboro.com/event/3rd-annual-girl-scout-cookies-and-beer-pairing-big-muddy-brewing/2025-03-09/
LOCATION:Big Muddy Brewing\, 1510 North 7th Street\, Murphysboro\, IL\, 62966\, United States
CATEGORIES:Business,Community Event
END:VEVENT
BEGIN:VEVENT
DTSTART;TZID=America/Chicago:20250308T160000
DTEND;TZID=America/Chicago:20250308T210000
DTSTAMP:20260421T111208
CREATED:20240109T173027Z
LAST-MODIFIED:20250222T164018Z
UID:10009013-1741449600-1741467600@murphysboro.com
SUMMARY:Girl Scout Cookies and Beer Pairing - Big Muddy Brewing
DESCRIPTION:Related
URL:https://murphysboro.com/event/3rd-annual-girl-scout-cookies-and-beer-pairing-big-muddy-brewing/2025-03-08/
LOCATION:Big Muddy Brewing\, 1510 North 7th Street\, Murphysboro\, IL\, 62966\, United States
CATEGORIES:Business,Community Event
END:VEVENT
BEGIN:VEVENT
DTSTART;TZID=America/Chicago:20250307T160000
DTEND;TZID=America/Chicago:20250307T210000
DTSTAMP:20260421T111208
CREATED:20240109T173027Z
LAST-MODIFIED:20250222T164018Z
UID:10009012-1741363200-1741381200@murphysboro.com
SUMMARY:Girl Scout Cookies and Beer Pairing - Big Muddy Brewing
DESCRIPTION:Related
URL:https://murphysboro.com/event/3rd-annual-girl-scout-cookies-and-beer-pairing-big-muddy-brewing/2025-03-07/
LOCATION:Big Muddy Brewing\, 1510 North 7th Street\, Murphysboro\, IL\, 62966\, United States
CATEGORIES:Business,Community Event
END:VEVENT
BEGIN:VEVENT
DTSTART;TZID=America/Chicago:20250214T180000
DTEND;TZID=America/Chicago:20250214T210000
DTSTAMP:20260421T111208
CREATED:20250125T135811Z
LAST-MODIFIED:20250125T135811Z
UID:10008929-1739556000-1739566800@murphysboro.com
SUMMARY:Galentine's Day - Big Muddy Brewing
DESCRIPTION:Related
URL:https://murphysboro.com/event/galentines-day-big-muddy-brewing/
LOCATION:Big Muddy Brewing\, 1510 North 7th Street\, Murphysboro\, IL\, 62966\, United States
CATEGORIES:Business,Festival
END:VEVENT
BEGIN:VEVENT
DTSTART;TZID=UTC:20241214T120000
DTEND;TZID=UTC:20241214T210000
DTSTAMP:20260421T111208
CREATED:20230222T155226Z
LAST-MODIFIED:20241020T224625Z
UID:10000251-1734177600-1734210000@murphysboro.com
SUMMARY:Christkindl Market - Big Muddy Brewing
DESCRIPTION:Related
URL:https://murphysboro.com/event/yoga-class-event-center-10/
LOCATION:Big Muddy Brewing\, 1510 North 7th Street\, Murphysboro\, IL\, 62966\, United States
CATEGORIES:Business,Community Event
END:VEVENT
END:VCALENDAR