BEGIN:VCALENDAR
VERSION:2.0
PRODID:-//The City of Murphysboro - ECPv6.15.20//NONSGML v1.0//EN
CALSCALE:GREGORIAN
METHOD:PUBLISH
X-WR-CALNAME:The City of Murphysboro
X-ORIGINAL-URL:https://murphysboro.com
X-WR-CALDESC:Events for The City of Murphysboro
REFRESH-INTERVAL;VALUE=DURATION:PT1H
X-Robots-Tag:noindex
X-PUBLISHED-TTL:PT1H
BEGIN:VTIMEZONE
TZID:America/Chicago
BEGIN:DAYLIGHT
TZOFFSETFROM:-0600
TZOFFSETTO:-0500
TZNAME:CDT
DTSTART:20230312T080000
END:DAYLIGHT
BEGIN:STANDARD
TZOFFSETFROM:-0500
TZOFFSETTO:-0600
TZNAME:CST
DTSTART:20231105T070000
END:STANDARD
BEGIN:DAYLIGHT
TZOFFSETFROM:-0600
TZOFFSETTO:-0500
TZNAME:CDT
DTSTART:20240310T080000
END:DAYLIGHT
BEGIN:STANDARD
TZOFFSETFROM:-0500
TZOFFSETTO:-0600
TZNAME:CST
DTSTART:20241103T070000
END:STANDARD
BEGIN:DAYLIGHT
TZOFFSETFROM:-0600
TZOFFSETTO:-0500
TZNAME:CDT
DTSTART:20250309T080000
END:DAYLIGHT
BEGIN:STANDARD
TZOFFSETFROM:-0500
TZOFFSETTO:-0600
TZNAME:CST
DTSTART:20251102T070000
END:STANDARD
BEGIN:DAYLIGHT
TZOFFSETFROM:-0600
TZOFFSETTO:-0500
TZNAME:CDT
DTSTART:20260308T080000
END:DAYLIGHT
BEGIN:STANDARD
TZOFFSETFROM:-0500
TZOFFSETTO:-0600
TZNAME:CST
DTSTART:20261101T070000
END:STANDARD
END:VTIMEZONE
BEGIN:VTIMEZONE
TZID:UTC
BEGIN:STANDARD
TZOFFSETFROM:+0000
TZOFFSETTO:+0000
TZNAME:UTC
DTSTART:20230101T000000
END:STANDARD
END:VTIMEZONE
BEGIN:VEVENT
DTSTART;TZID=America/Chicago:20251231T100000
DTEND;TZID=America/Chicago:20251231T233000
DTSTAMP:20260422T064716
CREATED:20251230T224956Z
LAST-MODIFIED:20251230T224956Z
UID:10013204-1767175200-1767223800@murphysboro.com
SUMMARY:New Year's Eve Party - 715 Gaming Lounge
DESCRIPTION:Related
URL:https://murphysboro.com/event/new-years-eve-party-715-gaming-lounge/
LOCATION:715 Gaming Lounge\, 715 West Industrial Park Road\, Murphysboro\, IL\, 62966\, United States
CATEGORIES:Business
END:VEVENT
BEGIN:VEVENT
DTSTART;TZID=America/Chicago:20251224T190000
DTEND;TZID=America/Chicago:20251224T220000
DTSTAMP:20260422T064716
CREATED:20250904T123003Z
LAST-MODIFIED:20250904T123003Z
UID:10010263-1766602800-1766613600@murphysboro.com
SUMMARY:Live Music - 715 Gaming Lounge
DESCRIPTION:Related
URL:https://murphysboro.com/event/live-music-715-gaming-lounge-7/
LOCATION:715 Gaming Lounge\, 715 West Industrial Park Road\, Murphysboro\, IL\, 62966\, United States
CATEGORIES:Business,Concert
END:VEVENT
BEGIN:VEVENT
DTSTART;TZID=UTC:20251220T200000
DTEND;TZID=UTC:20251220T230000
DTSTAMP:20260422T064716
CREATED:20251216T123745Z
LAST-MODIFIED:20251216T123745Z
UID:10010679-1766260800-1766271600@murphysboro.com
SUMMARY:Christmas Party - 715 Gaming Lounge
DESCRIPTION:Related
URL:https://murphysboro.com/event/christmas-party-715-gaming-lounge/
LOCATION:715 Gaming Lounge\, 715 West Industrial Park Road\, Murphysboro\, IL\, 62966\, United States
CATEGORIES:Business,Concert
END:VEVENT
BEGIN:VEVENT
DTSTART;TZID=America/Chicago:20251206T200000
DTEND;TZID=America/Chicago:20251206T233000
DTSTAMP:20260422T064716
CREATED:20251203T193916Z
LAST-MODIFIED:20251203T193916Z
UID:10010613-1765051200-1765063800@murphysboro.com
SUMMARY:DJ - 715 Gaming Lounge
DESCRIPTION:Related
URL:https://murphysboro.com/event/dj-715-gaming-lounge/
LOCATION:715 Gaming Lounge\, 715 West Industrial Park Road\, Murphysboro\, IL\, 62966\, United States
CATEGORIES:Business
END:VEVENT
BEGIN:VEVENT
DTSTART;TZID=America/Chicago:20251126T200000
DTEND;TZID=America/Chicago:20251126T233000
DTSTAMP:20260422T064716
CREATED:20251125T122753Z
LAST-MODIFIED:20251125T122753Z
UID:10010593-1764187200-1764199800@murphysboro.com
SUMMARY:Live Music - 715 Gaming
DESCRIPTION:Related
URL:https://murphysboro.com/event/live-music-715-gaming-2/
LOCATION:715 Gaming Lounge\, 715 West Industrial Park Road\, Murphysboro\, IL\, 62966\, United States
CATEGORIES:Business,Concert
END:VEVENT
BEGIN:VEVENT
DTSTART;TZID=America/Chicago:20251115T200000
DTEND;TZID=America/Chicago:20251115T233000
DTSTAMP:20260422T064716
CREATED:20251115T111307Z
LAST-MODIFIED:20251115T111307Z
UID:10010562-1763236800-1763249400@murphysboro.com
SUMMARY:DJ and Karaoke - 715 Gaming Lounge
DESCRIPTION:Related
URL:https://murphysboro.com/event/dj-and-karaoke-715-gaming-lounge-2/
LOCATION:715 Gaming Lounge\, 715 West Industrial Park Road\, Murphysboro\, IL\, 62966\, United States
CATEGORIES:Business
END:VEVENT
BEGIN:VEVENT
DTSTART;TZID=America/Chicago:20251031T200000
DTEND;TZID=America/Chicago:20251031T233000
DTSTAMP:20260422T064716
CREATED:20251023T112457Z
LAST-MODIFIED:20251023T112457Z
UID:10010471-1761940800-1761953400@murphysboro.com
SUMMARY:Halloween Bash - 715 Gaming
DESCRIPTION:Related
URL:https://murphysboro.com/event/halloween-bash-715-gaming/
LOCATION:715 Gaming Lounge\, 715 West Industrial Park Road\, Murphysboro\, IL\, 62966\, United States
CATEGORIES:Business
END:VEVENT
BEGIN:VEVENT
DTSTART;TZID=UTC:20251011T103000
DTEND;TZID=UTC:20251011T160000
DTSTAMP:20260422T064716
CREATED:20250907T185214Z
LAST-MODIFIED:20250907T185214Z
UID:10010282-1760178600-1760198400@murphysboro.com
SUMMARY:Damon McComb Memorial Run - 715 Gaming Lounge
DESCRIPTION:Related
URL:https://murphysboro.com/event/damon-mccomb-memorial-run-715-gaming-lounge/
LOCATION:715 Gaming Lounge\, 715 West Industrial Park Road\, Murphysboro\, IL\, 62966\, United States
CATEGORIES:Fundraiser
END:VEVENT
BEGIN:VEVENT
DTSTART;TZID=America/Chicago:20250913T200000
DTEND;TZID=America/Chicago:20250913T233000
DTSTAMP:20260422T064716
CREATED:20250910T104444Z
LAST-MODIFIED:20250910T104444Z
UID:10010284-1757793600-1757806200@murphysboro.com
SUMMARY:Live Music - 715 Gaming Lounge
DESCRIPTION:Related
URL:https://murphysboro.com/event/live-music-715-gaming-lounge-9/
LOCATION:715 Gaming Lounge\, 715 West Industrial Park Road\, Murphysboro\, IL\, 62966\, United States
CATEGORIES:Business,Concert
END:VEVENT
BEGIN:VEVENT
DTSTART;TZID=America/Chicago:20250912T200000
DTEND;TZID=America/Chicago:20250912T233000
DTSTAMP:20260422T064716
CREATED:20250910T104420Z
LAST-MODIFIED:20250910T104420Z
UID:10010283-1757707200-1757719800@murphysboro.com
SUMMARY:Live Music - 715 Gaming Lounge
DESCRIPTION:Related
URL:https://murphysboro.com/event/live-music-715-gaming-lounge-8/
LOCATION:715 Gaming Lounge\, 715 West Industrial Park Road\, Murphysboro\, IL\, 62966\, United States
CATEGORIES:Business,Concert
END:VEVENT
BEGIN:VEVENT
DTSTART;TZID=America/Chicago:20250809T200000
DTEND;TZID=America/Chicago:20250809T233000
DTSTAMP:20260422T064716
CREATED:20250806T095738Z
LAST-MODIFIED:20250806T095738Z
UID:10009574-1754769600-1754782200@murphysboro.com
SUMMARY:Live Music - 715 Gaming Lounge
DESCRIPTION:Related
URL:https://murphysboro.com/event/live-music-715-gaming-lounge-6/
LOCATION:715 Gaming Lounge\, 715 West Industrial Park Road\, Murphysboro\, IL\, 62966\, United States
CATEGORIES:Business,Concert
END:VEVENT
BEGIN:VEVENT
DTSTART;TZID=America/Chicago:20250808T200000
DTEND;TZID=America/Chicago:20250808T233000
DTSTAMP:20260422T064716
CREATED:20250806T095511Z
LAST-MODIFIED:20250806T095511Z
UID:10009573-1754683200-1754695800@murphysboro.com
SUMMARY:DJ and Karaoke - 715 Gaming Lounge
DESCRIPTION:Related
URL:https://murphysboro.com/event/dj-and-karaoke-715-gaming-lounge/
LOCATION:715 Gaming Lounge\, 715 West Industrial Park Road\, Murphysboro\, IL\, 62966\, United States
CATEGORIES:Business
END:VEVENT
BEGIN:VEVENT
DTSTART;TZID=America/Chicago:20250726T200000
DTEND;TZID=America/Chicago:20250726T233000
DTSTAMP:20260422T064716
CREATED:20250725T110811Z
LAST-MODIFIED:20250725T110811Z
UID:10009542-1753560000-1753572600@murphysboro.com
SUMMARY:Live Music - 715 Gaming Lounge
DESCRIPTION:Related
URL:https://murphysboro.com/event/live-music-715-gaming-lounge-5/
LOCATION:715 Gaming Lounge\, 715 West Industrial Park Road\, Murphysboro\, IL\, 62966\, United States
CATEGORIES:Concert
END:VEVENT
BEGIN:VEVENT
DTSTART;TZID=America/Chicago:20250712T200000
DTEND;TZID=America/Chicago:20250712T233000
DTSTAMP:20260422T064716
CREATED:20250711T110420Z
LAST-MODIFIED:20250711T110420Z
UID:10009526-1752350400-1752363000@murphysboro.com
SUMMARY:Live Music - 715 Gaming Lounge
DESCRIPTION:Related
URL:https://murphysboro.com/event/live-music-715-gaming-lounge-4/
LOCATION:715 Gaming Lounge\, 715 West Industrial Park Road\, Murphysboro\, IL\, 62966\, United States
CATEGORIES:Business,Concert
END:VEVENT
BEGIN:VEVENT
DTSTART;TZID=America/Chicago:20250518T170000
DTEND;TZID=America/Chicago:20250518T220000
DTSTAMP:20260422T064716
CREATED:20250512T233725Z
LAST-MODIFIED:20250513T122913Z
UID:10009282-1747587600-1747605600@murphysboro.com
SUMMARY:Third Annual Festival - 715 Gaming
DESCRIPTION:Related
URL:https://murphysboro.com/event/fest-715-gaming/
LOCATION:715 Gaming Lounge\, 715 West Industrial Park Road\, Murphysboro\, IL\, 62966\, United States
CATEGORIES:Business,Festival
END:VEVENT
BEGIN:VEVENT
DTSTART;TZID=America/Chicago:20250517T100000
DTEND;TZID=America/Chicago:20250517T160000
DTSTAMP:20260422T064716
CREATED:20250512T233332Z
LAST-MODIFIED:20250512T233332Z
UID:10009281-1747476000-1747497600@murphysboro.com
SUMMARY:Spring Pop-Up - 715 Gaming
DESCRIPTION:Related
URL:https://murphysboro.com/event/spring-pop-up-715-gaming/
LOCATION:715 Gaming Lounge\, 715 West Industrial Park Road\, Murphysboro\, IL\, 62966\, United States
CATEGORIES:Business
END:VEVENT
BEGIN:VEVENT
DTSTART;TZID=UTC:20250419T100000
DTEND;TZID=UTC:20250419T160000
DTSTAMP:20260422T064716
CREATED:20230222T155235Z
LAST-MODIFIED:20250214T121728Z
UID:10000292-1745056800-1745078400@murphysboro.com
SUMMARY:Pop-Up Vendor Event - 715 Gaming Lounge
DESCRIPTION:Related
URL:https://murphysboro.com/event/yoga-class-yoga-on-the-block-45/
LOCATION:715 Gaming Lounge\, 715 West Industrial Park Road\, Murphysboro\, IL\, 62966\, United States
CATEGORIES:Community Event
END:VEVENT
BEGIN:VEVENT
DTSTART;TZID=UTC:20250405T210000
DTEND;TZID=UTC:20250405T233000
DTSTAMP:20260422T064716
CREATED:20230222T155405Z
LAST-MODIFIED:20250403T175515Z
UID:10000675-1743886800-1743895800@murphysboro.com
SUMMARY:Live Music - 715 Gaming Lounge
DESCRIPTION:Related
URL:https://murphysboro.com/event/open-hours-logan-museum-224/
LOCATION:715 Gaming Lounge\, 715 West Industrial Park Road\, Murphysboro\, IL\, 62966\, United States
CATEGORIES:Community Event
END:VEVENT
BEGIN:VEVENT
DTSTART;TZID=America/Chicago:20250315T200000
DTEND;TZID=America/Chicago:20250315T233000
DTSTAMP:20260422T064716
CREATED:20231225T132452Z
LAST-MODIFIED:20250311T124835Z
UID:10005145-1742068800-1742081400@murphysboro.com
SUMMARY:Live Music - 715 Gaming Lounge
DESCRIPTION:Related
URL:https://murphysboro.com/event/live-music-715-gaming-lounge/
LOCATION:715 Gaming Lounge\, 715 West Industrial Park Road\, Murphysboro\, IL\, 62966\, United States
CATEGORIES:Concert
END:VEVENT
BEGIN:VEVENT
DTSTART;TZID=America/Chicago:20250214T210000
DTEND;TZID=America/Chicago:20250214T233000
DTSTAMP:20260422T064716
CREATED:20240412T094013Z
LAST-MODIFIED:20250211T135218Z
UID:10006066-1739566800-1739575800@murphysboro.com
SUMMARY:Live Music - 715 Gaming Lounge
DESCRIPTION:Related
URL:https://murphysboro.com/event/live-music-715-gaming-lounge-2/
LOCATION:715 Gaming Lounge\, 715 West Industrial Park Road\, Murphysboro\, IL\, 62966\, United States
CATEGORIES:Concert
END:VEVENT
BEGIN:VEVENT
DTSTART;TZID=UTC:20250119T150000
DTEND;TZID=UTC:20250119T180000
DTSTAMP:20260422T064716
CREATED:20241022T182521Z
LAST-MODIFIED:20250115T163354Z
UID:10006759-1737298800-1737309600@murphysboro.com
SUMMARY:Live Music - 715 Gaming
DESCRIPTION:Related
URL:https://murphysboro.com/event/live-music-715-gaming/
LOCATION:715 Gaming Lounge\, 715 West Industrial Park Road\, Murphysboro\, IL\, 62966\, United States
CATEGORIES:Community Event
END:VEVENT
BEGIN:VEVENT
DTSTART;TZID=UTC:20241116T200000
DTEND;TZID=UTC:20241116T233000
DTSTAMP:20260422T064716
CREATED:20230222T155257Z
LAST-MODIFIED:20241114T130430Z
UID:10000400-1731787200-1731799800@murphysboro.com
SUMMARY:Live DJ - 715 Gaming Lounge
DESCRIPTION:Related
URL:https://murphysboro.com/event/trivia-night-brews-brothers-taproom-18/
LOCATION:715 Gaming Lounge\, 715 West Industrial Park Road\, Murphysboro\, IL\, 62966\, United States
CATEGORIES:Community Event
END:VEVENT
BEGIN:VEVENT
DTSTART;TZID=UTC:20241017T180000
DTEND;TZID=UTC:20241017T210000
DTSTAMP:20260422T064716
CREATED:20230222T155328Z
LAST-MODIFIED:20241016T102645Z
UID:10000525-1729188000-1729198800@murphysboro.com
SUMMARY:Girls' Night Out - 715 Gaming Lounge
DESCRIPTION:Related
URL:https://murphysboro.com/event/yoga-class-event-center-27/
LOCATION:715 Gaming Lounge\, 715 West Industrial Park Road\, Murphysboro\, IL\, 62966\, United States
CATEGORIES:Business
END:VEVENT
BEGIN:VEVENT
DTSTART;TZID=UTC:20241017T180000
DTEND;TZID=UTC:20241017T210000
DTSTAMP:20260422T064716
CREATED:20230222T155138Z
LAST-MODIFIED:20241015T122455Z
UID:10000002-1729188000-1729198800@murphysboro.com
SUMMARY:Pele Live - 715 Gaming Lounge
DESCRIPTION:Related
URL:https://murphysboro.com/event/yoga-class-yoga-on-the-block/
LOCATION:715 Gaming Lounge\, 715 West Industrial Park Road\, Murphysboro\, IL\, 62966\, United States
CATEGORIES:Business
END:VEVENT
BEGIN:VEVENT
DTSTART;TZID=America/Chicago:20240615T200000
DTEND;TZID=America/Chicago:20240615T233000
DTSTAMP:20260422T064716
CREATED:20240329T114527Z
LAST-MODIFIED:20240612T102530Z
UID:10006044-1718481600-1718494200@murphysboro.com
SUMMARY:Winston's Bagels - 715 Gaming Lounge
DESCRIPTION:Related
URL:https://murphysboro.com/event/winstons-bagels-daniel-deans/
LOCATION:715 Gaming Lounge\, 715 West Industrial Park Road\, Murphysboro\, IL\, 62966\, United States
CATEGORIES:Business
END:VEVENT
BEGIN:VEVENT
DTSTART;TZID=America/Chicago:20240519T100000
DTEND;TZID=America/Chicago:20240519T220000
DTSTAMP:20260422T064716
CREATED:20240423T103408Z
LAST-MODIFIED:20240423T103408Z
UID:10006157-1716112800-1716156000@murphysboro.com
SUMMARY:715 Fest - 715 Gaming Lounge
DESCRIPTION:Related
URL:https://murphysboro.com/event/715-fest-715-gaming-lounge/
LOCATION:715 Gaming Lounge\, 715 West Industrial Park Road\, Murphysboro\, IL\, 62966\, United States
CATEGORIES:Business
END:VEVENT
BEGIN:VEVENT
DTSTART;TZID=America/Chicago:20240505T100000
DTEND;TZID=America/Chicago:20240505T220000
DTSTAMP:20260422T064716
CREATED:20240423T103206Z
LAST-MODIFIED:20240423T103206Z
UID:10006156-1714903200-1714946400@murphysboro.com
SUMMARY:Cinco De Mayo - 715 Gaming Lounge
DESCRIPTION:Related
URL:https://murphysboro.com/event/cinco-de-mayo-715-gaming-lounge/
LOCATION:715 Gaming Lounge\, 715 West Industrial Park Road\, Murphysboro\, IL\, 62966\, United States
CATEGORIES:Business
END:VEVENT
BEGIN:VEVENT
DTSTART;TZID=America/Chicago:20240504T150000
DTEND;TZID=America/Chicago:20240504T220000
DTSTAMP:20260422T064716
CREATED:20240423T102933Z
LAST-MODIFIED:20240423T102933Z
UID:10006155-1714834800-1714860000@murphysboro.com
SUMMARY:Kentucky Derby Party - 715 Gaming Lounge
DESCRIPTION:Related
URL:https://murphysboro.com/event/kentucky-derby-party-715-gaming-lounge/
LOCATION:715 Gaming Lounge\, 715 West Industrial Park Road\, Murphysboro\, IL\, 62966\, United States
CATEGORIES:Business
END:VEVENT
BEGIN:VEVENT
DTSTART;TZID=America/Chicago:20240408T120000
DTEND;TZID=America/Chicago:20240408T210000
DTSTAMP:20260422T064716
CREATED:20240320T124901Z
LAST-MODIFIED:20240320T124901Z
UID:10005941-1712577600-1712610000@murphysboro.com
SUMMARY:Solar Eclipse Parking Lot Party - 715 Gaming Lounge
DESCRIPTION:Related
URL:https://murphysboro.com/event/solar-eclipse-parking-lot-party-715-gaming-lounge/
LOCATION:715 Gaming Lounge\, 715 West Industrial Park Road\, Murphysboro\, IL\, 62966\, United States
CATEGORIES:Business,Community Event
END:VEVENT
BEGIN:VEVENT
DTSTART;TZID=America/Chicago:20240316T180000
DTEND;TZID=America/Chicago:20240316T233000
DTSTAMP:20260422T064716
CREATED:20240302T115913Z
LAST-MODIFIED:20240302T115913Z
UID:10005853-1710612000-1710631800@murphysboro.com
SUMMARY:St. Patrick's Day Celebration - 715 Gaming
DESCRIPTION:Related
URL:https://murphysboro.com/event/st-patricks-day-celebration-715-gaming/
LOCATION:715 Gaming Lounge\, 715 West Industrial Park Road\, Murphysboro\, IL\, 62966\, United States
CATEGORIES:Business
END:VEVENT
END:VCALENDAR