BEGIN:VCALENDAR
VERSION:2.0
PRODID:-//The City of Murphysboro - ECPv6.15.20//NONSGML v1.0//EN
CALSCALE:GREGORIAN
METHOD:PUBLISH
X-WR-CALNAME:The City of Murphysboro
X-ORIGINAL-URL:https://murphysboro.com
X-WR-CALDESC:Events for The City of Murphysboro
REFRESH-INTERVAL;VALUE=DURATION:PT1H
X-Robots-Tag:noindex
X-PUBLISHED-TTL:PT1H
BEGIN:VTIMEZONE
TZID:America/Chicago
BEGIN:DAYLIGHT
TZOFFSETFROM:-0600
TZOFFSETTO:-0500
TZNAME:CDT
DTSTART:20250309T080000
END:DAYLIGHT
BEGIN:STANDARD
TZOFFSETFROM:-0500
TZOFFSETTO:-0600
TZNAME:CST
DTSTART:20251102T070000
END:STANDARD
BEGIN:DAYLIGHT
TZOFFSETFROM:-0600
TZOFFSETTO:-0500
TZNAME:CDT
DTSTART:20260308T080000
END:DAYLIGHT
BEGIN:STANDARD
TZOFFSETFROM:-0500
TZOFFSETTO:-0600
TZNAME:CST
DTSTART:20261101T070000
END:STANDARD
BEGIN:DAYLIGHT
TZOFFSETFROM:-0600
TZOFFSETTO:-0500
TZNAME:CDT
DTSTART:20270314T080000
END:DAYLIGHT
BEGIN:STANDARD
TZOFFSETFROM:-0500
TZOFFSETTO:-0600
TZNAME:CST
DTSTART:20271107T070000
END:STANDARD
END:VTIMEZONE
BEGIN:VTIMEZONE
TZID:UTC
BEGIN:STANDARD
TZOFFSETFROM:+0000
TZOFFSETTO:+0000
TZNAME:UTC
DTSTART:20250101T000000
END:STANDARD
END:VTIMEZONE
BEGIN:VEVENT
DTSTART;TZID=America/Chicago:20260303T180000
DTEND;TZID=America/Chicago:20260303T190000
DTSTAMP:20260421T213550
CREATED:20251223T121704Z
LAST-MODIFIED:20251223T121704Z
UID:10011817-1772560800-1772564400@murphysboro.com
SUMMARY:Body by Brent Bootcamp – Youth and Recreation Center
DESCRIPTION:
URL:https://murphysboro.com/event/body-by-brent-bootcamp-youth-and-recreation-center-8/2026-03-03/
LOCATION:Youth and Rec Center\, 1818 Walnut Street\, Murphysboro\, IL\, 62966\, United States
CATEGORIES:Business,Educational,Sports
END:VEVENT
BEGIN:VEVENT
DTSTART;TZID=America/Chicago:20260305T180000
DTEND;TZID=America/Chicago:20260305T190000
DTSTAMP:20260421T213550
CREATED:20251224T120534Z
LAST-MODIFIED:20251224T120534Z
UID:10012545-1772733600-1772737200@murphysboro.com
SUMMARY:Body by Brent Bootcamp – Youth and Recreation Center
DESCRIPTION:
URL:https://murphysboro.com/event/body-by-brent-bootcamp-youth-and-recreation-center-9/2026-03-05/
LOCATION:Youth and Rec Center\, 1818 Walnut Street\, Murphysboro\, IL\, 62966\, United States
CATEGORIES:Business,Educational
END:VEVENT
BEGIN:VEVENT
DTSTART;TZID=America/Chicago:20260307T093000
DTEND;TZID=America/Chicago:20260307T103000
DTSTAMP:20260421T213550
CREATED:20251226T120129Z
LAST-MODIFIED:20251226T120129Z
UID:10013059-1772875800-1772879400@murphysboro.com
SUMMARY:Body by Brent Bootcamp – Youth and Recreation Center
DESCRIPTION:
URL:https://murphysboro.com/event/body-by-brent-bootcamp-youth-and-recreation-center-10/2026-03-07/
LOCATION:Youth and Rec Center\, 1818 Walnut Street\, Murphysboro\, IL\, 62966\, United States
CATEGORIES:Business,Educational,Sports
END:VEVENT
BEGIN:VEVENT
DTSTART;TZID=UTC:20260310T100000
DTEND;TZID=UTC:20260310T110000
DTSTAMP:20260421T213550
CREATED:20260309T105022Z
LAST-MODIFIED:20260309T105022Z
UID:10014054-1773136800-1773140400@murphysboro.com
SUMMARY:Food Distribution – Youth and Rec Center
DESCRIPTION:
URL:https://murphysboro.com/event/food-distribution-youth-and-rec-center-2/
LOCATION:Youth and Rec Center\, 1818 Walnut Street\, Murphysboro\, IL\, 62966\, United States
CATEGORIES:Community Event
END:VEVENT
BEGIN:VEVENT
DTSTART;TZID=America/Chicago:20260310T180000
DTEND;TZID=America/Chicago:20260310T190000
DTSTAMP:20260421T213550
CREATED:20251223T121704Z
LAST-MODIFIED:20251223T121704Z
UID:10011818-1773165600-1773169200@murphysboro.com
SUMMARY:Body by Brent Bootcamp – Youth and Recreation Center
DESCRIPTION:
URL:https://murphysboro.com/event/body-by-brent-bootcamp-youth-and-recreation-center-8/2026-03-10/
LOCATION:Youth and Rec Center\, 1818 Walnut Street\, Murphysboro\, IL\, 62966\, United States
CATEGORIES:Business,Educational,Sports
END:VEVENT
BEGIN:VEVENT
DTSTART;TZID=America/Chicago:20260312T180000
DTEND;TZID=America/Chicago:20260312T190000
DTSTAMP:20260421T213550
CREATED:20251224T120534Z
LAST-MODIFIED:20251224T120534Z
UID:10012546-1773338400-1773342000@murphysboro.com
SUMMARY:Body by Brent Bootcamp – Youth and Recreation Center
DESCRIPTION:
URL:https://murphysboro.com/event/body-by-brent-bootcamp-youth-and-recreation-center-9/2026-03-12/
LOCATION:Youth and Rec Center\, 1818 Walnut Street\, Murphysboro\, IL\, 62966\, United States
CATEGORIES:Business,Educational
END:VEVENT
BEGIN:VEVENT
DTSTART;TZID=America/Chicago:20260314T093000
DTEND;TZID=America/Chicago:20260314T103000
DTSTAMP:20260421T213550
CREATED:20251226T120129Z
LAST-MODIFIED:20251226T120129Z
UID:10013060-1773480600-1773484200@murphysboro.com
SUMMARY:Body by Brent Bootcamp – Youth and Recreation Center
DESCRIPTION:
URL:https://murphysboro.com/event/body-by-brent-bootcamp-youth-and-recreation-center-10/2026-03-14/
LOCATION:Youth and Rec Center\, 1818 Walnut Street\, Murphysboro\, IL\, 62966\, United States
CATEGORIES:Business,Educational,Sports
END:VEVENT
BEGIN:VEVENT
DTSTART;TZID=America/Chicago:20260314T113000
DTEND;TZID=America/Chicago:20260314T133000
DTSTAMP:20260421T213550
CREATED:20260213T224849Z
LAST-MODIFIED:20260213T224849Z
UID:10013964-1773487800-1773495000@murphysboro.com
SUMMARY:Kids Irish Heritage Fest - Youth and Rec Center
DESCRIPTION:
URL:https://murphysboro.com/event/kids-irish-heritage-fest-youth-and-rec-center-2/
LOCATION:Youth and Rec Center\, 1818 Walnut Street\, Murphysboro\, IL\, 62966\, United States
CATEGORIES:Community Event,Educational,Kid Friendly
END:VEVENT
BEGIN:VEVENT
DTSTART;TZID=America/Chicago:20260317T180000
DTEND;TZID=America/Chicago:20260317T190000
DTSTAMP:20260421T213550
CREATED:20251223T121704Z
LAST-MODIFIED:20251223T121704Z
UID:10011819-1773770400-1773774000@murphysboro.com
SUMMARY:Body by Brent Bootcamp – Youth and Recreation Center
DESCRIPTION:
URL:https://murphysboro.com/event/body-by-brent-bootcamp-youth-and-recreation-center-8/2026-03-17/
LOCATION:Youth and Rec Center\, 1818 Walnut Street\, Murphysboro\, IL\, 62966\, United States
CATEGORIES:Business,Educational,Sports
END:VEVENT
BEGIN:VEVENT
DTSTART;TZID=America/Chicago:20260319T180000
DTEND;TZID=America/Chicago:20260319T190000
DTSTAMP:20260421T213550
CREATED:20251224T120534Z
LAST-MODIFIED:20251224T120534Z
UID:10012547-1773943200-1773946800@murphysboro.com
SUMMARY:Body by Brent Bootcamp – Youth and Recreation Center
DESCRIPTION:
URL:https://murphysboro.com/event/body-by-brent-bootcamp-youth-and-recreation-center-9/2026-03-19/
LOCATION:Youth and Rec Center\, 1818 Walnut Street\, Murphysboro\, IL\, 62966\, United States
CATEGORIES:Business,Educational
END:VEVENT
BEGIN:VEVENT
DTSTART;TZID=America/Chicago:20260321T093000
DTEND;TZID=America/Chicago:20260321T103000
DTSTAMP:20260421T213550
CREATED:20251226T120129Z
LAST-MODIFIED:20251226T120129Z
UID:10013061-1774085400-1774089000@murphysboro.com
SUMMARY:Body by Brent Bootcamp – Youth and Recreation Center
DESCRIPTION:
URL:https://murphysboro.com/event/body-by-brent-bootcamp-youth-and-recreation-center-10/2026-03-21/
LOCATION:Youth and Rec Center\, 1818 Walnut Street\, Murphysboro\, IL\, 62966\, United States
CATEGORIES:Business,Educational,Sports
END:VEVENT
BEGIN:VEVENT
DTSTART;TZID=America/Chicago:20260324T180000
DTEND;TZID=America/Chicago:20260324T190000
DTSTAMP:20260421T213550
CREATED:20251223T121704Z
LAST-MODIFIED:20251223T121704Z
UID:10011820-1774375200-1774378800@murphysboro.com
SUMMARY:Body by Brent Bootcamp – Youth and Recreation Center
DESCRIPTION:
URL:https://murphysboro.com/event/body-by-brent-bootcamp-youth-and-recreation-center-8/2026-03-24/
LOCATION:Youth and Rec Center\, 1818 Walnut Street\, Murphysboro\, IL\, 62966\, United States
CATEGORIES:Business,Educational,Sports
END:VEVENT
BEGIN:VEVENT
DTSTART;TZID=America/Chicago:20260326T180000
DTEND;TZID=America/Chicago:20260326T190000
DTSTAMP:20260421T213550
CREATED:20251224T120534Z
LAST-MODIFIED:20251224T120534Z
UID:10012548-1774548000-1774551600@murphysboro.com
SUMMARY:Body by Brent Bootcamp – Youth and Recreation Center
DESCRIPTION:
URL:https://murphysboro.com/event/body-by-brent-bootcamp-youth-and-recreation-center-9/2026-03-26/
LOCATION:Youth and Rec Center\, 1818 Walnut Street\, Murphysboro\, IL\, 62966\, United States
CATEGORIES:Business,Educational
END:VEVENT
BEGIN:VEVENT
DTSTART;TZID=America/Chicago:20260328T093000
DTEND;TZID=America/Chicago:20260328T103000
DTSTAMP:20260421T213550
CREATED:20251226T120129Z
LAST-MODIFIED:20251226T120129Z
UID:10013062-1774690200-1774693800@murphysboro.com
SUMMARY:Body by Brent Bootcamp – Youth and Recreation Center
DESCRIPTION:
URL:https://murphysboro.com/event/body-by-brent-bootcamp-youth-and-recreation-center-10/2026-03-28/
LOCATION:Youth and Rec Center\, 1818 Walnut Street\, Murphysboro\, IL\, 62966\, United States
CATEGORIES:Business,Educational,Sports
END:VEVENT
BEGIN:VEVENT
DTSTART;TZID=America/Chicago:20260328T110000
DTEND;TZID=America/Chicago:20260328T140000
DTSTAMP:20260421T213550
CREATED:20260310T214509Z
LAST-MODIFIED:20260310T214509Z
UID:10014056-1774695600-1774706400@murphysboro.com
SUMMARY:STEM Egg Fun Day - Youth and Rec Center
DESCRIPTION:
URL:https://murphysboro.com/event/stem-egg-fun-day-youth-and-rec-center/
LOCATION:Youth and Rec Center\, 1818 Walnut Street\, Murphysboro\, IL\, 62966\, United States
CATEGORIES:Community Event,Educational,Kid Friendly
END:VEVENT
BEGIN:VEVENT
DTSTART;TZID=America/Chicago:20260331T180000
DTEND;TZID=America/Chicago:20260331T190000
DTSTAMP:20260421T213550
CREATED:20251223T121704Z
LAST-MODIFIED:20251223T121704Z
UID:10011821-1774980000-1774983600@murphysboro.com
SUMMARY:Body by Brent Bootcamp – Youth and Recreation Center
DESCRIPTION:
URL:https://murphysboro.com/event/body-by-brent-bootcamp-youth-and-recreation-center-8/2026-03-31/
LOCATION:Youth and Rec Center\, 1818 Walnut Street\, Murphysboro\, IL\, 62966\, United States
CATEGORIES:Business,Educational,Sports
END:VEVENT
END:VCALENDAR