BEGIN:VCALENDAR
VERSION:2.0
PRODID:-//The City of Murphysboro - ECPv6.15.20//NONSGML v1.0//EN
CALSCALE:GREGORIAN
METHOD:PUBLISH
X-ORIGINAL-URL:https://murphysboro.com
X-WR-CALDESC:Events for The City of Murphysboro
REFRESH-INTERVAL;VALUE=DURATION:PT1H
X-Robots-Tag:noindex
X-PUBLISHED-TTL:PT1H
BEGIN:VTIMEZONE
TZID:America/Chicago
BEGIN:DAYLIGHT
TZOFFSETFROM:-0600
TZOFFSETTO:-0500
TZNAME:CDT
DTSTART:20250309T080000
END:DAYLIGHT
BEGIN:STANDARD
TZOFFSETFROM:-0500
TZOFFSETTO:-0600
TZNAME:CST
DTSTART:20251102T070000
END:STANDARD
BEGIN:DAYLIGHT
TZOFFSETFROM:-0600
TZOFFSETTO:-0500
TZNAME:CDT
DTSTART:20260308T080000
END:DAYLIGHT
BEGIN:STANDARD
TZOFFSETFROM:-0500
TZOFFSETTO:-0600
TZNAME:CST
DTSTART:20261101T070000
END:STANDARD
BEGIN:DAYLIGHT
TZOFFSETFROM:-0600
TZOFFSETTO:-0500
TZNAME:CDT
DTSTART:20270314T080000
END:DAYLIGHT
BEGIN:STANDARD
TZOFFSETFROM:-0500
TZOFFSETTO:-0600
TZNAME:CST
DTSTART:20271107T070000
END:STANDARD
END:VTIMEZONE
BEGIN:VEVENT
DTSTART;TZID=America/Chicago:20260302T100000
DTEND;TZID=America/Chicago:20260302T233000
DTSTAMP:20260424T060554
CREATED:20251222T193747Z
LAST-MODIFIED:20251222T193747Z
UID:10011184-1772445600-1772494200@murphysboro.com
SUMMARY:Gentle Flow – Yoga on the Block
DESCRIPTION:
URL:https://murphysboro.com/event/gentle-flow-yoga-on-the-block-6/2026-03-02/
LOCATION:Yoga on the Block\, 1330 Walnut Street\, Murphysboro\, IL\, 62966\, United States
END:VEVENT
BEGIN:VEVENT
DTSTART;TZID=America/Chicago:20260302T130000
DTEND;TZID=America/Chicago:20260302T140000
DTSTAMP:20260424T060554
CREATED:20251222T212705Z
LAST-MODIFIED:20251222T212705Z
UID:10011236-1772456400-1772460000@murphysboro.com
SUMMARY:Chair/Stand Yoga – Yoga on the Block
DESCRIPTION:
URL:https://murphysboro.com/event/chair-stand-yoga-yoga-on-the-block-3/2026-03-02/
LOCATION:Yoga on the Block\, 1330 Walnut Street\, Murphysboro\, IL\, 62966\, United States
CATEGORIES:Business,Educational,Sports
END:VEVENT
BEGIN:VEVENT
DTSTART;TZID=America/Chicago:20260302T180000
DTEND;TZID=America/Chicago:20260302T190000
DTSTAMP:20260424T060554
CREATED:20251222T220009Z
LAST-MODIFIED:20251222T220009Z
UID:10011393-1772474400-1772478000@murphysboro.com
SUMMARY:Mindful Movement – Yoga on the Block
DESCRIPTION:
URL:https://murphysboro.com/event/mindful-movement-yoga-on-the-block-3/2026-03-02/
LOCATION:Yoga on the Block\, 1330 Walnut Street\, Murphysboro\, IL\, 62966\, United States
CATEGORIES:Business,Educational,Sports
END:VEVENT
BEGIN:VEVENT
DTSTART;TZID=America/Chicago:20260303T090000
DTEND;TZID=America/Chicago:20260303T100000
DTSTAMP:20260424T060554
CREATED:20251223T121216Z
LAST-MODIFIED:20251223T121216Z
UID:10011609-1772528400-1772532000@murphysboro.com
SUMMARY:Intermediate Flow – Yoga on the Block
DESCRIPTION:
URL:https://murphysboro.com/event/intermediate-flow-yoga-on-the-block-2/2026-03-03/
LOCATION:Yoga on the Block\, 1330 Walnut Street\, Murphysboro\, IL\, 62966\, United States
CATEGORIES:Business,Educational,Sports
END:VEVENT
BEGIN:VEVENT
DTSTART;TZID=America/Chicago:20260304T100000
DTEND;TZID=America/Chicago:20260304T110000
DTSTAMP:20260424T060554
CREATED:20251223T143612Z
LAST-MODIFIED:20251223T143612Z
UID:10012025-1772618400-1772622000@murphysboro.com
SUMMARY:Gentle Flow – Yoga on the Block
DESCRIPTION:
URL:https://murphysboro.com/event/gentle-flow-yoga-on-the-block-7/2026-03-04/
LOCATION:Yoga on the Block\, 1330 Walnut Street\, Murphysboro\, IL\, 62966\, United States
CATEGORIES:Business,Educational,Sports
END:VEVENT
BEGIN:VEVENT
DTSTART;TZID=America/Chicago:20260304T130000
DTEND;TZID=America/Chicago:20260304T140000
DTSTAMP:20260424T060554
CREATED:20251223T144039Z
LAST-MODIFIED:20251223T144039Z
UID:10012181-1772629200-1772632800@murphysboro.com
SUMMARY:Chair Yoga – Yoga on the Block
DESCRIPTION:
URL:https://murphysboro.com/event/chair-yoga-yoga-on-the-block-2/2026-03-04/
LOCATION:Yoga on the Block\, 1330 Walnut Street\, Murphysboro\, IL\, 62966\, United States
CATEGORIES:Business,Educational,Sports
END:VEVENT
BEGIN:VEVENT
DTSTART;TZID=America/Chicago:20260304T180000
DTEND;TZID=America/Chicago:20260304T190000
DTSTAMP:20260424T060554
CREATED:20251223T144538Z
LAST-MODIFIED:20251223T144538Z
UID:10012389-1772647200-1772650800@murphysboro.com
SUMMARY:Peak Pose – Yoga on the Block
DESCRIPTION:
URL:https://murphysboro.com/event/peak-pose-yoga-on-the-block-3/2026-03-04/
LOCATION:Yoga on the Block\, 1330 Walnut Street\, Murphysboro\, IL\, 62966\, United States
CATEGORIES:Business,Sports
END:VEVENT
BEGIN:VEVENT
DTSTART;TZID=America/Chicago:20260309T100000
DTEND;TZID=America/Chicago:20260309T233000
DTSTAMP:20260424T060554
CREATED:20251222T193747Z
LAST-MODIFIED:20251222T193747Z
UID:10011185-1773050400-1773099000@murphysboro.com
SUMMARY:Gentle Flow – Yoga on the Block
DESCRIPTION:
URL:https://murphysboro.com/event/gentle-flow-yoga-on-the-block-6/2026-03-09/
LOCATION:Yoga on the Block\, 1330 Walnut Street\, Murphysboro\, IL\, 62966\, United States
END:VEVENT
BEGIN:VEVENT
DTSTART;TZID=America/Chicago:20260309T130000
DTEND;TZID=America/Chicago:20260309T140000
DTSTAMP:20260424T060554
CREATED:20251222T212705Z
LAST-MODIFIED:20251222T212705Z
UID:10011237-1773061200-1773064800@murphysboro.com
SUMMARY:Chair/Stand Yoga – Yoga on the Block
DESCRIPTION:
URL:https://murphysboro.com/event/chair-stand-yoga-yoga-on-the-block-3/2026-03-09/
LOCATION:Yoga on the Block\, 1330 Walnut Street\, Murphysboro\, IL\, 62966\, United States
CATEGORIES:Business,Educational,Sports
END:VEVENT
BEGIN:VEVENT
DTSTART;TZID=America/Chicago:20260309T180000
DTEND;TZID=America/Chicago:20260309T190000
DTSTAMP:20260424T060554
CREATED:20251222T220009Z
LAST-MODIFIED:20251222T220009Z
UID:10011394-1773079200-1773082800@murphysboro.com
SUMMARY:Mindful Movement – Yoga on the Block
DESCRIPTION:
URL:https://murphysboro.com/event/mindful-movement-yoga-on-the-block-3/2026-03-09/
LOCATION:Yoga on the Block\, 1330 Walnut Street\, Murphysboro\, IL\, 62966\, United States
CATEGORIES:Business,Educational,Sports
END:VEVENT
BEGIN:VEVENT
DTSTART;TZID=America/Chicago:20260310T090000
DTEND;TZID=America/Chicago:20260310T100000
DTSTAMP:20260424T060554
CREATED:20251223T121216Z
LAST-MODIFIED:20251223T121216Z
UID:10011610-1773133200-1773136800@murphysboro.com
SUMMARY:Intermediate Flow – Yoga on the Block
DESCRIPTION:
URL:https://murphysboro.com/event/intermediate-flow-yoga-on-the-block-2/2026-03-10/
LOCATION:Yoga on the Block\, 1330 Walnut Street\, Murphysboro\, IL\, 62966\, United States
CATEGORIES:Business,Educational,Sports
END:VEVENT
BEGIN:VEVENT
DTSTART;TZID=America/Chicago:20260311T100000
DTEND;TZID=America/Chicago:20260311T110000
DTSTAMP:20260424T060554
CREATED:20251223T143612Z
LAST-MODIFIED:20251223T143612Z
UID:10012026-1773223200-1773226800@murphysboro.com
SUMMARY:Gentle Flow – Yoga on the Block
DESCRIPTION:
URL:https://murphysboro.com/event/gentle-flow-yoga-on-the-block-7/2026-03-11/
LOCATION:Yoga on the Block\, 1330 Walnut Street\, Murphysboro\, IL\, 62966\, United States
CATEGORIES:Business,Educational,Sports
END:VEVENT
BEGIN:VEVENT
DTSTART;TZID=America/Chicago:20260311T130000
DTEND;TZID=America/Chicago:20260311T140000
DTSTAMP:20260424T060554
CREATED:20251223T144039Z
LAST-MODIFIED:20251223T144039Z
UID:10012182-1773234000-1773237600@murphysboro.com
SUMMARY:Chair Yoga – Yoga on the Block
DESCRIPTION:
URL:https://murphysboro.com/event/chair-yoga-yoga-on-the-block-2/2026-03-11/
LOCATION:Yoga on the Block\, 1330 Walnut Street\, Murphysboro\, IL\, 62966\, United States
CATEGORIES:Business,Educational,Sports
END:VEVENT
BEGIN:VEVENT
DTSTART;TZID=America/Chicago:20260311T180000
DTEND;TZID=America/Chicago:20260311T190000
DTSTAMP:20260424T060554
CREATED:20251223T144538Z
LAST-MODIFIED:20251223T144538Z
UID:10012390-1773252000-1773255600@murphysboro.com
SUMMARY:Peak Pose – Yoga on the Block
DESCRIPTION:
URL:https://murphysboro.com/event/peak-pose-yoga-on-the-block-3/2026-03-11/
LOCATION:Yoga on the Block\, 1330 Walnut Street\, Murphysboro\, IL\, 62966\, United States
CATEGORIES:Business,Sports
END:VEVENT
BEGIN:VEVENT
DTSTART;TZID=America/Chicago:20260316T100000
DTEND;TZID=America/Chicago:20260316T233000
DTSTAMP:20260424T060554
CREATED:20251222T193747Z
LAST-MODIFIED:20251222T193747Z
UID:10011186-1773655200-1773703800@murphysboro.com
SUMMARY:Gentle Flow – Yoga on the Block
DESCRIPTION:
URL:https://murphysboro.com/event/gentle-flow-yoga-on-the-block-6/2026-03-16/
LOCATION:Yoga on the Block\, 1330 Walnut Street\, Murphysboro\, IL\, 62966\, United States
END:VEVENT
BEGIN:VEVENT
DTSTART;TZID=America/Chicago:20260316T130000
DTEND;TZID=America/Chicago:20260316T140000
DTSTAMP:20260424T060554
CREATED:20251222T212705Z
LAST-MODIFIED:20251222T212705Z
UID:10011238-1773666000-1773669600@murphysboro.com
SUMMARY:Chair/Stand Yoga – Yoga on the Block
DESCRIPTION:
URL:https://murphysboro.com/event/chair-stand-yoga-yoga-on-the-block-3/2026-03-16/
LOCATION:Yoga on the Block\, 1330 Walnut Street\, Murphysboro\, IL\, 62966\, United States
CATEGORIES:Business,Educational,Sports
END:VEVENT
BEGIN:VEVENT
DTSTART;TZID=America/Chicago:20260316T180000
DTEND;TZID=America/Chicago:20260316T190000
DTSTAMP:20260424T060554
CREATED:20251222T220009Z
LAST-MODIFIED:20251222T220009Z
UID:10011395-1773684000-1773687600@murphysboro.com
SUMMARY:Mindful Movement – Yoga on the Block
DESCRIPTION:
URL:https://murphysboro.com/event/mindful-movement-yoga-on-the-block-3/2026-03-16/
LOCATION:Yoga on the Block\, 1330 Walnut Street\, Murphysboro\, IL\, 62966\, United States
CATEGORIES:Business,Educational,Sports
END:VEVENT
BEGIN:VEVENT
DTSTART;TZID=America/Chicago:20260317T090000
DTEND;TZID=America/Chicago:20260317T100000
DTSTAMP:20260424T060554
CREATED:20251223T121216Z
LAST-MODIFIED:20251223T121216Z
UID:10011611-1773738000-1773741600@murphysboro.com
SUMMARY:Intermediate Flow – Yoga on the Block
DESCRIPTION:
URL:https://murphysboro.com/event/intermediate-flow-yoga-on-the-block-2/2026-03-17/
LOCATION:Yoga on the Block\, 1330 Walnut Street\, Murphysboro\, IL\, 62966\, United States
CATEGORIES:Business,Educational,Sports
END:VEVENT
BEGIN:VEVENT
DTSTART;TZID=America/Chicago:20260318T100000
DTEND;TZID=America/Chicago:20260318T110000
DTSTAMP:20260424T060554
CREATED:20251223T143612Z
LAST-MODIFIED:20251223T143612Z
UID:10012027-1773828000-1773831600@murphysboro.com
SUMMARY:Gentle Flow – Yoga on the Block
DESCRIPTION:
URL:https://murphysboro.com/event/gentle-flow-yoga-on-the-block-7/2026-03-18/
LOCATION:Yoga on the Block\, 1330 Walnut Street\, Murphysboro\, IL\, 62966\, United States
CATEGORIES:Business,Educational,Sports
END:VEVENT
BEGIN:VEVENT
DTSTART;TZID=America/Chicago:20260318T130000
DTEND;TZID=America/Chicago:20260318T140000
DTSTAMP:20260424T060554
CREATED:20251223T144039Z
LAST-MODIFIED:20251223T144039Z
UID:10012183-1773838800-1773842400@murphysboro.com
SUMMARY:Chair Yoga – Yoga on the Block
DESCRIPTION:
URL:https://murphysboro.com/event/chair-yoga-yoga-on-the-block-2/2026-03-18/
LOCATION:Yoga on the Block\, 1330 Walnut Street\, Murphysboro\, IL\, 62966\, United States
CATEGORIES:Business,Educational,Sports
END:VEVENT
BEGIN:VEVENT
DTSTART;TZID=America/Chicago:20260318T180000
DTEND;TZID=America/Chicago:20260318T190000
DTSTAMP:20260424T060554
CREATED:20251223T144538Z
LAST-MODIFIED:20251223T144538Z
UID:10012391-1773856800-1773860400@murphysboro.com
SUMMARY:Peak Pose – Yoga on the Block
DESCRIPTION:
URL:https://murphysboro.com/event/peak-pose-yoga-on-the-block-3/2026-03-18/
LOCATION:Yoga on the Block\, 1330 Walnut Street\, Murphysboro\, IL\, 62966\, United States
CATEGORIES:Business,Sports
END:VEVENT
BEGIN:VEVENT
DTSTART;TZID=America/Chicago:20260323T100000
DTEND;TZID=America/Chicago:20260323T233000
DTSTAMP:20260424T060554
CREATED:20251222T193747Z
LAST-MODIFIED:20251222T193747Z
UID:10011187-1774260000-1774308600@murphysboro.com
SUMMARY:Gentle Flow – Yoga on the Block
DESCRIPTION:
URL:https://murphysboro.com/event/gentle-flow-yoga-on-the-block-6/2026-03-23/
LOCATION:Yoga on the Block\, 1330 Walnut Street\, Murphysboro\, IL\, 62966\, United States
END:VEVENT
BEGIN:VEVENT
DTSTART;TZID=America/Chicago:20260323T130000
DTEND;TZID=America/Chicago:20260323T140000
DTSTAMP:20260424T060554
CREATED:20251222T212705Z
LAST-MODIFIED:20251222T212705Z
UID:10011239-1774270800-1774274400@murphysboro.com
SUMMARY:Chair/Stand Yoga – Yoga on the Block
DESCRIPTION:
URL:https://murphysboro.com/event/chair-stand-yoga-yoga-on-the-block-3/2026-03-23/
LOCATION:Yoga on the Block\, 1330 Walnut Street\, Murphysboro\, IL\, 62966\, United States
CATEGORIES:Business,Educational,Sports
END:VEVENT
BEGIN:VEVENT
DTSTART;TZID=America/Chicago:20260323T180000
DTEND;TZID=America/Chicago:20260323T190000
DTSTAMP:20260424T060554
CREATED:20251222T220009Z
LAST-MODIFIED:20251222T220009Z
UID:10011396-1774288800-1774292400@murphysboro.com
SUMMARY:Mindful Movement – Yoga on the Block
DESCRIPTION:
URL:https://murphysboro.com/event/mindful-movement-yoga-on-the-block-3/2026-03-23/
LOCATION:Yoga on the Block\, 1330 Walnut Street\, Murphysboro\, IL\, 62966\, United States
CATEGORIES:Business,Educational,Sports
END:VEVENT
BEGIN:VEVENT
DTSTART;TZID=America/Chicago:20260324T090000
DTEND;TZID=America/Chicago:20260324T100000
DTSTAMP:20260424T060554
CREATED:20251223T121216Z
LAST-MODIFIED:20251223T121216Z
UID:10011612-1774342800-1774346400@murphysboro.com
SUMMARY:Intermediate Flow – Yoga on the Block
DESCRIPTION:
URL:https://murphysboro.com/event/intermediate-flow-yoga-on-the-block-2/2026-03-24/
LOCATION:Yoga on the Block\, 1330 Walnut Street\, Murphysboro\, IL\, 62966\, United States
CATEGORIES:Business,Educational,Sports
END:VEVENT
BEGIN:VEVENT
DTSTART;TZID=America/Chicago:20260325T100000
DTEND;TZID=America/Chicago:20260325T110000
DTSTAMP:20260424T060554
CREATED:20251223T143612Z
LAST-MODIFIED:20251223T143612Z
UID:10012028-1774432800-1774436400@murphysboro.com
SUMMARY:Gentle Flow – Yoga on the Block
DESCRIPTION:
URL:https://murphysboro.com/event/gentle-flow-yoga-on-the-block-7/2026-03-25/
LOCATION:Yoga on the Block\, 1330 Walnut Street\, Murphysboro\, IL\, 62966\, United States
CATEGORIES:Business,Educational,Sports
END:VEVENT
BEGIN:VEVENT
DTSTART;TZID=America/Chicago:20260325T130000
DTEND;TZID=America/Chicago:20260325T140000
DTSTAMP:20260424T060554
CREATED:20251223T144039Z
LAST-MODIFIED:20251223T144039Z
UID:10012184-1774443600-1774447200@murphysboro.com
SUMMARY:Chair Yoga – Yoga on the Block
DESCRIPTION:
URL:https://murphysboro.com/event/chair-yoga-yoga-on-the-block-2/2026-03-25/
LOCATION:Yoga on the Block\, 1330 Walnut Street\, Murphysboro\, IL\, 62966\, United States
CATEGORIES:Business,Educational,Sports
END:VEVENT
BEGIN:VEVENT
DTSTART;TZID=America/Chicago:20260325T180000
DTEND;TZID=America/Chicago:20260325T190000
DTSTAMP:20260424T060554
CREATED:20251223T144538Z
LAST-MODIFIED:20251223T144538Z
UID:10012392-1774461600-1774465200@murphysboro.com
SUMMARY:Peak Pose – Yoga on the Block
DESCRIPTION:
URL:https://murphysboro.com/event/peak-pose-yoga-on-the-block-3/2026-03-25/
LOCATION:Yoga on the Block\, 1330 Walnut Street\, Murphysboro\, IL\, 62966\, United States
CATEGORIES:Business,Sports
END:VEVENT
BEGIN:VEVENT
DTSTART;TZID=America/Chicago:20260330T100000
DTEND;TZID=America/Chicago:20260330T233000
DTSTAMP:20260424T060554
CREATED:20251222T193747Z
LAST-MODIFIED:20251222T193747Z
UID:10011188-1774864800-1774913400@murphysboro.com
SUMMARY:Gentle Flow – Yoga on the Block
DESCRIPTION:
URL:https://murphysboro.com/event/gentle-flow-yoga-on-the-block-6/2026-03-30/
LOCATION:Yoga on the Block\, 1330 Walnut Street\, Murphysboro\, IL\, 62966\, United States
END:VEVENT
BEGIN:VEVENT
DTSTART;TZID=America/Chicago:20260330T130000
DTEND;TZID=America/Chicago:20260330T140000
DTSTAMP:20260424T060554
CREATED:20251222T212705Z
LAST-MODIFIED:20251222T212705Z
UID:10011240-1774875600-1774879200@murphysboro.com
SUMMARY:Chair/Stand Yoga – Yoga on the Block
DESCRIPTION:
URL:https://murphysboro.com/event/chair-stand-yoga-yoga-on-the-block-3/2026-03-30/
LOCATION:Yoga on the Block\, 1330 Walnut Street\, Murphysboro\, IL\, 62966\, United States
CATEGORIES:Business,Educational,Sports
END:VEVENT
END:VCALENDAR