BEGIN:VCALENDAR
VERSION:2.0
PRODID:-//The City of Murphysboro - ECPv6.15.20//NONSGML v1.0//EN
CALSCALE:GREGORIAN
METHOD:PUBLISH
X-WR-CALNAME:The City of Murphysboro
X-ORIGINAL-URL:https://murphysboro.com
X-WR-CALDESC:Events for The City of Murphysboro
REFRESH-INTERVAL;VALUE=DURATION:PT1H
X-Robots-Tag:noindex
X-PUBLISHED-TTL:PT1H
BEGIN:VTIMEZONE
TZID:UTC
BEGIN:STANDARD
TZOFFSETFROM:+0000
TZOFFSETTO:+0000
TZNAME:UTC
DTSTART:20250101T000000
END:STANDARD
END:VTIMEZONE
BEGIN:VEVENT
DTSTART;TZID=UTC:20260508T080000
DTEND;TZID=UTC:20260508T150000
DTSTAMP:20260424T185656
CREATED:20260413T120030Z
LAST-MODIFIED:20260413T120030Z
UID:10014153-1778227200-1778252400@murphysboro.com
SUMMARY:Low-Cost Vaccine Clinic - Wright-Way Rescue and Medical Services
DESCRIPTION:
URL:https://murphysboro.com/event/low-cost-vaccine-clinic-wright-way-rescue-and-medical-services-2/
LOCATION:Wright-Way Clinic\, 8459 Old Hwy 13\, Murphysboro\, IL\, 62966\, United States
CATEGORIES:Community Event
END:VEVENT
END:VCALENDAR