BEGIN:VCALENDAR
VERSION:2.0
PRODID:-//The City of Murphysboro - ECPv6.15.20//NONSGML v1.0//EN
CALSCALE:GREGORIAN
METHOD:PUBLISH
X-ORIGINAL-URL:https://murphysboro.com
X-WR-CALDESC:Events for The City of Murphysboro
REFRESH-INTERVAL;VALUE=DURATION:PT1H
X-Robots-Tag:noindex
X-PUBLISHED-TTL:PT1H
BEGIN:VTIMEZONE
TZID:America/Chicago
BEGIN:DAYLIGHT
TZOFFSETFROM:-0600
TZOFFSETTO:-0500
TZNAME:CDT
DTSTART:20250309T080000
END:DAYLIGHT
BEGIN:STANDARD
TZOFFSETFROM:-0500
TZOFFSETTO:-0600
TZNAME:CST
DTSTART:20251102T070000
END:STANDARD
BEGIN:DAYLIGHT
TZOFFSETFROM:-0600
TZOFFSETTO:-0500
TZNAME:CDT
DTSTART:20260308T080000
END:DAYLIGHT
BEGIN:STANDARD
TZOFFSETFROM:-0500
TZOFFSETTO:-0600
TZNAME:CST
DTSTART:20261101T070000
END:STANDARD
BEGIN:DAYLIGHT
TZOFFSETFROM:-0600
TZOFFSETTO:-0500
TZNAME:CDT
DTSTART:20270314T080000
END:DAYLIGHT
BEGIN:STANDARD
TZOFFSETFROM:-0500
TZOFFSETTO:-0600
TZNAME:CST
DTSTART:20271107T070000
END:STANDARD
END:VTIMEZONE
BEGIN:VEVENT
DTSTART;TZID=America/Chicago:20260401T080000
DTEND;TZID=America/Chicago:20260401T090000
DTSTAMP:20260419T111657
CREATED:20251223T143319Z
LAST-MODIFIED:20251223T143319Z
UID:10011977-1775030400-1775034000@murphysboro.com
SUMMARY:Exercise Class – Topp Shape
DESCRIPTION:
URL:https://murphysboro.com/event/exercise-class-topp-shape-17/2026-04-01/
LOCATION:IL
CATEGORIES:Business,Educational,Sports
END:VEVENT
BEGIN:VEVENT
DTSTART;TZID=America/Chicago:20260401T100000
DTEND;TZID=America/Chicago:20260401T110000
DTSTAMP:20260419T111657
CREATED:20251223T143612Z
LAST-MODIFIED:20251223T143612Z
UID:10012029-1775037600-1775041200@murphysboro.com
SUMMARY:Gentle Flow – Yoga on the Block
DESCRIPTION:
URL:https://murphysboro.com/event/gentle-flow-yoga-on-the-block-7/2026-04-01/
LOCATION:Yoga on the Block\, 1330 Walnut Street\, Murphysboro\, IL\, 62966\, United States
CATEGORIES:Business,Educational,Sports
END:VEVENT
BEGIN:VEVENT
DTSTART;TZID=America/Chicago:20260401T130000
DTEND;TZID=America/Chicago:20260401T140000
DTSTAMP:20260419T111657
CREATED:20251223T144039Z
LAST-MODIFIED:20251223T144039Z
UID:10012185-1775048400-1775052000@murphysboro.com
SUMMARY:Chair Yoga – Yoga on the Block
DESCRIPTION:
URL:https://murphysboro.com/event/chair-yoga-yoga-on-the-block-2/2026-04-01/
LOCATION:Yoga on the Block\, 1330 Walnut Street\, Murphysboro\, IL\, 62966\, United States
CATEGORIES:Business,Educational,Sports
END:VEVENT
BEGIN:VEVENT
DTSTART;TZID=America/Chicago:20260401T170000
DTEND;TZID=America/Chicago:20260401T180000
DTSTAMP:20260419T111657
CREATED:20260103T125155Z
LAST-MODIFIED:20260103T125155Z
UID:10013349-1775062800-1775066400@murphysboro.com
SUMMARY:Youth Black Tie Jiu Jitsu (age 7 - 12) - Black Tie Jiu Jitsu
DESCRIPTION:
URL:https://murphysboro.com/event/youth-black-tie-jiu-jitsu-age-7-12-black-tie-jiu-jitsu-2/2026-04-01/
LOCATION:IL
CATEGORIES:Business,Sports
END:VEVENT
BEGIN:VEVENT
DTSTART;TZID=America/Chicago:20260401T173000
DTEND;TZID=America/Chicago:20260401T183000
DTSTAMP:20260419T111657
CREATED:20251223T144437Z
LAST-MODIFIED:20251223T144437Z
UID:10012341-1775064600-1775068200@murphysboro.com
SUMMARY:Exercise Class – Topp Shape
DESCRIPTION:
URL:https://murphysboro.com/event/exercise-class-topp-shape-18/2026-04-01/
LOCATION:IL
CATEGORIES:Business,Educational,Sports
END:VEVENT
BEGIN:VEVENT
DTSTART;TZID=America/Chicago:20260401T180000
DTEND;TZID=America/Chicago:20260401T190000
DTSTAMP:20260419T111657
CREATED:20251223T144538Z
LAST-MODIFIED:20251223T144538Z
UID:10012393-1775066400-1775070000@murphysboro.com
SUMMARY:Peak Pose – Yoga on the Block
DESCRIPTION:
URL:https://murphysboro.com/event/peak-pose-yoga-on-the-block-3/2026-04-01/
LOCATION:Yoga on the Block\, 1330 Walnut Street\, Murphysboro\, IL\, 62966\, United States
CATEGORIES:Business,Sports
END:VEVENT
BEGIN:VEVENT
DTSTART;TZID=America/Chicago:20260401T180000
DTEND;TZID=America/Chicago:20260401T190000
DTSTAMP:20260419T111657
CREATED:20260104T113332Z
LAST-MODIFIED:20260104T113332Z
UID:10013507-1775066400-1775070000@murphysboro.com
SUMMARY:Fundamentals | Jiu Jitsu (age 13+) - Black Tie Jiu Jitsu
DESCRIPTION:
URL:https://murphysboro.com/event/fundamentals-jiu-jitsu-age-13-black-tie-jiu-jitsu-2/2026-04-01/
LOCATION:IL
CATEGORIES:Business,Sports
END:VEVENT
BEGIN:VEVENT
DTSTART;TZID=America/Chicago:20260401T190000
DTEND;TZID=America/Chicago:20260401T200000
DTSTAMP:20260419T111657
CREATED:20260104T113722Z
LAST-MODIFIED:20260104T113722Z
UID:10013664-1775070000-1775073600@murphysboro.com
SUMMARY:Muay Thai (age 16+) - Black Tie Jiu Jitsu
DESCRIPTION:
URL:https://murphysboro.com/event/muay-thai-age-16-black-tie-jiu-jitsu-2/2026-04-01/
LOCATION:IL
CATEGORIES:Business,Sports
END:VEVENT
END:VCALENDAR