BEGIN:VCALENDAR
VERSION:2.0
PRODID:-//The City of Murphysboro - ECPv6.15.20//NONSGML v1.0//EN
CALSCALE:GREGORIAN
METHOD:PUBLISH
X-WR-CALNAME:The City of Murphysboro
X-ORIGINAL-URL:https://murphysboro.com
X-WR-CALDESC:Events for The City of Murphysboro
REFRESH-INTERVAL;VALUE=DURATION:PT1H
X-Robots-Tag:noindex
X-PUBLISHED-TTL:PT1H
BEGIN:VTIMEZONE
TZID:America/Chicago
BEGIN:DAYLIGHT
TZOFFSETFROM:-0600
TZOFFSETTO:-0500
TZNAME:CDT
DTSTART:20240310T080000
END:DAYLIGHT
BEGIN:STANDARD
TZOFFSETFROM:-0500
TZOFFSETTO:-0600
TZNAME:CST
DTSTART:20241103T070000
END:STANDARD
BEGIN:DAYLIGHT
TZOFFSETFROM:-0600
TZOFFSETTO:-0500
TZNAME:CDT
DTSTART:20250309T080000
END:DAYLIGHT
BEGIN:STANDARD
TZOFFSETFROM:-0500
TZOFFSETTO:-0600
TZNAME:CST
DTSTART:20251102T070000
END:STANDARD
BEGIN:DAYLIGHT
TZOFFSETFROM:-0600
TZOFFSETTO:-0500
TZNAME:CDT
DTSTART:20260308T080000
END:DAYLIGHT
BEGIN:STANDARD
TZOFFSETFROM:-0500
TZOFFSETTO:-0600
TZNAME:CST
DTSTART:20261101T070000
END:STANDARD
END:VTIMEZONE
BEGIN:VEVENT
DTSTART;TZID=America/Chicago:20250609T090000
DTEND;TZID=America/Chicago:20250609T110000
DTSTAMP:20260421T080234
CREATED:20250525T112914Z
LAST-MODIFIED:20250525T112914Z
UID:10009313-1749459600-1749466800@murphysboro.com
SUMMARY:Red Devil Art Camp (K-5) - High School
DESCRIPTION:
URL:https://murphysboro.com/event/red-devil-art-camp-k-5-high-school/2025-06-09/
LOCATION:Murphysboro High School\, 50 Blackwood Drive\, Murphysboro\, 62966\, United States
CATEGORIES:Arts | Culture,Camp,Educational
END:VEVENT
BEGIN:VEVENT
DTSTART;TZID=America/Chicago:20250609T180000
DTEND;TZID=America/Chicago:20250609T200000
DTSTAMP:20260421T080234
CREATED:20250509T114859Z
LAST-MODIFIED:20250509T114859Z
UID:10009279-1749492000-1749499200@murphysboro.com
SUMMARY:Metal Table/Tray Paint Pour Class - Elks Club
DESCRIPTION:
URL:https://murphysboro.com/event/metal-table-tray-paint-pour-class-elks-club/
CATEGORIES:Arts | Culture,Educational
END:VEVENT
BEGIN:VEVENT
DTSTART;TZID=America/Chicago:20250609T180000
DTEND;TZID=America/Chicago:20250609T210000
DTSTAMP:20260421T080234
CREATED:20241221T123328Z
LAST-MODIFIED:20241221T123328Z
UID:10006990-1749492000-1749502800@murphysboro.com
SUMMARY:Weekly Monday Pokemon League – A2Z Trading Card Games
DESCRIPTION:
URL:https://murphysboro.com/event/weekly-monday-pokemon-league-a2z-trading-card-games/2025-06-09/
CATEGORIES:Business
END:VEVENT
END:VCALENDAR