BEGIN:VCALENDAR
VERSION:2.0
PRODID:-//The City of Murphysboro - ECPv6.15.20//NONSGML v1.0//EN
CALSCALE:GREGORIAN
METHOD:PUBLISH
X-ORIGINAL-URL:https://murphysboro.com
X-WR-CALDESC:Events for The City of Murphysboro
REFRESH-INTERVAL;VALUE=DURATION:PT1H
X-Robots-Tag:noindex
X-PUBLISHED-TTL:PT1H
BEGIN:VTIMEZONE
TZID:America/Chicago
BEGIN:DAYLIGHT
TZOFFSETFROM:-0600
TZOFFSETTO:-0500
TZNAME:CDT
DTSTART:20250309T080000
END:DAYLIGHT
BEGIN:STANDARD
TZOFFSETFROM:-0500
TZOFFSETTO:-0600
TZNAME:CST
DTSTART:20251102T070000
END:STANDARD
BEGIN:DAYLIGHT
TZOFFSETFROM:-0600
TZOFFSETTO:-0500
TZNAME:CDT
DTSTART:20260308T080000
END:DAYLIGHT
BEGIN:STANDARD
TZOFFSETFROM:-0500
TZOFFSETTO:-0600
TZNAME:CST
DTSTART:20261101T070000
END:STANDARD
BEGIN:DAYLIGHT
TZOFFSETFROM:-0600
TZOFFSETTO:-0500
TZNAME:CDT
DTSTART:20270314T080000
END:DAYLIGHT
BEGIN:STANDARD
TZOFFSETFROM:-0500
TZOFFSETTO:-0600
TZNAME:CST
DTSTART:20271107T070000
END:STANDARD
END:VTIMEZONE
BEGIN:VEVENT
DTSTART;TZID=America/Chicago:20260701T120000
DTEND;TZID=America/Chicago:20260701T150000
DTSTAMP:20260421T102704
CREATED:20251223T143919Z
LAST-MODIFIED:20251223T143919Z
UID:10012146-1782907200-1782918000@murphysboro.com
SUMMARY:Open hours – Jackson County Historical Society
DESCRIPTION:
URL:https://murphysboro.com/event/open-hours-jackson-county-historical-society-3/2026-07-01/
LOCATION:Jackson County Historical Society\, 1616 Edith Street\, Murphysboro\, IL\, 62966\, United States
CATEGORIES:Business,Educational
END:VEVENT
BEGIN:VEVENT
DTSTART;TZID=America/Chicago:20260703T120000
DTEND;TZID=America/Chicago:20260703T150000
DTSTAMP:20260421T102704
CREATED:20251225T121036Z
LAST-MODIFIED:20251225T121036Z
UID:10012821-1783080000-1783090800@murphysboro.com
SUMMARY:Open hours – Jackson County Historical Society
DESCRIPTION:
URL:https://murphysboro.com/event/open-hours-jackson-county-historical-society-4/2026-07-03/
LOCATION:Jackson County Historical Society\, 1616 Edith Street\, Murphysboro\, IL\, 62966\, United States
CATEGORIES:Business,Educational
END:VEVENT
BEGIN:VEVENT
DTSTART;TZID=America/Chicago:20260708T120000
DTEND;TZID=America/Chicago:20260708T150000
DTSTAMP:20260421T102704
CREATED:20251223T143919Z
LAST-MODIFIED:20251223T143919Z
UID:10012147-1783512000-1783522800@murphysboro.com
SUMMARY:Open hours – Jackson County Historical Society
DESCRIPTION:
URL:https://murphysboro.com/event/open-hours-jackson-county-historical-society-3/2026-07-08/
LOCATION:Jackson County Historical Society\, 1616 Edith Street\, Murphysboro\, IL\, 62966\, United States
CATEGORIES:Business,Educational
END:VEVENT
BEGIN:VEVENT
DTSTART;TZID=America/Chicago:20260710T120000
DTEND;TZID=America/Chicago:20260710T150000
DTSTAMP:20260421T102704
CREATED:20251225T121036Z
LAST-MODIFIED:20251225T121036Z
UID:10012822-1783684800-1783695600@murphysboro.com
SUMMARY:Open hours – Jackson County Historical Society
DESCRIPTION:
URL:https://murphysboro.com/event/open-hours-jackson-county-historical-society-4/2026-07-10/
LOCATION:Jackson County Historical Society\, 1616 Edith Street\, Murphysboro\, IL\, 62966\, United States
CATEGORIES:Business,Educational
END:VEVENT
BEGIN:VEVENT
DTSTART;TZID=America/Chicago:20260715T120000
DTEND;TZID=America/Chicago:20260715T150000
DTSTAMP:20260421T102704
CREATED:20251223T143919Z
LAST-MODIFIED:20251223T143919Z
UID:10012148-1784116800-1784127600@murphysboro.com
SUMMARY:Open hours – Jackson County Historical Society
DESCRIPTION:
URL:https://murphysboro.com/event/open-hours-jackson-county-historical-society-3/2026-07-15/
LOCATION:Jackson County Historical Society\, 1616 Edith Street\, Murphysboro\, IL\, 62966\, United States
CATEGORIES:Business,Educational
END:VEVENT
BEGIN:VEVENT
DTSTART;TZID=America/Chicago:20260717T120000
DTEND;TZID=America/Chicago:20260717T150000
DTSTAMP:20260421T102704
CREATED:20251225T121036Z
LAST-MODIFIED:20251225T121036Z
UID:10012823-1784289600-1784300400@murphysboro.com
SUMMARY:Open hours – Jackson County Historical Society
DESCRIPTION:
URL:https://murphysboro.com/event/open-hours-jackson-county-historical-society-4/2026-07-17/
LOCATION:Jackson County Historical Society\, 1616 Edith Street\, Murphysboro\, IL\, 62966\, United States
CATEGORIES:Business,Educational
END:VEVENT
BEGIN:VEVENT
DTSTART;TZID=America/Chicago:20260722T120000
DTEND;TZID=America/Chicago:20260722T150000
DTSTAMP:20260421T102704
CREATED:20251223T143919Z
LAST-MODIFIED:20251223T143919Z
UID:10012149-1784721600-1784732400@murphysboro.com
SUMMARY:Open hours – Jackson County Historical Society
DESCRIPTION:
URL:https://murphysboro.com/event/open-hours-jackson-county-historical-society-3/2026-07-22/
LOCATION:Jackson County Historical Society\, 1616 Edith Street\, Murphysboro\, IL\, 62966\, United States
CATEGORIES:Business,Educational
END:VEVENT
BEGIN:VEVENT
DTSTART;TZID=America/Chicago:20260724T120000
DTEND;TZID=America/Chicago:20260724T150000
DTSTAMP:20260421T102704
CREATED:20251225T121036Z
LAST-MODIFIED:20251225T121036Z
UID:10012824-1784894400-1784905200@murphysboro.com
SUMMARY:Open hours – Jackson County Historical Society
DESCRIPTION:
URL:https://murphysboro.com/event/open-hours-jackson-county-historical-society-4/2026-07-24/
LOCATION:Jackson County Historical Society\, 1616 Edith Street\, Murphysboro\, IL\, 62966\, United States
CATEGORIES:Business,Educational
END:VEVENT
BEGIN:VEVENT
DTSTART;TZID=America/Chicago:20260729T120000
DTEND;TZID=America/Chicago:20260729T150000
DTSTAMP:20260421T102704
CREATED:20251223T143919Z
LAST-MODIFIED:20251223T143919Z
UID:10012150-1785326400-1785337200@murphysboro.com
SUMMARY:Open hours – Jackson County Historical Society
DESCRIPTION:
URL:https://murphysboro.com/event/open-hours-jackson-county-historical-society-3/2026-07-29/
LOCATION:Jackson County Historical Society\, 1616 Edith Street\, Murphysboro\, IL\, 62966\, United States
CATEGORIES:Business,Educational
END:VEVENT
BEGIN:VEVENT
DTSTART;TZID=America/Chicago:20260731T120000
DTEND;TZID=America/Chicago:20260731T150000
DTSTAMP:20260421T102704
CREATED:20251225T121036Z
LAST-MODIFIED:20251225T121036Z
UID:10012825-1785499200-1785510000@murphysboro.com
SUMMARY:Open hours – Jackson County Historical Society
DESCRIPTION:
URL:https://murphysboro.com/event/open-hours-jackson-county-historical-society-4/2026-07-31/
LOCATION:Jackson County Historical Society\, 1616 Edith Street\, Murphysboro\, IL\, 62966\, United States
CATEGORIES:Business,Educational
END:VEVENT
END:VCALENDAR