BEGIN:VCALENDAR
VERSION:2.0
PRODID:-//The City of Murphysboro - ECPv6.15.20//NONSGML v1.0//EN
CALSCALE:GREGORIAN
METHOD:PUBLISH
X-ORIGINAL-URL:https://murphysboro.com
X-WR-CALDESC:Events for The City of Murphysboro
REFRESH-INTERVAL;VALUE=DURATION:PT1H
X-Robots-Tag:noindex
X-PUBLISHED-TTL:PT1H
BEGIN:VTIMEZONE
TZID:America/Chicago
BEGIN:DAYLIGHT
TZOFFSETFROM:-0600
TZOFFSETTO:-0500
TZNAME:CDT
DTSTART:20250309T080000
END:DAYLIGHT
BEGIN:STANDARD
TZOFFSETFROM:-0500
TZOFFSETTO:-0600
TZNAME:CST
DTSTART:20251102T070000
END:STANDARD
BEGIN:DAYLIGHT
TZOFFSETFROM:-0600
TZOFFSETTO:-0500
TZNAME:CDT
DTSTART:20260308T080000
END:DAYLIGHT
BEGIN:STANDARD
TZOFFSETFROM:-0500
TZOFFSETTO:-0600
TZNAME:CST
DTSTART:20261101T070000
END:STANDARD
BEGIN:DAYLIGHT
TZOFFSETFROM:-0600
TZOFFSETTO:-0500
TZNAME:CDT
DTSTART:20270314T080000
END:DAYLIGHT
BEGIN:STANDARD
TZOFFSETFROM:-0500
TZOFFSETTO:-0600
TZNAME:CST
DTSTART:20271107T070000
END:STANDARD
END:VTIMEZONE
BEGIN:VEVENT
DTSTART;TZID=America/Chicago:20260905T090000
DTEND;TZID=America/Chicago:20260905T100000
DTSTAMP:20260421T153139
CREATED:20260211T124017Z
LAST-MODIFIED:20260211T124017Z
UID:10013928-1788598800-1788602400@murphysboro.com
SUMMARY:Morning Mobility - Topp Shape
DESCRIPTION:
URL:https://murphysboro.com/event/morning-mobility-topp-shape/2026-09-05/
CATEGORIES:Business,Sports
END:VEVENT
BEGIN:VEVENT
DTSTART;TZID=America/Chicago:20260912T090000
DTEND;TZID=America/Chicago:20260912T100000
DTSTAMP:20260421T153139
CREATED:20260211T124017Z
LAST-MODIFIED:20260211T124017Z
UID:10013929-1789203600-1789207200@murphysboro.com
SUMMARY:Morning Mobility - Topp Shape
DESCRIPTION:
URL:https://murphysboro.com/event/morning-mobility-topp-shape/2026-09-12/
CATEGORIES:Business,Sports
END:VEVENT
BEGIN:VEVENT
DTSTART;TZID=America/Chicago:20260919T090000
DTEND;TZID=America/Chicago:20260919T100000
DTSTAMP:20260421T153139
CREATED:20260211T124017Z
LAST-MODIFIED:20260211T124017Z
UID:10013930-1789808400-1789812000@murphysboro.com
SUMMARY:Morning Mobility - Topp Shape
DESCRIPTION:
URL:https://murphysboro.com/event/morning-mobility-topp-shape/2026-09-19/
CATEGORIES:Business,Sports
END:VEVENT
BEGIN:VEVENT
DTSTART;TZID=America/Chicago:20260926T090000
DTEND;TZID=America/Chicago:20260926T100000
DTSTAMP:20260421T153139
CREATED:20260211T124017Z
LAST-MODIFIED:20260211T124017Z
UID:10013931-1790413200-1790416800@murphysboro.com
SUMMARY:Morning Mobility - Topp Shape
DESCRIPTION:
URL:https://murphysboro.com/event/morning-mobility-topp-shape/2026-09-26/
CATEGORIES:Business,Sports
END:VEVENT
END:VCALENDAR