BEGIN:VCALENDAR
VERSION:2.0
PRODID:-//The City of Murphysboro - ECPv6.15.20//NONSGML v1.0//EN
CALSCALE:GREGORIAN
METHOD:PUBLISH
X-ORIGINAL-URL:https://murphysboro.com
X-WR-CALDESC:Events for The City of Murphysboro
REFRESH-INTERVAL;VALUE=DURATION:PT1H
X-Robots-Tag:noindex
X-PUBLISHED-TTL:PT1H
BEGIN:VTIMEZONE
TZID:America/Chicago
BEGIN:DAYLIGHT
TZOFFSETFROM:-0600
TZOFFSETTO:-0500
TZNAME:CDT
DTSTART:20230312T080000
END:DAYLIGHT
BEGIN:STANDARD
TZOFFSETFROM:-0500
TZOFFSETTO:-0600
TZNAME:CST
DTSTART:20231105T070000
END:STANDARD
BEGIN:DAYLIGHT
TZOFFSETFROM:-0600
TZOFFSETTO:-0500
TZNAME:CDT
DTSTART:20240310T080000
END:DAYLIGHT
BEGIN:STANDARD
TZOFFSETFROM:-0500
TZOFFSETTO:-0600
TZNAME:CST
DTSTART:20241103T070000
END:STANDARD
BEGIN:DAYLIGHT
TZOFFSETFROM:-0600
TZOFFSETTO:-0500
TZNAME:CDT
DTSTART:20250309T080000
END:DAYLIGHT
BEGIN:STANDARD
TZOFFSETFROM:-0500
TZOFFSETTO:-0600
TZNAME:CST
DTSTART:20251102T070000
END:STANDARD
BEGIN:DAYLIGHT
TZOFFSETFROM:-0600
TZOFFSETTO:-0500
TZNAME:CDT
DTSTART:20260308T080000
END:DAYLIGHT
BEGIN:STANDARD
TZOFFSETFROM:-0500
TZOFFSETTO:-0600
TZNAME:CST
DTSTART:20261101T070000
END:STANDARD
END:VTIMEZONE
BEGIN:VTIMEZONE
TZID:UTC
BEGIN:STANDARD
TZOFFSETFROM:+0000
TZOFFSETTO:+0000
TZNAME:UTC
DTSTART:20230101T000000
END:STANDARD
END:VTIMEZONE
BEGIN:VEVENT
DTSTART;TZID=America/Chicago:20251031T233000
DTEND;TZID=America/Chicago:20251101T020000
DTSTAMP:20260422T212534
CREATED:20251010T112304Z
LAST-MODIFIED:20251010T112304Z
UID:10010445-1761953400-1761962400@murphysboro.com
SUMMARY:Evil Dead 2 Midnight Screening - The Liberty Theater
DESCRIPTION:
URL:https://murphysboro.com/event/evil-dead-2-midnight-screening-the-liberty-theater/
LOCATION:The Liberty Theater\, 1333 Walnut Street\, Murphysboro\, IL\, 62966\, United States
CATEGORIES:Arts | Culture,Business
END:VEVENT
BEGIN:VEVENT
DTSTART;TZID=America/Chicago:20251031T210000
DTEND;TZID=America/Chicago:20251031T233000
DTSTAMP:20260422T212534
CREATED:20251010T110817Z
LAST-MODIFIED:20251010T110817Z
UID:10010443-1761944400-1761953400@murphysboro.com
SUMMARY:Boos and Booze - Da Nite Tavern
DESCRIPTION:
URL:https://murphysboro.com/event/boos-and-booze-da-nite-tavern/
CATEGORIES:Business
END:VEVENT
BEGIN:VEVENT
DTSTART;TZID=America/Chicago:20251031T200000
DTEND;TZID=America/Chicago:20251031T233000
DTSTAMP:20260422T212534
CREATED:20251023T112457Z
LAST-MODIFIED:20251023T112457Z
UID:10010471-1761940800-1761953400@murphysboro.com
SUMMARY:Halloween Bash - 715 Gaming
DESCRIPTION:
URL:https://murphysboro.com/event/halloween-bash-715-gaming/
LOCATION:715 Gaming Lounge\, 715 West Industrial Park Road\, Murphysboro\, IL\, 62966\, United States
CATEGORIES:Business
END:VEVENT
BEGIN:VEVENT
DTSTART;TZID=America/Chicago:20251031T200000
DTEND;TZID=America/Chicago:20251031T230000
DTSTAMP:20260422T212534
CREATED:20251021T124630Z
LAST-MODIFIED:20251021T124630Z
UID:10010464-1761940800-1761951600@murphysboro.com
SUMMARY:Halloween Party - Corner Tavern
DESCRIPTION:
URL:https://murphysboro.com/event/halloween-party-corner-tavern/
CATEGORIES:Business
END:VEVENT
BEGIN:VEVENT
DTSTART;TZID=America/Chicago:20251031T170000
DTEND;TZID=America/Chicago:20251031T200000
DTSTAMP:20260422T212534
CREATED:20251029T101547Z
LAST-MODIFIED:20251029T101547Z
UID:10010494-1761930000-1761940800@murphysboro.com
SUMMARY:Trunk or Treat - Youth and Rec Center
DESCRIPTION:
URL:https://murphysboro.com/event/trunk-or-treat-youth-and-rec-center/
LOCATION:Youth and Rec Center\, 1818 Walnut Street\, Murphysboro\, IL\, 62966\, United States
CATEGORIES:Business,Kid Friendly
END:VEVENT
BEGIN:VEVENT
DTSTART;TZID=America/Chicago:20251031T170000
DTEND;TZID=America/Chicago:20251031T200000
DTSTAMP:20260422T212534
CREATED:20251028T111241Z
LAST-MODIFIED:20251028T111241Z
UID:10010489-1761930000-1761940800@murphysboro.com
SUMMARY:Trunk or Treat - Cruise Night area downtown
DESCRIPTION:
URL:https://murphysboro.com/event/trunk-or-treat-cruise-night-area-downtown/
CATEGORIES:Community Event,Kid Friendly
END:VEVENT
BEGIN:VEVENT
DTSTART;TZID=America/Chicago:20251031T170000
DTEND;TZID=America/Chicago:20251031T200000
DTSTAMP:20260422T212534
CREATED:20251028T110901Z
LAST-MODIFIED:20251028T110901Z
UID:10010488-1761930000-1761940800@murphysboro.com
SUMMARY:Trunk or Treat - United Methodist Church
DESCRIPTION:
URL:https://murphysboro.com/event/trunk-or-treat-united-methodist-church/
CATEGORIES:Community Event,Kid Friendly
END:VEVENT
BEGIN:VEVENT
DTSTART;TZID=America/Chicago:20251031T170000
DTEND;TZID=America/Chicago:20251031T200000
DTSTAMP:20260422T212534
CREATED:20251026T224220Z
LAST-MODIFIED:20251026T224220Z
UID:10010486-1761930000-1761940800@murphysboro.com
SUMMARY:Trunk or Treat - American Legion
DESCRIPTION:
URL:https://murphysboro.com/event/trunk-or-treat-american-legion-2/
CATEGORIES:Business,Kid Friendly
END:VEVENT
BEGIN:VEVENT
DTSTART;TZID=America/Chicago:20251031T170000
DTEND;TZID=America/Chicago:20251031T200000
DTSTAMP:20260422T212534
CREATED:20251024T100521Z
LAST-MODIFIED:20251024T100521Z
UID:10010479-1761930000-1761940800@murphysboro.com
SUMMARY:Harvest Party - United in Faith Church
DESCRIPTION:
URL:https://murphysboro.com/event/harvest-party-united-in-faith-church/
CATEGORIES:Community Event,Kid Friendly
END:VEVENT
BEGIN:VEVENT
DTSTART;TZID=America/Chicago:20251031T170000
DTEND;TZID=America/Chicago:20251031T200000
DTSTAMP:20260422T212534
CREATED:20251021T115908Z
LAST-MODIFIED:20251021T115908Z
UID:10010456-1761930000-1761940800@murphysboro.com
SUMMARY:Trunk or Treat - St. Andrew School
DESCRIPTION:
URL:https://murphysboro.com/event/trunk-or-treat-st-andrew-school/
CATEGORIES:Community Event,Kid Friendly,Outdoor
END:VEVENT
BEGIN:VEVENT
DTSTART;TZID=America/Chicago:20251031T170000
DTEND;TZID=America/Chicago:20251031T200000
DTSTAMP:20260422T212534
CREATED:20251012T120452Z
LAST-MODIFIED:20251012T120452Z
UID:10010449-1761930000-1761940800@murphysboro.com
SUMMARY:Halloween Trunk or Treat - Sweet Lou's Bakery
DESCRIPTION:
URL:https://murphysboro.com/event/halloween-trunk-or-treat-sweet-lous-bakery/
CATEGORIES:Business,Kid Friendly
END:VEVENT
BEGIN:VEVENT
DTSTART;TZID=America/Chicago:20251031T170000
DTEND;TZID=America/Chicago:20251031T183000
DTSTAMP:20260422T212534
CREATED:20251029T101821Z
LAST-MODIFIED:20251029T101821Z
UID:10010495-1761930000-1761935400@murphysboro.com
SUMMARY:Trunk or Treat - Whimsey Photography
DESCRIPTION:
URL:https://murphysboro.com/event/trunk-or-treat-whimsey-photography/
CATEGORIES:Business,Kid Friendly
END:VEVENT
BEGIN:VEVENT
DTSTART;TZID=America/Chicago:20251031T150000
DTEND;TZID=America/Chicago:20251031T233000
DTSTAMP:20260422T212534
CREATED:20251028T111745Z
LAST-MODIFIED:20251028T111745Z
UID:10010490-1761922800-1761953400@murphysboro.com
SUMMARY:Halloween Party - River Rats
DESCRIPTION:
URL:https://murphysboro.com/event/halloween-party-river-rats/
CATEGORIES:Business,Concert
END:VEVENT
BEGIN:VEVENT
DTSTART;TZID=America/Chicago:20251031T150000
DTEND;TZID=America/Chicago:20251031T210000
DTSTAMP:20260422T212534
CREATED:20251028T110537Z
LAST-MODIFIED:20251028T110537Z
UID:10010487-1761922800-1761944400@murphysboro.com
SUMMARY:Trunk or Treat - Small Town Scoop
DESCRIPTION:
URL:https://murphysboro.com/event/trunk-or-treat-small-town-scoop/
CATEGORIES:Business,Kid Friendly
END:VEVENT
BEGIN:VEVENT
DTSTART;TZID=America/Chicago:20251031T150000
DTEND;TZID=America/Chicago:20251031T170000
DTSTAMP:20260422T212534
CREATED:20251029T102549Z
LAST-MODIFIED:20251029T102549Z
UID:10010498-1761922800-1761930000@murphysboro.com
SUMMARY:Trick or Treat - Think Vintage
DESCRIPTION:
URL:https://murphysboro.com/event/trick-or-treat-think-vintage/
CATEGORIES:Business,Kid Friendly
END:VEVENT
BEGIN:VEVENT
DTSTART;TZID=America/Chicago:20251031T150000
DTEND;TZID=America/Chicago:20251031T170000
DTSTAMP:20260422T212534
CREATED:20251029T102257Z
LAST-MODIFIED:20251029T102257Z
UID:10010497-1761922800-1761930000@murphysboro.com
SUMMARY:Trick or Treat - TNT Hairstudio
DESCRIPTION:
URL:https://murphysboro.com/event/trick-or-treat-tnt-hairstudio/
CATEGORIES:Business,Kid Friendly
END:VEVENT
BEGIN:VEVENT
DTSTART;TZID=America/Chicago:20251031T150000
DTEND;TZID=America/Chicago:20251031T170000
DTSTAMP:20260422T212534
CREATED:20251029T102031Z
LAST-MODIFIED:20251029T102031Z
UID:10010496-1761922800-1761930000@murphysboro.com
SUMMARY:Trick or Treat - Signature Market
DESCRIPTION:
URL:https://murphysboro.com/event/trick-or-treat-signature-market/
CATEGORIES:Business,Kid Friendly
END:VEVENT
BEGIN:VEVENT
DTSTART;TZID=America/Chicago:20251031T150000
DTEND;TZID=America/Chicago:20251031T170000
DTSTAMP:20260422T212534
CREATED:20251021T120948Z
LAST-MODIFIED:20251021T120948Z
UID:10010458-1761922800-1761930000@murphysboro.com
SUMMARY:Trick or Treat - Walnut Street
DESCRIPTION:
URL:https://murphysboro.com/event/trick-or-treat-walnut-street/
CATEGORIES:Community Event,Festival
END:VEVENT
BEGIN:VEVENT
DTSTART;TZID=America/Chicago:20251027T170000
DTEND;TZID=America/Chicago:20251027T190000
DTSTAMP:20260422T212534
CREATED:20251022T111842Z
LAST-MODIFIED:20251022T111842Z
UID:10010467-1761584400-1761591600@murphysboro.com
SUMMARY:Scary Movie Night - Sallie Logan Library
DESCRIPTION:
URL:https://murphysboro.com/event/scary-movie-night-sallie-logan-library-2/
LOCATION:Sallie Logan Library\, 1808 Walnut Street\, Murphysboro\, IL\, 62966\, United States
CATEGORIES:Arts | Culture,Business
END:VEVENT
BEGIN:VEVENT
DTSTART;TZID=America/Chicago:20251026T160000
DTEND;TZID=America/Chicago:20251026T180000
DTSTAMP:20260422T212534
CREATED:20250930T104737Z
LAST-MODIFIED:20250930T104737Z
UID:10010414-1761494400-1761501600@murphysboro.com
SUMMARY:Trunk or Treat - St. Nicholas MDH (airport)
DESCRIPTION:
URL:https://murphysboro.com/event/trunk-or-treat-st-nicholas-mdh-airport/
END:VEVENT
BEGIN:VEVENT
DTSTART;TZID=America/Chicago:20251025T190000
DTEND;TZID=America/Chicago:20251025T220000
DTSTAMP:20260422T212534
CREATED:20251010T124121Z
LAST-MODIFIED:20251010T124121Z
UID:10010446-1761418800-1761429600@murphysboro.com
SUMMARY:Halloween Party - Southpaw Bar and Grill
DESCRIPTION:
URL:https://murphysboro.com/event/halloween-party-southpaw-bar-and-grill/
LOCATION:Southpaw Bar and Grill\, 1 Apple City Center\, Murphysboro\, IL\, 62966\, United States
CATEGORIES:Business
END:VEVENT
BEGIN:VEVENT
DTSTART;TZID=America/Chicago:20251024T190000
DTEND;TZID=America/Chicago:20251024T233000
DTSTAMP:20260422T212534
CREATED:20250921T115420Z
LAST-MODIFIED:20250921T115420Z
UID:10010399-1761332400-1761348600@murphysboro.com
SUMMARY:Halloween Party - Rosie's Gaming
DESCRIPTION:
URL:https://murphysboro.com/event/halloween-party-rosies-gaming/
CATEGORIES:Business
END:VEVENT
BEGIN:VEVENT
DTSTART;TZID=America/Chicago:20251023T180000
DTEND;TZID=America/Chicago:20251023T200000
DTSTAMP:20260422T212534
CREATED:20251022T114659Z
LAST-MODIFIED:20251023T224141Z
UID:10010470-1761242400-1761249600@murphysboro.com
SUMMARY:Witches Night Out - Faye
DESCRIPTION:
URL:https://murphysboro.com/event/witches-night-out-faye/
LOCATION:Faye\, 1616 Walnut\, Murphysboro\, IL\, 62966\, United States
CATEGORIES:Business
END:VEVENT
BEGIN:VEVENT
DTSTART;TZID=America/Chicago:20251020T170000
DTEND;TZID=America/Chicago:20251020T190000
DTSTAMP:20260422T212534
CREATED:20251013T115443Z
LAST-MODIFIED:20251013T115443Z
UID:10010450-1760979600-1760986800@murphysboro.com
SUMMARY:Scary Movie Night - Sallie Logan Library
DESCRIPTION:
URL:https://murphysboro.com/event/scary-movie-night-sallie-logan-library/
LOCATION:Sallie Logan Library\, 1808 Walnut Street\, Murphysboro\, IL\, 62966\, United States
CATEGORIES:Arts | Culture,Business
END:VEVENT
BEGIN:VEVENT
DTSTART;TZID=UTC:20241102T200000
DTEND;TZID=UTC:20241102T233000
DTSTAMP:20260422T212534
CREATED:20230222T155212Z
LAST-MODIFIED:20241101T104532Z
UID:10000177-1730577600-1730590200@murphysboro.com
SUMMARY:Halloween Party - River Rats
DESCRIPTION:
URL:https://murphysboro.com/event/yoga-class-yoga-on-the-block-26/
LOCATION:River Rats\, 1603 Walnut\, Murphysboro\, IL\, 62966\, United States
CATEGORIES:Business
END:VEVENT
BEGIN:VEVENT
DTSTART;TZID=America/Chicago:20241031T180000
DTEND;TZID=America/Chicago:20241031T200000
DTSTAMP:20260422T212534
CREATED:20241028T101926Z
LAST-MODIFIED:20241028T101926Z
UID:10006761-1730397600-1730404800@murphysboro.com
SUMMARY:Trunk or Treat – American Legion
DESCRIPTION:
URL:https://murphysboro.com/event/trunk-or-treat-american-legion/
CATEGORIES:Community Event
END:VEVENT
BEGIN:VEVENT
DTSTART;TZID=America/Chicago:20241031T180000
DTEND;TZID=America/Chicago:20241031T200000
DTSTAMP:20260422T212534
CREATED:20241017T113315Z
LAST-MODIFIED:20241017T113315Z
UID:10006727-1730397600-1730404800@murphysboro.com
SUMMARY:Trunk or Treat - Big Muddy Fryers
DESCRIPTION:
URL:https://murphysboro.com/event/trunk-or-treat-big-muddy-fryers/
CATEGORIES:Business
END:VEVENT
BEGIN:VEVENT
DTSTART;TZID=America/Chicago:20241031T170000
DTEND;TZID=America/Chicago:20241031T200000
DTSTAMP:20260422T212534
CREATED:20241028T102957Z
LAST-MODIFIED:20241028T102957Z
UID:10006762-1730394000-1730404800@murphysboro.com
SUMMARY:Trick or Treat Event - Small Town Scoop
DESCRIPTION:
URL:https://murphysboro.com/event/trick-or-treat-event-small-town-scoop/
CATEGORIES:Community Event
END:VEVENT
BEGIN:VEVENT
DTSTART;TZID=UTC:20241031T170000
DTEND;TZID=UTC:20241031T200000
DTSTAMP:20260422T212535
CREATED:20230222T155145Z
LAST-MODIFIED:20241030T105537Z
UID:10000049-1730394000-1730404800@murphysboro.com
SUMMARY:Trunk or Treat - St. Andrew School
DESCRIPTION:
URL:https://murphysboro.com/event/queen-of-hearts-american-legion-2/
CATEGORIES:Community Event
END:VEVENT
BEGIN:VEVENT
DTSTART;TZID=UTC:20241031T170000
DTEND;TZID=UTC:20241031T200000
DTSTAMP:20260422T212535
CREATED:20230222T155140Z
LAST-MODIFIED:20241030T105739Z
UID:10000010-1730394000-1730404800@murphysboro.com
SUMMARY:Trunk or Treat - United Methodist Church
DESCRIPTION:
URL:https://murphysboro.com/event/study-buddies-youth-rec-center/
CATEGORIES:Community Event
END:VEVENT
END:VCALENDAR