BEGIN:VCALENDAR
VERSION:2.0
PRODID:-//The City of Murphysboro - ECPv6.15.20//NONSGML v1.0//EN
CALSCALE:GREGORIAN
METHOD:PUBLISH
X-WR-CALNAME:The City of Murphysboro
X-ORIGINAL-URL:https://murphysboro.com
X-WR-CALDESC:Events for The City of Murphysboro
REFRESH-INTERVAL;VALUE=DURATION:PT1H
X-Robots-Tag:noindex
X-PUBLISHED-TTL:PT1H
BEGIN:VTIMEZONE
TZID:America/Chicago
BEGIN:DAYLIGHT
TZOFFSETFROM:-0600
TZOFFSETTO:-0500
TZNAME:CDT
DTSTART:20250309T080000
END:DAYLIGHT
BEGIN:STANDARD
TZOFFSETFROM:-0500
TZOFFSETTO:-0600
TZNAME:CST
DTSTART:20251102T070000
END:STANDARD
BEGIN:DAYLIGHT
TZOFFSETFROM:-0600
TZOFFSETTO:-0500
TZNAME:CDT
DTSTART:20260308T080000
END:DAYLIGHT
BEGIN:STANDARD
TZOFFSETFROM:-0500
TZOFFSETTO:-0600
TZNAME:CST
DTSTART:20261101T070000
END:STANDARD
BEGIN:DAYLIGHT
TZOFFSETFROM:-0600
TZOFFSETTO:-0500
TZNAME:CDT
DTSTART:20270314T080000
END:DAYLIGHT
BEGIN:STANDARD
TZOFFSETFROM:-0500
TZOFFSETTO:-0600
TZNAME:CST
DTSTART:20271107T070000
END:STANDARD
END:VTIMEZONE
BEGIN:VEVENT
DTSTART;TZID=America/Chicago:20260510T160000
DTEND;TZID=America/Chicago:20260510T180000
DTSTAMP:20260422T124351
CREATED:20251223T010008Z
LAST-MODIFIED:20251223T010008Z
UID:10011512-1778428800-1778436000@murphysboro.com
SUMMARY:Dinner on the House – 724 Ministries
DESCRIPTION:
URL:https://murphysboro.com/event/dinner-on-the-house-724-ministries-45/2026-05-10/
LOCATION:724 Ministries\, 724 Walnut Street\, Murphysboro\, IL\, 62966\, United States
CATEGORIES:Business,Fundraiser
END:VEVENT
BEGIN:VEVENT
DTSTART;TZID=America/Chicago:20260515T080000
DTEND;TZID=America/Chicago:20260515T170000
DTSTAMP:20260422T124351
CREATED:20260320T123442Z
LAST-MODIFIED:20260320T123442Z
UID:10014067-1778832000-1778864400@murphysboro.com
SUMMARY:St. Francis Golf Scramble - Apple Creek Golf Club
DESCRIPTION:
URL:https://murphysboro.com/event/st-francis-golf-scramble-apple-creek-golf-club/
LOCATION:IL
CATEGORIES:Community Event,Fundraiser,Sports
END:VEVENT
BEGIN:VEVENT
DTSTART;TZID=America/Chicago:20260517T160000
DTEND;TZID=America/Chicago:20260517T180000
DTSTAMP:20260422T124351
CREATED:20251223T010008Z
LAST-MODIFIED:20251223T010008Z
UID:10011513-1779033600-1779040800@murphysboro.com
SUMMARY:Dinner on the House – 724 Ministries
DESCRIPTION:
URL:https://murphysboro.com/event/dinner-on-the-house-724-ministries-45/2026-05-17/
LOCATION:724 Ministries\, 724 Walnut Street\, Murphysboro\, IL\, 62966\, United States
CATEGORIES:Business,Fundraiser
END:VEVENT
BEGIN:VEVENT
DTSTART;TZID=America/Chicago:20260524T160000
DTEND;TZID=America/Chicago:20260524T180000
DTSTAMP:20260422T124351
CREATED:20251223T010008Z
LAST-MODIFIED:20251223T010008Z
UID:10011514-1779638400-1779645600@murphysboro.com
SUMMARY:Dinner on the House – 724 Ministries
DESCRIPTION:
URL:https://murphysboro.com/event/dinner-on-the-house-724-ministries-45/2026-05-24/
LOCATION:724 Ministries\, 724 Walnut Street\, Murphysboro\, IL\, 62966\, United States
CATEGORIES:Business,Fundraiser
END:VEVENT
BEGIN:VEVENT
DTSTART;TZID=America/Chicago:20260530T120000
DTEND;TZID=America/Chicago:20260530T160000
DTSTAMP:20260422T124351
CREATED:20260421T104833Z
LAST-MODIFIED:20260421T104833Z
UID:10014167-1780142400-1780156800@murphysboro.com
SUMMARY:Caddy Shack Crawl – various locations across the 62966
DESCRIPTION:
URL:https://murphysboro.com/event/caddy-shack-crawl-various-locations-across-the-62966-2/
LOCATION:IL
CATEGORIES:Community Event,Fundraiser
END:VEVENT
BEGIN:VEVENT
DTSTART;TZID=America/Chicago:20260531T160000
DTEND;TZID=America/Chicago:20260531T180000
DTSTAMP:20260422T124351
CREATED:20251223T010008Z
LAST-MODIFIED:20251223T010008Z
UID:10011515-1780243200-1780250400@murphysboro.com
SUMMARY:Dinner on the House – 724 Ministries
DESCRIPTION:
URL:https://murphysboro.com/event/dinner-on-the-house-724-ministries-45/2026-05-31/
LOCATION:724 Ministries\, 724 Walnut Street\, Murphysboro\, IL\, 62966\, United States
CATEGORIES:Business,Fundraiser
END:VEVENT
BEGIN:VEVENT
DTSTART;TZID=America/Chicago:20260605T190000
DTEND;TZID=America/Chicago:20260605T220000
DTSTAMP:20260422T124351
CREATED:20260412T205009Z
LAST-MODIFIED:20260412T205009Z
UID:10014140-1780686000-1780696800@murphysboro.com
SUMMARY:Relay for Life Fundraiser - Brews Brothers Taproom
DESCRIPTION:
URL:https://murphysboro.com/event/relay-for-life-fundraiser-brews-brothers-taproom/
LOCATION:Brews Brothers Taproom\, 1105 Chestnut Street\, Murphysboro\, IL\, 62966\, United States
CATEGORIES:Business,Community Event,Fundraiser
END:VEVENT
BEGIN:VEVENT
DTSTART;TZID=America/Chicago:20260607T160000
DTEND;TZID=America/Chicago:20260607T180000
DTSTAMP:20260422T124351
CREATED:20251223T010008Z
LAST-MODIFIED:20251223T010008Z
UID:10011516-1780848000-1780855200@murphysboro.com
SUMMARY:Dinner on the House – 724 Ministries
DESCRIPTION:
URL:https://murphysboro.com/event/dinner-on-the-house-724-ministries-45/2026-06-07/
LOCATION:724 Ministries\, 724 Walnut Street\, Murphysboro\, IL\, 62966\, United States
CATEGORIES:Business,Fundraiser
END:VEVENT
BEGIN:VEVENT
DTSTART;TZID=America/Chicago:20260614T160000
DTEND;TZID=America/Chicago:20260614T180000
DTSTAMP:20260422T124351
CREATED:20251223T010008Z
LAST-MODIFIED:20251223T010008Z
UID:10011517-1781452800-1781460000@murphysboro.com
SUMMARY:Dinner on the House – 724 Ministries
DESCRIPTION:
URL:https://murphysboro.com/event/dinner-on-the-house-724-ministries-45/2026-06-14/
LOCATION:724 Ministries\, 724 Walnut Street\, Murphysboro\, IL\, 62966\, United States
CATEGORIES:Business,Fundraiser
END:VEVENT
BEGIN:VEVENT
DTSTART;TZID=America/Chicago:20260621T160000
DTEND;TZID=America/Chicago:20260621T180000
DTSTAMP:20260422T124351
CREATED:20251223T010008Z
LAST-MODIFIED:20251223T010008Z
UID:10011518-1782057600-1782064800@murphysboro.com
SUMMARY:Dinner on the House – 724 Ministries
DESCRIPTION:
URL:https://murphysboro.com/event/dinner-on-the-house-724-ministries-45/2026-06-21/
LOCATION:724 Ministries\, 724 Walnut Street\, Murphysboro\, IL\, 62966\, United States
CATEGORIES:Business,Fundraiser
END:VEVENT
BEGIN:VEVENT
DTSTART;TZID=America/Chicago:20260627T093000
DTEND;TZID=America/Chicago:20260627T120000
DTSTAMP:20260422T124351
CREATED:20260419T104926Z
LAST-MODIFIED:20260419T104926Z
UID:10014166-1782552600-1782561600@murphysboro.com
SUMMARY:Red Devil Football Fundraiser - Bocce Courts
DESCRIPTION:
URL:https://murphysboro.com/event/red-devil-football-fundraiser-bocce-courts/
LOCATION:Riverside Park\, 2610 West Riverside Park\, Murphysboro\, IL\, 62966\, United States
CATEGORIES:Fundraiser
END:VEVENT
BEGIN:VEVENT
DTSTART;TZID=America/Chicago:20260628T160000
DTEND;TZID=America/Chicago:20260628T180000
DTSTAMP:20260422T124351
CREATED:20251223T010008Z
LAST-MODIFIED:20251223T010008Z
UID:10011519-1782662400-1782669600@murphysboro.com
SUMMARY:Dinner on the House – 724 Ministries
DESCRIPTION:
URL:https://murphysboro.com/event/dinner-on-the-house-724-ministries-45/2026-06-28/
LOCATION:724 Ministries\, 724 Walnut Street\, Murphysboro\, IL\, 62966\, United States
CATEGORIES:Business,Fundraiser
END:VEVENT
BEGIN:VEVENT
DTSTART;TZID=America/Chicago:20260705T160000
DTEND;TZID=America/Chicago:20260705T180000
DTSTAMP:20260422T124351
CREATED:20251223T010008Z
LAST-MODIFIED:20251223T010008Z
UID:10011520-1783267200-1783274400@murphysboro.com
SUMMARY:Dinner on the House – 724 Ministries
DESCRIPTION:
URL:https://murphysboro.com/event/dinner-on-the-house-724-ministries-45/2026-07-05/
LOCATION:724 Ministries\, 724 Walnut Street\, Murphysboro\, IL\, 62966\, United States
CATEGORIES:Business,Fundraiser
END:VEVENT
BEGIN:VEVENT
DTSTART;TZID=America/Chicago:20260712T160000
DTEND;TZID=America/Chicago:20260712T180000
DTSTAMP:20260422T124351
CREATED:20251223T010008Z
LAST-MODIFIED:20251223T010008Z
UID:10011521-1783872000-1783879200@murphysboro.com
SUMMARY:Dinner on the House – 724 Ministries
DESCRIPTION:
URL:https://murphysboro.com/event/dinner-on-the-house-724-ministries-45/2026-07-12/
LOCATION:724 Ministries\, 724 Walnut Street\, Murphysboro\, IL\, 62966\, United States
CATEGORIES:Business,Fundraiser
END:VEVENT
BEGIN:VEVENT
DTSTART;TZID=America/Chicago:20260719T160000
DTEND;TZID=America/Chicago:20260719T180000
DTSTAMP:20260422T124351
CREATED:20251223T010008Z
LAST-MODIFIED:20251223T010008Z
UID:10011522-1784476800-1784484000@murphysboro.com
SUMMARY:Dinner on the House – 724 Ministries
DESCRIPTION:
URL:https://murphysboro.com/event/dinner-on-the-house-724-ministries-45/2026-07-19/
LOCATION:724 Ministries\, 724 Walnut Street\, Murphysboro\, IL\, 62966\, United States
CATEGORIES:Business,Fundraiser
END:VEVENT
BEGIN:VEVENT
DTSTART;TZID=America/Chicago:20260726T160000
DTEND;TZID=America/Chicago:20260726T180000
DTSTAMP:20260422T124351
CREATED:20251223T010008Z
LAST-MODIFIED:20251223T010008Z
UID:10011523-1785081600-1785088800@murphysboro.com
SUMMARY:Dinner on the House – 724 Ministries
DESCRIPTION:
URL:https://murphysboro.com/event/dinner-on-the-house-724-ministries-45/2026-07-26/
LOCATION:724 Ministries\, 724 Walnut Street\, Murphysboro\, IL\, 62966\, United States
CATEGORIES:Business,Fundraiser
END:VEVENT
BEGIN:VEVENT
DTSTART;TZID=America/Chicago:20260802T160000
DTEND;TZID=America/Chicago:20260802T180000
DTSTAMP:20260422T124351
CREATED:20251223T010008Z
LAST-MODIFIED:20251223T010008Z
UID:10011524-1785686400-1785693600@murphysboro.com
SUMMARY:Dinner on the House – 724 Ministries
DESCRIPTION:
URL:https://murphysboro.com/event/dinner-on-the-house-724-ministries-45/2026-08-02/
LOCATION:724 Ministries\, 724 Walnut Street\, Murphysboro\, IL\, 62966\, United States
CATEGORIES:Business,Fundraiser
END:VEVENT
BEGIN:VEVENT
DTSTART;TZID=America/Chicago:20260809T160000
DTEND;TZID=America/Chicago:20260809T180000
DTSTAMP:20260422T124351
CREATED:20251223T010008Z
LAST-MODIFIED:20251223T010008Z
UID:10011525-1786291200-1786298400@murphysboro.com
SUMMARY:Dinner on the House – 724 Ministries
DESCRIPTION:
URL:https://murphysboro.com/event/dinner-on-the-house-724-ministries-45/2026-08-09/
LOCATION:724 Ministries\, 724 Walnut Street\, Murphysboro\, IL\, 62966\, United States
CATEGORIES:Business,Fundraiser
END:VEVENT
BEGIN:VEVENT
DTSTART;TZID=America/Chicago:20260816T160000
DTEND;TZID=America/Chicago:20260816T180000
DTSTAMP:20260422T124351
CREATED:20251223T010008Z
LAST-MODIFIED:20251223T010008Z
UID:10011526-1786896000-1786903200@murphysboro.com
SUMMARY:Dinner on the House – 724 Ministries
DESCRIPTION:
URL:https://murphysboro.com/event/dinner-on-the-house-724-ministries-45/2026-08-16/
LOCATION:724 Ministries\, 724 Walnut Street\, Murphysboro\, IL\, 62966\, United States
CATEGORIES:Business,Fundraiser
END:VEVENT
BEGIN:VEVENT
DTSTART;TZID=America/Chicago:20260823T160000
DTEND;TZID=America/Chicago:20260823T180000
DTSTAMP:20260422T124351
CREATED:20251223T010008Z
LAST-MODIFIED:20251223T010008Z
UID:10011527-1787500800-1787508000@murphysboro.com
SUMMARY:Dinner on the House – 724 Ministries
DESCRIPTION:
URL:https://murphysboro.com/event/dinner-on-the-house-724-ministries-45/2026-08-23/
LOCATION:724 Ministries\, 724 Walnut Street\, Murphysboro\, IL\, 62966\, United States
CATEGORIES:Business,Fundraiser
END:VEVENT
BEGIN:VEVENT
DTSTART;TZID=America/Chicago:20260830T160000
DTEND;TZID=America/Chicago:20260830T180000
DTSTAMP:20260422T124351
CREATED:20251223T010008Z
LAST-MODIFIED:20251223T010008Z
UID:10011528-1788105600-1788112800@murphysboro.com
SUMMARY:Dinner on the House – 724 Ministries
DESCRIPTION:
URL:https://murphysboro.com/event/dinner-on-the-house-724-ministries-45/2026-08-30/
LOCATION:724 Ministries\, 724 Walnut Street\, Murphysboro\, IL\, 62966\, United States
CATEGORIES:Business,Fundraiser
END:VEVENT
BEGIN:VEVENT
DTSTART;TZID=America/Chicago:20260906T160000
DTEND;TZID=America/Chicago:20260906T180000
DTSTAMP:20260422T124351
CREATED:20251223T010008Z
LAST-MODIFIED:20251223T010008Z
UID:10011529-1788710400-1788717600@murphysboro.com
SUMMARY:Dinner on the House – 724 Ministries
DESCRIPTION:
URL:https://murphysboro.com/event/dinner-on-the-house-724-ministries-45/2026-09-06/
LOCATION:724 Ministries\, 724 Walnut Street\, Murphysboro\, IL\, 62966\, United States
CATEGORIES:Business,Fundraiser
END:VEVENT
BEGIN:VEVENT
DTSTART;TZID=America/Chicago:20260913T160000
DTEND;TZID=America/Chicago:20260913T180000
DTSTAMP:20260422T124351
CREATED:20251223T010008Z
LAST-MODIFIED:20251223T010008Z
UID:10011530-1789315200-1789322400@murphysboro.com
SUMMARY:Dinner on the House – 724 Ministries
DESCRIPTION:
URL:https://murphysboro.com/event/dinner-on-the-house-724-ministries-45/2026-09-13/
LOCATION:724 Ministries\, 724 Walnut Street\, Murphysboro\, IL\, 62966\, United States
CATEGORIES:Business,Fundraiser
END:VEVENT
BEGIN:VEVENT
DTSTART;TZID=America/Chicago:20260920T160000
DTEND;TZID=America/Chicago:20260920T180000
DTSTAMP:20260422T124351
CREATED:20251223T010008Z
LAST-MODIFIED:20251223T010008Z
UID:10011531-1789920000-1789927200@murphysboro.com
SUMMARY:Dinner on the House – 724 Ministries
DESCRIPTION:
URL:https://murphysboro.com/event/dinner-on-the-house-724-ministries-45/2026-09-20/
LOCATION:724 Ministries\, 724 Walnut Street\, Murphysboro\, IL\, 62966\, United States
CATEGORIES:Business,Fundraiser
END:VEVENT
BEGIN:VEVENT
DTSTART;TZID=America/Chicago:20260927T160000
DTEND;TZID=America/Chicago:20260927T180000
DTSTAMP:20260422T124351
CREATED:20251223T010008Z
LAST-MODIFIED:20251223T010008Z
UID:10011532-1790524800-1790532000@murphysboro.com
SUMMARY:Dinner on the House – 724 Ministries
DESCRIPTION:
URL:https://murphysboro.com/event/dinner-on-the-house-724-ministries-45/2026-09-27/
LOCATION:724 Ministries\, 724 Walnut Street\, Murphysboro\, IL\, 62966\, United States
CATEGORIES:Business,Fundraiser
END:VEVENT
BEGIN:VEVENT
DTSTART;TZID=America/Chicago:20261004T160000
DTEND;TZID=America/Chicago:20261004T180000
DTSTAMP:20260422T124351
CREATED:20251223T010008Z
LAST-MODIFIED:20251223T010008Z
UID:10011533-1791129600-1791136800@murphysboro.com
SUMMARY:Dinner on the House – 724 Ministries
DESCRIPTION:
URL:https://murphysboro.com/event/dinner-on-the-house-724-ministries-45/2026-10-04/
LOCATION:724 Ministries\, 724 Walnut Street\, Murphysboro\, IL\, 62966\, United States
CATEGORIES:Business,Fundraiser
END:VEVENT
BEGIN:VEVENT
DTSTART;TZID=America/Chicago:20261011T160000
DTEND;TZID=America/Chicago:20261011T180000
DTSTAMP:20260422T124351
CREATED:20251223T010008Z
LAST-MODIFIED:20251223T010008Z
UID:10011534-1791734400-1791741600@murphysboro.com
SUMMARY:Dinner on the House – 724 Ministries
DESCRIPTION:
URL:https://murphysboro.com/event/dinner-on-the-house-724-ministries-45/2026-10-11/
LOCATION:724 Ministries\, 724 Walnut Street\, Murphysboro\, IL\, 62966\, United States
CATEGORIES:Business,Fundraiser
END:VEVENT
BEGIN:VEVENT
DTSTART;TZID=America/Chicago:20261018T160000
DTEND;TZID=America/Chicago:20261018T180000
DTSTAMP:20260422T124351
CREATED:20251223T010008Z
LAST-MODIFIED:20251223T010008Z
UID:10011535-1792339200-1792346400@murphysboro.com
SUMMARY:Dinner on the House – 724 Ministries
DESCRIPTION:
URL:https://murphysboro.com/event/dinner-on-the-house-724-ministries-45/2026-10-18/
LOCATION:724 Ministries\, 724 Walnut Street\, Murphysboro\, IL\, 62966\, United States
CATEGORIES:Business,Fundraiser
END:VEVENT
BEGIN:VEVENT
DTSTART;TZID=America/Chicago:20261025T160000
DTEND;TZID=America/Chicago:20261025T180000
DTSTAMP:20260422T124351
CREATED:20251223T010008Z
LAST-MODIFIED:20251223T010008Z
UID:10011536-1792944000-1792951200@murphysboro.com
SUMMARY:Dinner on the House – 724 Ministries
DESCRIPTION:
URL:https://murphysboro.com/event/dinner-on-the-house-724-ministries-45/2026-10-25/
LOCATION:724 Ministries\, 724 Walnut Street\, Murphysboro\, IL\, 62966\, United States
CATEGORIES:Business,Fundraiser
END:VEVENT
BEGIN:VEVENT
DTSTART;TZID=America/Chicago:20261101T160000
DTEND;TZID=America/Chicago:20261101T180000
DTSTAMP:20260422T124351
CREATED:20251223T010008Z
LAST-MODIFIED:20251223T010008Z
UID:10011537-1793548800-1793556000@murphysboro.com
SUMMARY:Dinner on the House – 724 Ministries
DESCRIPTION:
URL:https://murphysboro.com/event/dinner-on-the-house-724-ministries-45/2026-11-01/
LOCATION:724 Ministries\, 724 Walnut Street\, Murphysboro\, IL\, 62966\, United States
CATEGORIES:Business,Fundraiser
END:VEVENT
END:VCALENDAR