BEGIN:VCALENDAR
VERSION:2.0
PRODID:-//The City of Murphysboro - ECPv6.15.20//NONSGML v1.0//EN
CALSCALE:GREGORIAN
METHOD:PUBLISH
X-ORIGINAL-URL:https://murphysboro.com
X-WR-CALDESC:Events for The City of Murphysboro
REFRESH-INTERVAL;VALUE=DURATION:PT1H
X-Robots-Tag:noindex
X-PUBLISHED-TTL:PT1H
BEGIN:VTIMEZONE
TZID:America/Chicago
BEGIN:DAYLIGHT
TZOFFSETFROM:-0600
TZOFFSETTO:-0500
TZNAME:CDT
DTSTART:20250309T080000
END:DAYLIGHT
BEGIN:STANDARD
TZOFFSETFROM:-0500
TZOFFSETTO:-0600
TZNAME:CST
DTSTART:20251102T070000
END:STANDARD
BEGIN:DAYLIGHT
TZOFFSETFROM:-0600
TZOFFSETTO:-0500
TZNAME:CDT
DTSTART:20260308T080000
END:DAYLIGHT
BEGIN:STANDARD
TZOFFSETFROM:-0500
TZOFFSETTO:-0600
TZNAME:CST
DTSTART:20261101T070000
END:STANDARD
BEGIN:DAYLIGHT
TZOFFSETFROM:-0600
TZOFFSETTO:-0500
TZNAME:CDT
DTSTART:20270314T080000
END:DAYLIGHT
BEGIN:STANDARD
TZOFFSETFROM:-0500
TZOFFSETTO:-0600
TZNAME:CST
DTSTART:20271107T070000
END:STANDARD
END:VTIMEZONE
BEGIN:VEVENT
DTSTART;TZID=America/Chicago:20260702T161500
DTEND;TZID=America/Chicago:20260702T171500
DTSTAMP:20260422T194312
CREATED:20251224T120408Z
LAST-MODIFIED:20251224T120408Z
UID:10012510-1783008900-1783012500@murphysboro.com
SUMMARY:Yoga Class – Event Center
DESCRIPTION:
URL:https://murphysboro.com/event/yoga-class-event-center-46/2026-07-02/
CATEGORIES:Business,Sports
END:VEVENT
BEGIN:VEVENT
DTSTART;TZID=America/Chicago:20260709T161500
DTEND;TZID=America/Chicago:20260709T171500
DTSTAMP:20260422T194312
CREATED:20251224T120408Z
LAST-MODIFIED:20251224T120408Z
UID:10012511-1783613700-1783617300@murphysboro.com
SUMMARY:Yoga Class – Event Center
DESCRIPTION:
URL:https://murphysboro.com/event/yoga-class-event-center-46/2026-07-09/
CATEGORIES:Business,Sports
END:VEVENT
BEGIN:VEVENT
DTSTART;TZID=America/Chicago:20260716T161500
DTEND;TZID=America/Chicago:20260716T171500
DTSTAMP:20260422T194312
CREATED:20251224T120408Z
LAST-MODIFIED:20251224T120408Z
UID:10012512-1784218500-1784222100@murphysboro.com
SUMMARY:Yoga Class – Event Center
DESCRIPTION:
URL:https://murphysboro.com/event/yoga-class-event-center-46/2026-07-16/
CATEGORIES:Business,Sports
END:VEVENT
BEGIN:VEVENT
DTSTART;TZID=America/Chicago:20260723T161500
DTEND;TZID=America/Chicago:20260723T171500
DTSTAMP:20260422T194312
CREATED:20251224T120408Z
LAST-MODIFIED:20251224T120408Z
UID:10012513-1784823300-1784826900@murphysboro.com
SUMMARY:Yoga Class – Event Center
DESCRIPTION:
URL:https://murphysboro.com/event/yoga-class-event-center-46/2026-07-23/
CATEGORIES:Business,Sports
END:VEVENT
BEGIN:VEVENT
DTSTART;TZID=America/Chicago:20260730T161500
DTEND;TZID=America/Chicago:20260730T171500
DTSTAMP:20260422T194312
CREATED:20251224T120408Z
LAST-MODIFIED:20251224T120408Z
UID:10012514-1785428100-1785431700@murphysboro.com
SUMMARY:Yoga Class – Event Center
DESCRIPTION:
URL:https://murphysboro.com/event/yoga-class-event-center-46/2026-07-30/
CATEGORIES:Business,Sports
END:VEVENT
BEGIN:VEVENT
DTSTART;TZID=America/Chicago:20260806T161500
DTEND;TZID=America/Chicago:20260806T171500
DTSTAMP:20260422T194312
CREATED:20251224T120408Z
LAST-MODIFIED:20251224T120408Z
UID:10012515-1786032900-1786036500@murphysboro.com
SUMMARY:Yoga Class – Event Center
DESCRIPTION:
URL:https://murphysboro.com/event/yoga-class-event-center-46/2026-08-06/
CATEGORIES:Business,Sports
END:VEVENT
BEGIN:VEVENT
DTSTART;TZID=America/Chicago:20260813T161500
DTEND;TZID=America/Chicago:20260813T171500
DTSTAMP:20260422T194312
CREATED:20251224T120408Z
LAST-MODIFIED:20251224T120408Z
UID:10012516-1786637700-1786641300@murphysboro.com
SUMMARY:Yoga Class – Event Center
DESCRIPTION:
URL:https://murphysboro.com/event/yoga-class-event-center-46/2026-08-13/
CATEGORIES:Business,Sports
END:VEVENT
BEGIN:VEVENT
DTSTART;TZID=America/Chicago:20260820T161500
DTEND;TZID=America/Chicago:20260820T171500
DTSTAMP:20260422T194312
CREATED:20251224T120408Z
LAST-MODIFIED:20251224T120408Z
UID:10012517-1787242500-1787246100@murphysboro.com
SUMMARY:Yoga Class – Event Center
DESCRIPTION:
URL:https://murphysboro.com/event/yoga-class-event-center-46/2026-08-20/
CATEGORIES:Business,Sports
END:VEVENT
BEGIN:VEVENT
DTSTART;TZID=America/Chicago:20260827T161500
DTEND;TZID=America/Chicago:20260827T171500
DTSTAMP:20260422T194312
CREATED:20251224T120408Z
LAST-MODIFIED:20251224T120408Z
UID:10012518-1787847300-1787850900@murphysboro.com
SUMMARY:Yoga Class – Event Center
DESCRIPTION:
URL:https://murphysboro.com/event/yoga-class-event-center-46/2026-08-27/
CATEGORIES:Business,Sports
END:VEVENT
BEGIN:VEVENT
DTSTART;TZID=America/Chicago:20260903T161500
DTEND;TZID=America/Chicago:20260903T171500
DTSTAMP:20260422T194312
CREATED:20251224T120408Z
LAST-MODIFIED:20251224T120408Z
UID:10012519-1788452100-1788455700@murphysboro.com
SUMMARY:Yoga Class – Event Center
DESCRIPTION:
URL:https://murphysboro.com/event/yoga-class-event-center-46/2026-09-03/
CATEGORIES:Business,Sports
END:VEVENT
BEGIN:VEVENT
DTSTART;TZID=America/Chicago:20260910T161500
DTEND;TZID=America/Chicago:20260910T171500
DTSTAMP:20260422T194312
CREATED:20251224T120408Z
LAST-MODIFIED:20251224T120408Z
UID:10012520-1789056900-1789060500@murphysboro.com
SUMMARY:Yoga Class – Event Center
DESCRIPTION:
URL:https://murphysboro.com/event/yoga-class-event-center-46/2026-09-10/
CATEGORIES:Business,Sports
END:VEVENT
BEGIN:VEVENT
DTSTART;TZID=America/Chicago:20260917T161500
DTEND;TZID=America/Chicago:20260917T171500
DTSTAMP:20260422T194312
CREATED:20251224T120408Z
LAST-MODIFIED:20251224T120408Z
UID:10012521-1789661700-1789665300@murphysboro.com
SUMMARY:Yoga Class – Event Center
DESCRIPTION:
URL:https://murphysboro.com/event/yoga-class-event-center-46/2026-09-17/
CATEGORIES:Business,Sports
END:VEVENT
BEGIN:VEVENT
DTSTART;TZID=America/Chicago:20260924T161500
DTEND;TZID=America/Chicago:20260924T171500
DTSTAMP:20260422T194312
CREATED:20251224T120408Z
LAST-MODIFIED:20251224T120408Z
UID:10012522-1790266500-1790270100@murphysboro.com
SUMMARY:Yoga Class – Event Center
DESCRIPTION:
URL:https://murphysboro.com/event/yoga-class-event-center-46/2026-09-24/
CATEGORIES:Business,Sports
END:VEVENT
BEGIN:VEVENT
DTSTART;TZID=America/Chicago:20261001T161500
DTEND;TZID=America/Chicago:20261001T171500
DTSTAMP:20260422T194312
CREATED:20251224T120408Z
LAST-MODIFIED:20251224T120408Z
UID:10012523-1790871300-1790874900@murphysboro.com
SUMMARY:Yoga Class – Event Center
DESCRIPTION:
URL:https://murphysboro.com/event/yoga-class-event-center-46/2026-10-01/
CATEGORIES:Business,Sports
END:VEVENT
BEGIN:VEVENT
DTSTART;TZID=America/Chicago:20261008T161500
DTEND;TZID=America/Chicago:20261008T171500
DTSTAMP:20260422T194312
CREATED:20251224T120408Z
LAST-MODIFIED:20251224T120408Z
UID:10012524-1791476100-1791479700@murphysboro.com
SUMMARY:Yoga Class – Event Center
DESCRIPTION:
URL:https://murphysboro.com/event/yoga-class-event-center-46/2026-10-08/
CATEGORIES:Business,Sports
END:VEVENT
BEGIN:VEVENT
DTSTART;TZID=America/Chicago:20261015T161500
DTEND;TZID=America/Chicago:20261015T171500
DTSTAMP:20260422T194312
CREATED:20251224T120408Z
LAST-MODIFIED:20251224T120408Z
UID:10012525-1792080900-1792084500@murphysboro.com
SUMMARY:Yoga Class – Event Center
DESCRIPTION:
URL:https://murphysboro.com/event/yoga-class-event-center-46/2026-10-15/
CATEGORIES:Business,Sports
END:VEVENT
BEGIN:VEVENT
DTSTART;TZID=America/Chicago:20261022T161500
DTEND;TZID=America/Chicago:20261022T171500
DTSTAMP:20260422T194312
CREATED:20251224T120408Z
LAST-MODIFIED:20251224T120408Z
UID:10012526-1792685700-1792689300@murphysboro.com
SUMMARY:Yoga Class – Event Center
DESCRIPTION:
URL:https://murphysboro.com/event/yoga-class-event-center-46/2026-10-22/
CATEGORIES:Business,Sports
END:VEVENT
BEGIN:VEVENT
DTSTART;TZID=America/Chicago:20261029T161500
DTEND;TZID=America/Chicago:20261029T171500
DTSTAMP:20260422T194312
CREATED:20251224T120408Z
LAST-MODIFIED:20251224T120408Z
UID:10012527-1793290500-1793294100@murphysboro.com
SUMMARY:Yoga Class – Event Center
DESCRIPTION:
URL:https://murphysboro.com/event/yoga-class-event-center-46/2026-10-29/
CATEGORIES:Business,Sports
END:VEVENT
BEGIN:VEVENT
DTSTART;TZID=America/Chicago:20261105T161500
DTEND;TZID=America/Chicago:20261105T171500
DTSTAMP:20260422T194312
CREATED:20251224T120408Z
LAST-MODIFIED:20251224T120408Z
UID:10012528-1793895300-1793898900@murphysboro.com
SUMMARY:Yoga Class – Event Center
DESCRIPTION:
URL:https://murphysboro.com/event/yoga-class-event-center-46/2026-11-05/
CATEGORIES:Business,Sports
END:VEVENT
BEGIN:VEVENT
DTSTART;TZID=America/Chicago:20261112T161500
DTEND;TZID=America/Chicago:20261112T171500
DTSTAMP:20260422T194312
CREATED:20251224T120408Z
LAST-MODIFIED:20251224T120408Z
UID:10012529-1794500100-1794503700@murphysboro.com
SUMMARY:Yoga Class – Event Center
DESCRIPTION:
URL:https://murphysboro.com/event/yoga-class-event-center-46/2026-11-12/
CATEGORIES:Business,Sports
END:VEVENT
BEGIN:VEVENT
DTSTART;TZID=America/Chicago:20261119T161500
DTEND;TZID=America/Chicago:20261119T171500
DTSTAMP:20260422T194312
CREATED:20251224T120408Z
LAST-MODIFIED:20251224T120408Z
UID:10012530-1795104900-1795108500@murphysboro.com
SUMMARY:Yoga Class – Event Center
DESCRIPTION:
URL:https://murphysboro.com/event/yoga-class-event-center-46/2026-11-19/
CATEGORIES:Business,Sports
END:VEVENT
BEGIN:VEVENT
DTSTART;TZID=America/Chicago:20261126T161500
DTEND;TZID=America/Chicago:20261126T171500
DTSTAMP:20260422T194312
CREATED:20251224T120408Z
LAST-MODIFIED:20251224T120408Z
UID:10012531-1795709700-1795713300@murphysboro.com
SUMMARY:Yoga Class – Event Center
DESCRIPTION:
URL:https://murphysboro.com/event/yoga-class-event-center-46/2026-11-26/
CATEGORIES:Business,Sports
END:VEVENT
BEGIN:VEVENT
DTSTART;TZID=America/Chicago:20261203T161500
DTEND;TZID=America/Chicago:20261203T171500
DTSTAMP:20260422T194312
CREATED:20251224T120408Z
LAST-MODIFIED:20251224T120408Z
UID:10012532-1796314500-1796318100@murphysboro.com
SUMMARY:Yoga Class – Event Center
DESCRIPTION:
URL:https://murphysboro.com/event/yoga-class-event-center-46/2026-12-03/
CATEGORIES:Business,Sports
END:VEVENT
BEGIN:VEVENT
DTSTART;TZID=America/Chicago:20261210T161500
DTEND;TZID=America/Chicago:20261210T171500
DTSTAMP:20260422T194312
CREATED:20251224T120408Z
LAST-MODIFIED:20251224T120408Z
UID:10012533-1796919300-1796922900@murphysboro.com
SUMMARY:Yoga Class – Event Center
DESCRIPTION:
URL:https://murphysboro.com/event/yoga-class-event-center-46/2026-12-10/
CATEGORIES:Business,Sports
END:VEVENT
BEGIN:VEVENT
DTSTART;TZID=America/Chicago:20261217T161500
DTEND;TZID=America/Chicago:20261217T171500
DTSTAMP:20260422T194312
CREATED:20251224T120408Z
LAST-MODIFIED:20251224T120408Z
UID:10012534-1797524100-1797527700@murphysboro.com
SUMMARY:Yoga Class – Event Center
DESCRIPTION:
URL:https://murphysboro.com/event/yoga-class-event-center-46/2026-12-17/
CATEGORIES:Business,Sports
END:VEVENT
BEGIN:VEVENT
DTSTART;TZID=America/Chicago:20261224T161500
DTEND;TZID=America/Chicago:20261224T171500
DTSTAMP:20260422T194312
CREATED:20251224T120408Z
LAST-MODIFIED:20251224T120408Z
UID:10012535-1798128900-1798132500@murphysboro.com
SUMMARY:Yoga Class – Event Center
DESCRIPTION:
URL:https://murphysboro.com/event/yoga-class-event-center-46/2026-12-24/
CATEGORIES:Business,Sports
END:VEVENT
BEGIN:VEVENT
DTSTART;TZID=America/Chicago:20261231T161500
DTEND;TZID=America/Chicago:20261231T171500
DTSTAMP:20260422T194312
CREATED:20251224T120408Z
LAST-MODIFIED:20251224T120408Z
UID:10012536-1798733700-1798737300@murphysboro.com
SUMMARY:Yoga Class – Event Center
DESCRIPTION:
URL:https://murphysboro.com/event/yoga-class-event-center-46/2026-12-31/
CATEGORIES:Business,Sports
END:VEVENT
END:VCALENDAR