BEGIN:VCALENDAR
VERSION:2.0
PRODID:-//The City of Murphysboro - ECPv6.15.20//NONSGML v1.0//EN
CALSCALE:GREGORIAN
METHOD:PUBLISH
X-ORIGINAL-URL:https://murphysboro.com
X-WR-CALDESC:Events for The City of Murphysboro
REFRESH-INTERVAL;VALUE=DURATION:PT1H
X-Robots-Tag:noindex
X-PUBLISHED-TTL:PT1H
BEGIN:VTIMEZONE
TZID:America/Chicago
BEGIN:DAYLIGHT
TZOFFSETFROM:-0600
TZOFFSETTO:-0500
TZNAME:CDT
DTSTART:20250309T080000
END:DAYLIGHT
BEGIN:STANDARD
TZOFFSETFROM:-0500
TZOFFSETTO:-0600
TZNAME:CST
DTSTART:20251102T070000
END:STANDARD
BEGIN:DAYLIGHT
TZOFFSETFROM:-0600
TZOFFSETTO:-0500
TZNAME:CDT
DTSTART:20260308T080000
END:DAYLIGHT
BEGIN:STANDARD
TZOFFSETFROM:-0500
TZOFFSETTO:-0600
TZNAME:CST
DTSTART:20261101T070000
END:STANDARD
BEGIN:DAYLIGHT
TZOFFSETFROM:-0600
TZOFFSETTO:-0500
TZNAME:CDT
DTSTART:20270314T080000
END:DAYLIGHT
BEGIN:STANDARD
TZOFFSETFROM:-0500
TZOFFSETTO:-0600
TZNAME:CST
DTSTART:20271107T070000
END:STANDARD
END:VTIMEZONE
BEGIN:VEVENT
DTSTART;TZID=America/Chicago:20260330T080000
DTEND;TZID=America/Chicago:20260330T090000
DTSTAMP:20260421T101111
CREATED:20251222T122806Z
LAST-MODIFIED:20251222T122840Z
UID:10011084-1774857600-1774861200@murphysboro.com
SUMMARY:Exercise Class – Topp Shape
DESCRIPTION:
URL:https://murphysboro.com/event/exercise-class-topp-shape-15/2026-03-30/
CATEGORIES:Business,Educational,Sports
END:VEVENT
BEGIN:VEVENT
DTSTART;TZID=America/Chicago:20260330T100000
DTEND;TZID=America/Chicago:20260330T233000
DTSTAMP:20260421T101111
CREATED:20251222T193747Z
LAST-MODIFIED:20251222T193747Z
UID:10011188-1774864800-1774913400@murphysboro.com
SUMMARY:Gentle Flow – Yoga on the Block
DESCRIPTION:
URL:https://murphysboro.com/event/gentle-flow-yoga-on-the-block-6/2026-03-30/
LOCATION:Yoga on the Block\, 1330 Walnut Street\, Murphysboro\, IL\, 62966\, United States
END:VEVENT
BEGIN:VEVENT
DTSTART;TZID=America/Chicago:20260330T130000
DTEND;TZID=America/Chicago:20260330T140000
DTSTAMP:20260421T101111
CREATED:20251222T212705Z
LAST-MODIFIED:20251222T212705Z
UID:10011240-1774875600-1774879200@murphysboro.com
SUMMARY:Chair/Stand Yoga – Yoga on the Block
DESCRIPTION:
URL:https://murphysboro.com/event/chair-stand-yoga-yoga-on-the-block-3/2026-03-30/
LOCATION:Yoga on the Block\, 1330 Walnut Street\, Murphysboro\, IL\, 62966\, United States
CATEGORIES:Business,Educational,Sports
END:VEVENT
BEGIN:VEVENT
DTSTART;TZID=America/Chicago:20260330T170000
DTEND;TZID=America/Chicago:20260330T183000
DTSTAMP:20260421T101111
CREATED:20251222T215630Z
LAST-MODIFIED:20251222T215630Z
UID:10011293-1774890000-1774895400@murphysboro.com
SUMMARY:Exercise Class – Topp Shape
DESCRIPTION:
URL:https://murphysboro.com/event/exercise-class-topp-shape-16/2026-03-30/
CATEGORIES:Business,Educational,Sports
END:VEVENT
BEGIN:VEVENT
DTSTART;TZID=America/Chicago:20260330T170000
DTEND;TZID=America/Chicago:20260330T190000
DTSTAMP:20260421T101111
CREATED:20251222T215807Z
LAST-MODIFIED:20251222T215807Z
UID:10011345-1774890000-1774897200@murphysboro.com
SUMMARY:Jessie’s Table (dinner) – 724 Ministries
DESCRIPTION:
URL:https://murphysboro.com/event/jessies-table-dinner-724-ministries-4/2026-03-30/
LOCATION:724 Ministries\, 724 Walnut Street\, Murphysboro\, IL\, 62966\, United States
CATEGORIES:Business,Community Event
END:VEVENT
BEGIN:VEVENT
DTSTART;TZID=America/Chicago:20260330T180000
DTEND;TZID=America/Chicago:20260330T190000
DTSTAMP:20260421T101111
CREATED:20251222T220009Z
LAST-MODIFIED:20251222T220009Z
UID:10011397-1774893600-1774897200@murphysboro.com
SUMMARY:Mindful Movement – Yoga on the Block
DESCRIPTION:
URL:https://murphysboro.com/event/mindful-movement-yoga-on-the-block-3/2026-03-30/
LOCATION:Yoga on the Block\, 1330 Walnut Street\, Murphysboro\, IL\, 62966\, United States
CATEGORIES:Business,Educational,Sports
END:VEVENT
BEGIN:VEVENT
DTSTART;TZID=America/Chicago:20260330T180000
DTEND;TZID=America/Chicago:20260330T210000
DTSTAMP:20260421T101111
CREATED:20251222T220139Z
LAST-MODIFIED:20251222T220139Z
UID:10011449-1774893600-1774904400@murphysboro.com
SUMMARY:Weekly Monday Pokémon League – A2Z Trading Card Games
DESCRIPTION:
URL:https://murphysboro.com/event/weekly-monday-pokemon-league-a2z-trading-card-games-3/2026-03-30/
CATEGORIES:Business
END:VEVENT
END:VCALENDAR