BEGIN:VCALENDAR
VERSION:2.0
PRODID:-//The City of Murphysboro - ECPv6.15.20//NONSGML v1.0//EN
CALSCALE:GREGORIAN
METHOD:PUBLISH
X-WR-CALNAME:The City of Murphysboro
X-ORIGINAL-URL:https://murphysboro.com
X-WR-CALDESC:Events for The City of Murphysboro
REFRESH-INTERVAL;VALUE=DURATION:PT1H
X-Robots-Tag:noindex
X-PUBLISHED-TTL:PT1H
BEGIN:VTIMEZONE
TZID:America/Chicago
BEGIN:DAYLIGHT
TZOFFSETFROM:-0600
TZOFFSETTO:-0500
TZNAME:CDT
DTSTART:20240310T080000
END:DAYLIGHT
BEGIN:STANDARD
TZOFFSETFROM:-0500
TZOFFSETTO:-0600
TZNAME:CST
DTSTART:20241103T070000
END:STANDARD
BEGIN:DAYLIGHT
TZOFFSETFROM:-0600
TZOFFSETTO:-0500
TZNAME:CDT
DTSTART:20250309T080000
END:DAYLIGHT
BEGIN:STANDARD
TZOFFSETFROM:-0500
TZOFFSETTO:-0600
TZNAME:CST
DTSTART:20251102T070000
END:STANDARD
BEGIN:DAYLIGHT
TZOFFSETFROM:-0600
TZOFFSETTO:-0500
TZNAME:CDT
DTSTART:20260308T080000
END:DAYLIGHT
BEGIN:STANDARD
TZOFFSETFROM:-0500
TZOFFSETTO:-0600
TZNAME:CST
DTSTART:20261101T070000
END:STANDARD
BEGIN:DAYLIGHT
TZOFFSETFROM:-0600
TZOFFSETTO:-0500
TZNAME:CDT
DTSTART:20270314T080000
END:DAYLIGHT
BEGIN:STANDARD
TZOFFSETFROM:-0500
TZOFFSETTO:-0600
TZNAME:CST
DTSTART:20271107T070000
END:STANDARD
END:VTIMEZONE
BEGIN:VEVENT
DTSTART;TZID=America/Chicago:20260416T200000
DTEND;TZID=America/Chicago:20260416T220000
DTSTAMP:20260421T093927
CREATED:20251224T120940Z
LAST-MODIFIED:20251224T120940Z
UID:10012707-1776369600-1776376800@murphysboro.com
SUMMARY:Trivia Night – Brews Brothers Taproom
DESCRIPTION:
URL:https://murphysboro.com/event/trivia-night-brews-brothers-taproom-47/2026-04-16/
LOCATION:Brews Brothers Taproom\, 1105 Chestnut Street\, Murphysboro\, IL\, 62966\, United States
CATEGORIES:Business
END:VEVENT
BEGIN:VEVENT
DTSTART;TZID=America/Chicago:20260409T200000
DTEND;TZID=America/Chicago:20260409T220000
DTSTAMP:20260421T093927
CREATED:20251224T120940Z
LAST-MODIFIED:20251224T120940Z
UID:10012706-1775764800-1775772000@murphysboro.com
SUMMARY:Trivia Night – Brews Brothers Taproom
DESCRIPTION:
URL:https://murphysboro.com/event/trivia-night-brews-brothers-taproom-47/2026-04-09/
LOCATION:Brews Brothers Taproom\, 1105 Chestnut Street\, Murphysboro\, IL\, 62966\, United States
CATEGORIES:Business
END:VEVENT
BEGIN:VEVENT
DTSTART;TZID=America/Chicago:20260402T200000
DTEND;TZID=America/Chicago:20260402T220000
DTSTAMP:20260421T093927
CREATED:20251224T120940Z
LAST-MODIFIED:20251224T120940Z
UID:10012705-1775160000-1775167200@murphysboro.com
SUMMARY:Trivia Night – Brews Brothers Taproom
DESCRIPTION:
URL:https://murphysboro.com/event/trivia-night-brews-brothers-taproom-47/2026-04-02/
LOCATION:Brews Brothers Taproom\, 1105 Chestnut Street\, Murphysboro\, IL\, 62966\, United States
CATEGORIES:Business
END:VEVENT
BEGIN:VEVENT
DTSTART;TZID=America/Chicago:20260401T190000
DTEND;TZID=America/Chicago:20260401T210000
DTSTAMP:20260421T093927
CREATED:20260122T210732Z
LAST-MODIFIED:20260122T210732Z
UID:10013851-1775070000-1775077200@murphysboro.com
SUMMARY:Bluegrass at Brews – Brews Brothers Taproom
DESCRIPTION:
URL:https://murphysboro.com/event/bluegrass-at-brews-brews-brothers-taproom-6/2026-04-01/
LOCATION:Brews Brothers Taproom\, 1105 Chestnut Street\, Murphysboro\, IL\, 62966\, United States
CATEGORIES:Business,Concert
END:VEVENT
BEGIN:VEVENT
DTSTART;TZID=America/Chicago:20260327T190000
DTEND;TZID=America/Chicago:20260327T210000
DTSTAMP:20260421T093927
CREATED:20260303T121908Z
LAST-MODIFIED:20260303T121908Z
UID:10014022-1774638000-1774645200@murphysboro.com
SUMMARY:Puzzles and Pints - Brews Brothers Taproom
DESCRIPTION:
URL:https://murphysboro.com/event/puzzles-and-pints-brews-brothers-taproom/
LOCATION:Brews Brothers Taproom\, 1105 Chestnut Street\, Murphysboro\, IL\, 62966\, United States
CATEGORIES:Business,Educational
END:VEVENT
BEGIN:VEVENT
DTSTART;TZID=America/Chicago:20260326T200000
DTEND;TZID=America/Chicago:20260326T220000
DTSTAMP:20260421T093927
CREATED:20251224T120940Z
LAST-MODIFIED:20251224T120940Z
UID:10012704-1774555200-1774562400@murphysboro.com
SUMMARY:Trivia Night – Brews Brothers Taproom
DESCRIPTION:
URL:https://murphysboro.com/event/trivia-night-brews-brothers-taproom-47/2026-03-26/
LOCATION:Brews Brothers Taproom\, 1105 Chestnut Street\, Murphysboro\, IL\, 62966\, United States
CATEGORIES:Business
END:VEVENT
BEGIN:VEVENT
DTSTART;TZID=America/Chicago:20260319T200000
DTEND;TZID=America/Chicago:20260319T220000
DTSTAMP:20260421T093927
CREATED:20251224T120940Z
LAST-MODIFIED:20251224T120940Z
UID:10012703-1773950400-1773957600@murphysboro.com
SUMMARY:Trivia Night – Brews Brothers Taproom
DESCRIPTION:
URL:https://murphysboro.com/event/trivia-night-brews-brothers-taproom-47/2026-03-19/
LOCATION:Brews Brothers Taproom\, 1105 Chestnut Street\, Murphysboro\, IL\, 62966\, United States
CATEGORIES:Business
END:VEVENT
BEGIN:VEVENT
DTSTART;TZID=America/Chicago:20260314T120000
DTEND;TZID=America/Chicago:20260314T150000
DTSTAMP:20260421T093927
CREATED:20260213T225324Z
LAST-MODIFIED:20260213T225324Z
UID:10013965-1773489600-1773500400@murphysboro.com
SUMMARY:Live Music - Brews Brothers Taproom
DESCRIPTION:
URL:https://murphysboro.com/event/live-music-brews-brothers-taproom/
LOCATION:Brews Brothers Taproom\, 1105 Chestnut Street\, Murphysboro\, IL\, 62966\, United States
END:VEVENT
BEGIN:VEVENT
DTSTART;TZID=America/Chicago:20260314T090000
DTEND;TZID=America/Chicago:20260314T100000
DTSTAMP:20260421T093927
CREATED:20260213T195453Z
LAST-MODIFIED:20260213T195453Z
UID:10013962-1773478800-1773482400@murphysboro.com
SUMMARY:St. Patrick's Day Run/Walk - Brews Brothers Taproom
DESCRIPTION:
URL:https://murphysboro.com/event/st-patricks-day-run-walk-brews-brothers-taproom-2/
LOCATION:Brews Brothers Taproom\, 1105 Chestnut Street\, Murphysboro\, IL\, 62966\, United States
CATEGORIES:Business,Community Event,Notable event
END:VEVENT
BEGIN:VEVENT
DTSTART;TZID=America/Chicago:20260314T080000
DTEND;TZID=America/Chicago:20260314T220000
DTSTAMP:20260421T093927
CREATED:20260211T122615Z
LAST-MODIFIED:20260211T122615Z
UID:10013896-1773475200-1773525600@murphysboro.com
SUMMARY:St. Patrick’s Day Celebration – Brews Brothers Taproom
DESCRIPTION:
URL:https://murphysboro.com/event/st-patricks-day-celebration-brews-brothers-taproom-2/
LOCATION:Brews Brothers Taproom\, 1105 Chestnut Street\, Murphysboro\, IL\, 62966\, United States
CATEGORIES:Business,Community Event
END:VEVENT
BEGIN:VEVENT
DTSTART;TZID=America/Chicago:20260312T200000
DTEND;TZID=America/Chicago:20260312T220000
DTSTAMP:20260421T093927
CREATED:20251224T120940Z
LAST-MODIFIED:20251224T120940Z
UID:10012702-1773345600-1773352800@murphysboro.com
SUMMARY:Trivia Night – Brews Brothers Taproom
DESCRIPTION:
URL:https://murphysboro.com/event/trivia-night-brews-brothers-taproom-47/2026-03-12/
LOCATION:Brews Brothers Taproom\, 1105 Chestnut Street\, Murphysboro\, IL\, 62966\, United States
CATEGORIES:Business
END:VEVENT
BEGIN:VEVENT
DTSTART;TZID=America/Chicago:20260305T200000
DTEND;TZID=America/Chicago:20260305T220000
DTSTAMP:20260421T093927
CREATED:20251224T120940Z
LAST-MODIFIED:20251224T120940Z
UID:10012701-1772740800-1772748000@murphysboro.com
SUMMARY:Trivia Night – Brews Brothers Taproom
DESCRIPTION:
URL:https://murphysboro.com/event/trivia-night-brews-brothers-taproom-47/2026-03-05/
LOCATION:Brews Brothers Taproom\, 1105 Chestnut Street\, Murphysboro\, IL\, 62966\, United States
CATEGORIES:Business
END:VEVENT
BEGIN:VEVENT
DTSTART;TZID=America/Chicago:20260304T190000
DTEND;TZID=America/Chicago:20260304T210000
DTSTAMP:20260421T093927
CREATED:20260122T210732Z
LAST-MODIFIED:20260122T210732Z
UID:10013850-1772650800-1772658000@murphysboro.com
SUMMARY:Bluegrass at Brews – Brews Brothers Taproom
DESCRIPTION:
URL:https://murphysboro.com/event/bluegrass-at-brews-brews-brothers-taproom-6/2026-03-04/
LOCATION:Brews Brothers Taproom\, 1105 Chestnut Street\, Murphysboro\, IL\, 62966\, United States
CATEGORIES:Business,Concert
END:VEVENT
BEGIN:VEVENT
DTSTART;TZID=America/Chicago:20260226T200000
DTEND;TZID=America/Chicago:20260226T220000
DTSTAMP:20260421T093927
CREATED:20251224T120940Z
LAST-MODIFIED:20251224T120940Z
UID:10012700-1772136000-1772143200@murphysboro.com
SUMMARY:Trivia Night – Brews Brothers Taproom
DESCRIPTION:
URL:https://murphysboro.com/event/trivia-night-brews-brothers-taproom-47/2026-02-26/
LOCATION:Brews Brothers Taproom\, 1105 Chestnut Street\, Murphysboro\, IL\, 62966\, United States
CATEGORIES:Business
END:VEVENT
BEGIN:VEVENT
DTSTART;TZID=America/Chicago:20260220T190000
DTEND;TZID=America/Chicago:20260220T220000
DTSTAMP:20260421T093927
CREATED:20260211T142847Z
LAST-MODIFIED:20260211T142847Z
UID:10013953-1771614000-1771624800@murphysboro.com
SUMMARY:Rock N Roll Trivia Night – Brews Brothers Taproom
DESCRIPTION:
URL:https://murphysboro.com/event/rock-n-roll-trivia-night-brews-brothers-taproom/
LOCATION:Brews Brothers Taproom\, 1105 Chestnut Street\, Murphysboro\, IL\, 62966\, United States
CATEGORIES:Business
END:VEVENT
BEGIN:VEVENT
DTSTART;TZID=America/Chicago:20260219T200000
DTEND;TZID=America/Chicago:20260219T220000
DTSTAMP:20260421T093927
CREATED:20251224T120940Z
LAST-MODIFIED:20251224T120940Z
UID:10012699-1771531200-1771538400@murphysboro.com
SUMMARY:Trivia Night – Brews Brothers Taproom
DESCRIPTION:
URL:https://murphysboro.com/event/trivia-night-brews-brothers-taproom-47/2026-02-19/
LOCATION:Brews Brothers Taproom\, 1105 Chestnut Street\, Murphysboro\, IL\, 62966\, United States
CATEGORIES:Business
END:VEVENT
BEGIN:VEVENT
DTSTART;TZID=America/Chicago:20260214T160000
DTEND;TZID=America/Chicago:20260214T220000
DTSTAMP:20260421T093927
CREATED:20260122T211035Z
LAST-MODIFIED:20260122T211035Z
UID:10013860-1771084800-1771106400@murphysboro.com
SUMMARY:Valentine's Day on Chestnut - Brews Brothers Taproom
DESCRIPTION:
URL:https://murphysboro.com/event/valentines-day-on-chestnut-brews-brothers-taproom/
LOCATION:Brews Brothers Taproom\, 1105 Chestnut Street\, Murphysboro\, IL\, 62966\, United States
CATEGORIES:Business,Concert,Festival
END:VEVENT
BEGIN:VEVENT
DTSTART;TZID=America/Chicago:20260212T200000
DTEND;TZID=America/Chicago:20260212T220000
DTSTAMP:20260421T093927
CREATED:20251224T120940Z
LAST-MODIFIED:20251224T120940Z
UID:10012698-1770926400-1770933600@murphysboro.com
SUMMARY:Trivia Night – Brews Brothers Taproom
DESCRIPTION:
URL:https://murphysboro.com/event/trivia-night-brews-brothers-taproom-47/2026-02-12/
LOCATION:Brews Brothers Taproom\, 1105 Chestnut Street\, Murphysboro\, IL\, 62966\, United States
CATEGORIES:Business
END:VEVENT
BEGIN:VEVENT
DTSTART;TZID=America/Chicago:20260207T190000
DTEND;TZID=America/Chicago:20260207T220000
DTSTAMP:20260421T093927
CREATED:20260122T210447Z
LAST-MODIFIED:20260122T210447Z
UID:10013847-1770490800-1770501600@murphysboro.com
SUMMARY:Live Music/Mardi Gras - Brews Brothers Taproom
DESCRIPTION:
URL:https://murphysboro.com/event/live-music-mardi-gras-brews-brothers-taproom/
LOCATION:Brews Brothers Taproom\, 1105 Chestnut Street\, Murphysboro\, IL\, 62966\, United States
CATEGORIES:Business,Concert,Festival
END:VEVENT
BEGIN:VEVENT
DTSTART;TZID=America/Chicago:20260205T200000
DTEND;TZID=America/Chicago:20260205T220000
DTSTAMP:20260421T093927
CREATED:20251224T120940Z
LAST-MODIFIED:20251224T120940Z
UID:10012697-1770321600-1770328800@murphysboro.com
SUMMARY:Trivia Night – Brews Brothers Taproom
DESCRIPTION:
URL:https://murphysboro.com/event/trivia-night-brews-brothers-taproom-47/2026-02-05/
LOCATION:Brews Brothers Taproom\, 1105 Chestnut Street\, Murphysboro\, IL\, 62966\, United States
CATEGORIES:Business
END:VEVENT
BEGIN:VEVENT
DTSTART;TZID=America/Chicago:20260204T190000
DTEND;TZID=America/Chicago:20260204T210000
DTSTAMP:20260421T093927
CREATED:20260122T210732Z
LAST-MODIFIED:20260122T210732Z
UID:10013849-1770231600-1770238800@murphysboro.com
SUMMARY:Bluegrass at Brews – Brews Brothers Taproom
DESCRIPTION:
URL:https://murphysboro.com/event/bluegrass-at-brews-brews-brothers-taproom-6/2026-02-04/
LOCATION:Brews Brothers Taproom\, 1105 Chestnut Street\, Murphysboro\, IL\, 62966\, United States
CATEGORIES:Business,Concert
END:VEVENT
BEGIN:VEVENT
DTSTART;TZID=America/Chicago:20260129T200000
DTEND;TZID=America/Chicago:20260129T220000
DTSTAMP:20260421T093927
CREATED:20251224T120940Z
LAST-MODIFIED:20251224T120940Z
UID:10012696-1769716800-1769724000@murphysboro.com
SUMMARY:Trivia Night – Brews Brothers Taproom
DESCRIPTION:
URL:https://murphysboro.com/event/trivia-night-brews-brothers-taproom-47/2026-01-29/
LOCATION:Brews Brothers Taproom\, 1105 Chestnut Street\, Murphysboro\, IL\, 62966\, United States
CATEGORIES:Business
END:VEVENT
BEGIN:VEVENT
DTSTART;TZID=America/Chicago:20260122T200000
DTEND;TZID=America/Chicago:20260122T220000
DTSTAMP:20260421T093927
CREATED:20251224T120940Z
LAST-MODIFIED:20251224T120940Z
UID:10012695-1769112000-1769119200@murphysboro.com
SUMMARY:Trivia Night – Brews Brothers Taproom
DESCRIPTION:
URL:https://murphysboro.com/event/trivia-night-brews-brothers-taproom-47/2026-01-22/
LOCATION:Brews Brothers Taproom\, 1105 Chestnut Street\, Murphysboro\, IL\, 62966\, United States
CATEGORIES:Business
END:VEVENT
BEGIN:VEVENT
DTSTART;TZID=America/Chicago:20260115T200000
DTEND;TZID=America/Chicago:20260115T220000
DTSTAMP:20260421T093927
CREATED:20251224T120940Z
LAST-MODIFIED:20251224T120940Z
UID:10012694-1768507200-1768514400@murphysboro.com
SUMMARY:Trivia Night – Brews Brothers Taproom
DESCRIPTION:
URL:https://murphysboro.com/event/trivia-night-brews-brothers-taproom-47/2026-01-15/
LOCATION:Brews Brothers Taproom\, 1105 Chestnut Street\, Murphysboro\, IL\, 62966\, United States
CATEGORIES:Business
END:VEVENT
BEGIN:VEVENT
DTSTART;TZID=America/Chicago:20260108T200000
DTEND;TZID=America/Chicago:20260108T220000
DTSTAMP:20260421T093927
CREATED:20251222T031357Z
LAST-MODIFIED:20251222T031357Z
UID:10011050-1767902400-1767909600@murphysboro.com
SUMMARY:Trivia Night – Brews Brothers Taproom
DESCRIPTION:
URL:https://murphysboro.com/event/trivia-night-brews-brothers-taproom-46/
LOCATION:Brews Brothers Taproom\, 1105 Chestnut Street\, Murphysboro\, IL\, 62966\, United States
CATEGORIES:Business
END:VEVENT
BEGIN:VEVENT
DTSTART;TZID=America/Chicago:20251223T190000
DTEND;TZID=America/Chicago:20251223T220000
DTSTAMP:20260421T093927
CREATED:20251222T222006Z
LAST-MODIFIED:20251222T222006Z
UID:10011493-1766516400-1766527200@murphysboro.com
SUMMARY:Live Music - Brews Brothers Taproom
DESCRIPTION:
URL:https://murphysboro.com/event/live-music-brews-brothers-taproom-6/
LOCATION:Brews Brothers Taproom\, 1105 Chestnut Street\, Murphysboro\, IL\, 62966\, United States
CATEGORIES:Business,Concert
END:VEVENT
BEGIN:VEVENT
DTSTART;TZID=America/Chicago:20251212T190000
DTEND;TZID=America/Chicago:20251212T220000
DTSTAMP:20260421T093927
CREATED:20251124T123102Z
LAST-MODIFIED:20251124T123102Z
UID:10010587-1765566000-1765576800@murphysboro.com
SUMMARY:Live Music - Brews Brothers Taproom
DESCRIPTION:
URL:https://murphysboro.com/event/live-music-brews-brothers-taproom-4/
LOCATION:Brews Brothers Taproom\, 1105 Chestnut Street\, Murphysboro\, IL\, 62966\, United States
CATEGORIES:Business,Concert
END:VEVENT
BEGIN:VEVENT
DTSTART;TZID=America/Chicago:20251126T190000
DTEND;TZID=America/Chicago:20251126T220000
DTSTAMP:20260421T093927
CREATED:20251021T122729Z
LAST-MODIFIED:20251021T122729Z
UID:10010461-1764183600-1764194400@murphysboro.com
SUMMARY:Blackout Wednesday - Brews Brothers Taproom
DESCRIPTION:
URL:https://murphysboro.com/event/blackout-wednesday-brews-brothers-taproom/
LOCATION:Brews Brothers Taproom\, 1105 Chestnut Street\, Murphysboro\, IL\, 62966\, United States
CATEGORIES:Business,Concert
END:VEVENT
BEGIN:VEVENT
DTSTART;TZID=America/Chicago:20251121T180000
DTEND;TZID=America/Chicago:20251121T220000
DTSTAMP:20260421T093927
CREATED:20251117T033040Z
LAST-MODIFIED:20251117T033040Z
UID:10010570-1763748000-1763762400@murphysboro.com
SUMMARY:Pints for Polio | Live Music - Brews Brothers Taproom
DESCRIPTION:
URL:https://murphysboro.com/event/pints-for-polio-live-music-brews-brothers-taproom/
LOCATION:Brews Brothers Taproom\, 1105 Chestnut Street\, Murphysboro\, IL\, 62966\, United States
CATEGORIES:Business,Concert,Fundraiser
END:VEVENT
BEGIN:VEVENT
DTSTART;TZID=America/Chicago:20251113T190000
DTEND;TZID=America/Chicago:20251113T210000
DTSTAMP:20260421T093927
CREATED:20251107T121203Z
LAST-MODIFIED:20251107T121203Z
UID:10010515-1763060400-1763067600@murphysboro.com
SUMMARY:Bibles and Brews - Brews Brothers Taproom
DESCRIPTION:
URL:https://murphysboro.com/event/bibles-and-brews-brews-brothers-taproom/
LOCATION:Brews Brothers Taproom\, 1105 Chestnut Street\, Murphysboro\, IL\, 62966\, United States
CATEGORIES:Business,Educational
END:VEVENT
END:VCALENDAR