BEGIN:VCALENDAR
VERSION:2.0
PRODID:-//The City of Murphysboro - ECPv6.15.20//NONSGML v1.0//EN
CALSCALE:GREGORIAN
METHOD:PUBLISH
X-WR-CALNAME:The City of Murphysboro
X-ORIGINAL-URL:https://murphysboro.com
X-WR-CALDESC:Events for The City of Murphysboro
REFRESH-INTERVAL;VALUE=DURATION:PT1H
X-Robots-Tag:noindex
X-PUBLISHED-TTL:PT1H
BEGIN:VTIMEZONE
TZID:UTC
BEGIN:STANDARD
TZOFFSETFROM:+0000
TZOFFSETTO:+0000
TZNAME:UTC
DTSTART:20250101T000000
END:STANDARD
END:VTIMEZONE
BEGIN:VEVENT
DTSTART;VALUE=DATE:20260521
DTEND;VALUE=DATE:20260522
DTSTAMP:20260424T190011
CREATED:20230222T155410Z
LAST-MODIFIED:20230511T121836Z
UID:10003024-1779321600-1779407999@murphysboro.com
SUMMARY:Murphysboro was named BBQ Capital of Illinois today in 2015
DESCRIPTION:
URL:https://murphysboro.com/event/trivia-night-brews-brothers-taproom-39/2026-05-21/
CATEGORIES:Notable event
END:VEVENT
BEGIN:VEVENT
DTSTART;VALUE=DATE:20270521
DTEND;VALUE=DATE:20270522
DTSTAMP:20260424T190011
CREATED:20230222T155410Z
LAST-MODIFIED:20230511T121836Z
UID:10003025-1810857600-1810943999@murphysboro.com
SUMMARY:Murphysboro was named BBQ Capital of Illinois today in 2015
DESCRIPTION:
URL:https://murphysboro.com/event/trivia-night-brews-brothers-taproom-39/2027-05-21/
CATEGORIES:Notable event
END:VEVENT
END:VCALENDAR