BEGIN:VCALENDAR
VERSION:2.0
PRODID:-//The City of Murphysboro - ECPv6.15.20//NONSGML v1.0//EN
CALSCALE:GREGORIAN
METHOD:PUBLISH
X-ORIGINAL-URL:https://murphysboro.com
X-WR-CALDESC:Events for The City of Murphysboro
REFRESH-INTERVAL;VALUE=DURATION:PT1H
X-Robots-Tag:noindex
X-PUBLISHED-TTL:PT1H
BEGIN:VTIMEZONE
TZID:America/Chicago
BEGIN:DAYLIGHT
TZOFFSETFROM:-0600
TZOFFSETTO:-0500
TZNAME:CDT
DTSTART:20250309T080000
END:DAYLIGHT
BEGIN:STANDARD
TZOFFSETFROM:-0500
TZOFFSETTO:-0600
TZNAME:CST
DTSTART:20251102T070000
END:STANDARD
BEGIN:DAYLIGHT
TZOFFSETFROM:-0600
TZOFFSETTO:-0500
TZNAME:CDT
DTSTART:20260308T080000
END:DAYLIGHT
BEGIN:STANDARD
TZOFFSETFROM:-0500
TZOFFSETTO:-0600
TZNAME:CST
DTSTART:20261101T070000
END:STANDARD
BEGIN:DAYLIGHT
TZOFFSETFROM:-0600
TZOFFSETTO:-0500
TZNAME:CDT
DTSTART:20270314T080000
END:DAYLIGHT
BEGIN:STANDARD
TZOFFSETFROM:-0500
TZOFFSETTO:-0600
TZNAME:CST
DTSTART:20271107T070000
END:STANDARD
END:VTIMEZONE
BEGIN:VTIMEZONE
TZID:UTC
BEGIN:STANDARD
TZOFFSETFROM:+0000
TZOFFSETTO:+0000
TZNAME:UTC
DTSTART:20250101T000000
END:STANDARD
END:VTIMEZONE
BEGIN:VEVENT
DTSTART;VALUE=DATE:20260425
DTEND;VALUE=DATE:20260427
DTSTAMP:20260421T123309
CREATED:20251021T115700Z
LAST-MODIFIED:20260307T131647Z
UID:10010455-1777075200-1777247999@murphysboro.com
SUMMARY:Cinemaclique Film Festival - The Liberty Theater
DESCRIPTION:
URL:https://murphysboro.com/event/cinemaclique-film-festival-the-liberty-theater/
LOCATION:The Liberty Theater\, 1333 Walnut Street\, Murphysboro\, IL\, 62966\, United States
CATEGORIES:Arts | Culture,Business,Festival
END:VEVENT
BEGIN:VEVENT
DTSTART;TZID=UTC:20260425T100000
DTEND;TZID=UTC:20260425T170000
DTSTAMP:20260421T123309
CREATED:20260128T115500Z
LAST-MODIFIED:20260128T115500Z
UID:10013872-1777111200-1777136400@murphysboro.com
SUMMARY:Oak Street Art Fair - Oak Street
DESCRIPTION:
URL:https://murphysboro.com/event/oak-street-art-fair-oak-street-2/
LOCATION:IL
CATEGORIES:Arts | Culture,Community Event
END:VEVENT
BEGIN:VEVENT
DTSTART;TZID=America/Chicago:20260425T110000
DTEND;TZID=America/Chicago:20260425T120000
DTSTAMP:20260421T123309
CREATED:20260417T122830Z
LAST-MODIFIED:20260417T122830Z
UID:10014162-1777114800-1777118400@murphysboro.com
SUMMARY:Bookmark Embroidery - Sallie Logan Library
DESCRIPTION:
URL:https://murphysboro.com/event/bookmark-embroidery-sallie-logan-library/
LOCATION:Sallie Logan Library\, 1808 Walnut Street\, Murphysboro\, IL\, 62966\, United States
CATEGORIES:Arts | Culture,Business,Educational
END:VEVENT
BEGIN:VEVENT
DTSTART;TZID=America/Chicago:20260502T100000
DTEND;TZID=America/Chicago:20260502T170000
DTSTAMP:20260421T123309
CREATED:20260323T125352Z
LAST-MODIFIED:20260323T125352Z
UID:10014074-1777716000-1777741200@murphysboro.com
SUMMARY:Shawnee Hills Pottery Trail
DESCRIPTION:
URL:https://murphysboro.com/event/shawnee-hills-pottery-trail-2/2026-05-02/
LOCATION:IL
CATEGORIES:Community Event,Educational
END:VEVENT
BEGIN:VEVENT
DTSTART;TZID=America/Chicago:20260503T100000
DTEND;TZID=America/Chicago:20260503T170000
DTSTAMP:20260421T123309
CREATED:20260323T125352Z
LAST-MODIFIED:20260323T125352Z
UID:10014075-1777802400-1777827600@murphysboro.com
SUMMARY:Shawnee Hills Pottery Trail
DESCRIPTION:
URL:https://murphysboro.com/event/shawnee-hills-pottery-trail-2/2026-05-03/
LOCATION:IL
CATEGORIES:Community Event,Educational
END:VEVENT
BEGIN:VEVENT
DTSTART;TZID=America/Chicago:20260516T190000
DTEND;TZID=America/Chicago:20260516T220000
DTSTAMP:20260421T123309
CREATED:20260412T231128Z
LAST-MODIFIED:20260412T231128Z
UID:10014148-1778958000-1778968800@murphysboro.com
SUMMARY:"Cemetery Man" Movie - The Liberty Theater
DESCRIPTION:
URL:https://murphysboro.com/event/cemetery-man-movie-the-liberty-theater/
LOCATION:The Liberty Theater\, 1333 Walnut Street\, Murphysboro\, IL\, 62966\, United States
CATEGORIES:Arts | Culture,Business
END:VEVENT
END:VCALENDAR