BEGIN:VCALENDAR
VERSION:2.0
PRODID:-//The City of Murphysboro - ECPv6.15.20//NONSGML v1.0//EN
CALSCALE:GREGORIAN
METHOD:PUBLISH
X-ORIGINAL-URL:https://murphysboro.com
X-WR-CALDESC:Events for The City of Murphysboro
REFRESH-INTERVAL;VALUE=DURATION:PT1H
X-Robots-Tag:noindex
X-PUBLISHED-TTL:PT1H
BEGIN:VTIMEZONE
TZID:America/Chicago
BEGIN:DAYLIGHT
TZOFFSETFROM:-0600
TZOFFSETTO:-0500
TZNAME:CDT
DTSTART:20250309T080000
END:DAYLIGHT
BEGIN:STANDARD
TZOFFSETFROM:-0500
TZOFFSETTO:-0600
TZNAME:CST
DTSTART:20251102T070000
END:STANDARD
BEGIN:DAYLIGHT
TZOFFSETFROM:-0600
TZOFFSETTO:-0500
TZNAME:CDT
DTSTART:20260308T080000
END:DAYLIGHT
BEGIN:STANDARD
TZOFFSETFROM:-0500
TZOFFSETTO:-0600
TZNAME:CST
DTSTART:20261101T070000
END:STANDARD
BEGIN:DAYLIGHT
TZOFFSETFROM:-0600
TZOFFSETTO:-0500
TZNAME:CDT
DTSTART:20270314T080000
END:DAYLIGHT
BEGIN:STANDARD
TZOFFSETFROM:-0500
TZOFFSETTO:-0600
TZNAME:CST
DTSTART:20271107T070000
END:STANDARD
END:VTIMEZONE
BEGIN:VEVENT
DTSTART;TZID=America/Chicago:20260718T150000
DTEND;TZID=America/Chicago:20260718T200000
DTSTAMP:20260421T122833
CREATED:20251226T120431Z
LAST-MODIFIED:20251226T120431Z
UID:10013180-1784386800-1784404800@murphysboro.com
SUMMARY:Pokémon Open Play and Trade – A2Z Trading Card Games
DESCRIPTION:
URL:https://murphysboro.com/event/pokemon-open-play-and-trade-a2z-trading-card-games-3/2026-07-18/
LOCATION:A2Z Trading Card Games\, 1003 Chestnut Street\, Murphysboro\, IL\, 62966\, United States
CATEGORIES:Business,Educational
END:VEVENT
BEGIN:VEVENT
DTSTART;TZID=America/Chicago:20260719T170000
DTEND;TZID=America/Chicago:20260719T210000
DTSTAMP:20260421T122833
CREATED:20251223T010142Z
LAST-MODIFIED:20251223T010142Z
UID:10011574-1784480400-1784494800@murphysboro.com
SUMMARY:Weekly Sunday Pokémon League – A2Z Trading Card Games
DESCRIPTION:
URL:https://murphysboro.com/event/weekly-sunday-pokemon-league-a2z-trading-card-games-3/2026-07-19/
LOCATION:IL
CATEGORIES:Business,Educational
END:VEVENT
BEGIN:VEVENT
DTSTART;TZID=America/Chicago:20260720T180000
DTEND;TZID=America/Chicago:20260720T210000
DTSTAMP:20260421T122833
CREATED:20251222T220139Z
LAST-MODIFIED:20251222T220139Z
UID:10011465-1784570400-1784581200@murphysboro.com
SUMMARY:Weekly Monday Pokémon League – A2Z Trading Card Games
DESCRIPTION:
URL:https://murphysboro.com/event/weekly-monday-pokemon-league-a2z-trading-card-games-3/2026-07-20/
LOCATION:IL
CATEGORIES:Business
END:VEVENT
BEGIN:VEVENT
DTSTART;TZID=America/Chicago:20260721T180000
DTEND;TZID=America/Chicago:20260721T210000
DTSTAMP:20260421T122833
CREATED:20251223T121812Z
LAST-MODIFIED:20251223T121812Z
UID:10011889-1784656800-1784667600@murphysboro.com
SUMMARY:Weekly Advanced Format Yugioh – A2Z Trading Card Games
DESCRIPTION:
URL:https://murphysboro.com/event/weekly-advanced-format-yugioh-a2z-trading-card-games-3/2026-07-21/
LOCATION:IL
CATEGORIES:Business,Educational
END:VEVENT
BEGIN:VEVENT
DTSTART;TZID=America/Chicago:20260723T180000
DTEND;TZID=America/Chicago:20260723T210000
DTSTAMP:20260421T122833
CREATED:20251222T193308Z
LAST-MODIFIED:20251222T193308Z
UID:10011154-1784829600-1784840400@murphysboro.com
SUMMARY:Weekly Yugioh Genesys Format Tournament - A2Z Trading Card Games
DESCRIPTION:
URL:https://murphysboro.com/event/weekly-yugioh-genesys-format-tournament-a2z-trading-card-games/2026-07-23/
LOCATION:A2Z Trading Card Games\, 1003 Chestnut Street\, Murphysboro\, IL\, 62966\, United States
CATEGORIES:Business,Educational
END:VEVENT
BEGIN:VEVENT
DTSTART;TZID=America/Chicago:20260724T180000
DTEND;TZID=America/Chicago:20260724T220000
DTSTAMP:20260421T122833
CREATED:20251225T121452Z
LAST-MODIFIED:20251225T121452Z
UID:10012977-1784916000-1784930400@murphysboro.com
SUMMARY:Standard FNM – A2Z Trading Card Games
DESCRIPTION:
URL:https://murphysboro.com/event/standard-fnm-a2z-trading-card-games-3/2026-07-24/
LOCATION:A2Z Trading Card Games\, 1003 Chestnut Street\, Murphysboro\, IL\, 62966\, United States
CATEGORIES:Business
END:VEVENT
BEGIN:VEVENT
DTSTART;TZID=America/Chicago:20260725T150000
DTEND;TZID=America/Chicago:20260725T200000
DTSTAMP:20260421T122833
CREATED:20251226T120431Z
LAST-MODIFIED:20251226T120431Z
UID:10013181-1784991600-1785009600@murphysboro.com
SUMMARY:Pokémon Open Play and Trade – A2Z Trading Card Games
DESCRIPTION:
URL:https://murphysboro.com/event/pokemon-open-play-and-trade-a2z-trading-card-games-3/2026-07-25/
LOCATION:A2Z Trading Card Games\, 1003 Chestnut Street\, Murphysboro\, IL\, 62966\, United States
CATEGORIES:Business,Educational
END:VEVENT
BEGIN:VEVENT
DTSTART;TZID=America/Chicago:20260726T170000
DTEND;TZID=America/Chicago:20260726T210000
DTSTAMP:20260421T122833
CREATED:20251223T010142Z
LAST-MODIFIED:20251223T010142Z
UID:10011575-1785085200-1785099600@murphysboro.com
SUMMARY:Weekly Sunday Pokémon League – A2Z Trading Card Games
DESCRIPTION:
URL:https://murphysboro.com/event/weekly-sunday-pokemon-league-a2z-trading-card-games-3/2026-07-26/
LOCATION:IL
CATEGORIES:Business,Educational
END:VEVENT
BEGIN:VEVENT
DTSTART;TZID=America/Chicago:20260727T180000
DTEND;TZID=America/Chicago:20260727T210000
DTSTAMP:20260421T122833
CREATED:20251222T220139Z
LAST-MODIFIED:20251222T220139Z
UID:10011466-1785175200-1785186000@murphysboro.com
SUMMARY:Weekly Monday Pokémon League – A2Z Trading Card Games
DESCRIPTION:
URL:https://murphysboro.com/event/weekly-monday-pokemon-league-a2z-trading-card-games-3/2026-07-27/
LOCATION:IL
CATEGORIES:Business
END:VEVENT
BEGIN:VEVENT
DTSTART;TZID=America/Chicago:20260728T180000
DTEND;TZID=America/Chicago:20260728T210000
DTSTAMP:20260421T122833
CREATED:20251223T121812Z
LAST-MODIFIED:20251223T121812Z
UID:10011890-1785261600-1785272400@murphysboro.com
SUMMARY:Weekly Advanced Format Yugioh – A2Z Trading Card Games
DESCRIPTION:
URL:https://murphysboro.com/event/weekly-advanced-format-yugioh-a2z-trading-card-games-3/2026-07-28/
LOCATION:IL
CATEGORIES:Business,Educational
END:VEVENT
BEGIN:VEVENT
DTSTART;TZID=America/Chicago:20260730T180000
DTEND;TZID=America/Chicago:20260730T210000
DTSTAMP:20260421T122833
CREATED:20251222T193308Z
LAST-MODIFIED:20251222T193308Z
UID:10011155-1785434400-1785445200@murphysboro.com
SUMMARY:Weekly Yugioh Genesys Format Tournament - A2Z Trading Card Games
DESCRIPTION:
URL:https://murphysboro.com/event/weekly-yugioh-genesys-format-tournament-a2z-trading-card-games/2026-07-30/
LOCATION:A2Z Trading Card Games\, 1003 Chestnut Street\, Murphysboro\, IL\, 62966\, United States
CATEGORIES:Business,Educational
END:VEVENT
BEGIN:VEVENT
DTSTART;TZID=America/Chicago:20260731T180000
DTEND;TZID=America/Chicago:20260731T220000
DTSTAMP:20260421T122833
CREATED:20251225T121452Z
LAST-MODIFIED:20251225T121452Z
UID:10012978-1785520800-1785535200@murphysboro.com
SUMMARY:Standard FNM – A2Z Trading Card Games
DESCRIPTION:
URL:https://murphysboro.com/event/standard-fnm-a2z-trading-card-games-3/2026-07-31/
LOCATION:A2Z Trading Card Games\, 1003 Chestnut Street\, Murphysboro\, IL\, 62966\, United States
CATEGORIES:Business
END:VEVENT
BEGIN:VEVENT
DTSTART;TZID=America/Chicago:20260801T150000
DTEND;TZID=America/Chicago:20260801T200000
DTSTAMP:20260421T122833
CREATED:20251226T120431Z
LAST-MODIFIED:20251226T120431Z
UID:10013182-1785596400-1785614400@murphysboro.com
SUMMARY:Pokémon Open Play and Trade – A2Z Trading Card Games
DESCRIPTION:
URL:https://murphysboro.com/event/pokemon-open-play-and-trade-a2z-trading-card-games-3/2026-08-01/
LOCATION:A2Z Trading Card Games\, 1003 Chestnut Street\, Murphysboro\, IL\, 62966\, United States
CATEGORIES:Business,Educational
END:VEVENT
BEGIN:VEVENT
DTSTART;TZID=America/Chicago:20260802T170000
DTEND;TZID=America/Chicago:20260802T210000
DTSTAMP:20260421T122833
CREATED:20251223T010142Z
LAST-MODIFIED:20251223T010142Z
UID:10011576-1785690000-1785704400@murphysboro.com
SUMMARY:Weekly Sunday Pokémon League – A2Z Trading Card Games
DESCRIPTION:
URL:https://murphysboro.com/event/weekly-sunday-pokemon-league-a2z-trading-card-games-3/2026-08-02/
LOCATION:IL
CATEGORIES:Business,Educational
END:VEVENT
BEGIN:VEVENT
DTSTART;TZID=America/Chicago:20260803T180000
DTEND;TZID=America/Chicago:20260803T210000
DTSTAMP:20260421T122833
CREATED:20251222T220139Z
LAST-MODIFIED:20251222T220139Z
UID:10011467-1785780000-1785790800@murphysboro.com
SUMMARY:Weekly Monday Pokémon League – A2Z Trading Card Games
DESCRIPTION:
URL:https://murphysboro.com/event/weekly-monday-pokemon-league-a2z-trading-card-games-3/2026-08-03/
LOCATION:IL
CATEGORIES:Business
END:VEVENT
BEGIN:VEVENT
DTSTART;TZID=America/Chicago:20260804T180000
DTEND;TZID=America/Chicago:20260804T210000
DTSTAMP:20260421T122833
CREATED:20251223T121812Z
LAST-MODIFIED:20251223T121812Z
UID:10011891-1785866400-1785877200@murphysboro.com
SUMMARY:Weekly Advanced Format Yugioh – A2Z Trading Card Games
DESCRIPTION:
URL:https://murphysboro.com/event/weekly-advanced-format-yugioh-a2z-trading-card-games-3/2026-08-04/
LOCATION:IL
CATEGORIES:Business,Educational
END:VEVENT
BEGIN:VEVENT
DTSTART;TZID=America/Chicago:20260806T180000
DTEND;TZID=America/Chicago:20260806T210000
DTSTAMP:20260421T122833
CREATED:20251222T193308Z
LAST-MODIFIED:20251222T193308Z
UID:10011156-1786039200-1786050000@murphysboro.com
SUMMARY:Weekly Yugioh Genesys Format Tournament - A2Z Trading Card Games
DESCRIPTION:
URL:https://murphysboro.com/event/weekly-yugioh-genesys-format-tournament-a2z-trading-card-games/2026-08-06/
LOCATION:A2Z Trading Card Games\, 1003 Chestnut Street\, Murphysboro\, IL\, 62966\, United States
CATEGORIES:Business,Educational
END:VEVENT
BEGIN:VEVENT
DTSTART;TZID=America/Chicago:20260807T180000
DTEND;TZID=America/Chicago:20260807T220000
DTSTAMP:20260421T122833
CREATED:20251225T121452Z
LAST-MODIFIED:20251225T121452Z
UID:10012979-1786125600-1786140000@murphysboro.com
SUMMARY:Standard FNM – A2Z Trading Card Games
DESCRIPTION:
URL:https://murphysboro.com/event/standard-fnm-a2z-trading-card-games-3/2026-08-07/
LOCATION:A2Z Trading Card Games\, 1003 Chestnut Street\, Murphysboro\, IL\, 62966\, United States
CATEGORIES:Business
END:VEVENT
BEGIN:VEVENT
DTSTART;TZID=America/Chicago:20260808T150000
DTEND;TZID=America/Chicago:20260808T200000
DTSTAMP:20260421T122834
CREATED:20251226T120431Z
LAST-MODIFIED:20251226T120431Z
UID:10013183-1786201200-1786219200@murphysboro.com
SUMMARY:Pokémon Open Play and Trade – A2Z Trading Card Games
DESCRIPTION:
URL:https://murphysboro.com/event/pokemon-open-play-and-trade-a2z-trading-card-games-3/2026-08-08/
LOCATION:A2Z Trading Card Games\, 1003 Chestnut Street\, Murphysboro\, IL\, 62966\, United States
CATEGORIES:Business,Educational
END:VEVENT
BEGIN:VEVENT
DTSTART;TZID=America/Chicago:20260809T170000
DTEND;TZID=America/Chicago:20260809T210000
DTSTAMP:20260421T122834
CREATED:20251223T010142Z
LAST-MODIFIED:20251223T010142Z
UID:10011577-1786294800-1786309200@murphysboro.com
SUMMARY:Weekly Sunday Pokémon League – A2Z Trading Card Games
DESCRIPTION:
URL:https://murphysboro.com/event/weekly-sunday-pokemon-league-a2z-trading-card-games-3/2026-08-09/
LOCATION:IL
CATEGORIES:Business,Educational
END:VEVENT
BEGIN:VEVENT
DTSTART;TZID=America/Chicago:20260810T180000
DTEND;TZID=America/Chicago:20260810T210000
DTSTAMP:20260421T122834
CREATED:20251222T220139Z
LAST-MODIFIED:20251222T220139Z
UID:10011468-1786384800-1786395600@murphysboro.com
SUMMARY:Weekly Monday Pokémon League – A2Z Trading Card Games
DESCRIPTION:
URL:https://murphysboro.com/event/weekly-monday-pokemon-league-a2z-trading-card-games-3/2026-08-10/
LOCATION:IL
CATEGORIES:Business
END:VEVENT
BEGIN:VEVENT
DTSTART;TZID=America/Chicago:20260811T180000
DTEND;TZID=America/Chicago:20260811T210000
DTSTAMP:20260421T122834
CREATED:20251223T121812Z
LAST-MODIFIED:20251223T121812Z
UID:10011892-1786471200-1786482000@murphysboro.com
SUMMARY:Weekly Advanced Format Yugioh – A2Z Trading Card Games
DESCRIPTION:
URL:https://murphysboro.com/event/weekly-advanced-format-yugioh-a2z-trading-card-games-3/2026-08-11/
LOCATION:IL
CATEGORIES:Business,Educational
END:VEVENT
BEGIN:VEVENT
DTSTART;TZID=America/Chicago:20260813T180000
DTEND;TZID=America/Chicago:20260813T210000
DTSTAMP:20260421T122834
CREATED:20251222T193308Z
LAST-MODIFIED:20251222T193308Z
UID:10011157-1786644000-1786654800@murphysboro.com
SUMMARY:Weekly Yugioh Genesys Format Tournament - A2Z Trading Card Games
DESCRIPTION:
URL:https://murphysboro.com/event/weekly-yugioh-genesys-format-tournament-a2z-trading-card-games/2026-08-13/
LOCATION:A2Z Trading Card Games\, 1003 Chestnut Street\, Murphysboro\, IL\, 62966\, United States
CATEGORIES:Business,Educational
END:VEVENT
BEGIN:VEVENT
DTSTART;TZID=America/Chicago:20260814T180000
DTEND;TZID=America/Chicago:20260814T220000
DTSTAMP:20260421T122834
CREATED:20251225T121452Z
LAST-MODIFIED:20251225T121452Z
UID:10012980-1786730400-1786744800@murphysboro.com
SUMMARY:Standard FNM – A2Z Trading Card Games
DESCRIPTION:
URL:https://murphysboro.com/event/standard-fnm-a2z-trading-card-games-3/2026-08-14/
LOCATION:A2Z Trading Card Games\, 1003 Chestnut Street\, Murphysboro\, IL\, 62966\, United States
CATEGORIES:Business
END:VEVENT
BEGIN:VEVENT
DTSTART;TZID=America/Chicago:20260815T150000
DTEND;TZID=America/Chicago:20260815T200000
DTSTAMP:20260421T122834
CREATED:20251226T120431Z
LAST-MODIFIED:20251226T120431Z
UID:10013184-1786806000-1786824000@murphysboro.com
SUMMARY:Pokémon Open Play and Trade – A2Z Trading Card Games
DESCRIPTION:
URL:https://murphysboro.com/event/pokemon-open-play-and-trade-a2z-trading-card-games-3/2026-08-15/
LOCATION:A2Z Trading Card Games\, 1003 Chestnut Street\, Murphysboro\, IL\, 62966\, United States
CATEGORIES:Business,Educational
END:VEVENT
BEGIN:VEVENT
DTSTART;TZID=America/Chicago:20260816T170000
DTEND;TZID=America/Chicago:20260816T210000
DTSTAMP:20260421T122834
CREATED:20251223T010142Z
LAST-MODIFIED:20251223T010142Z
UID:10011578-1786899600-1786914000@murphysboro.com
SUMMARY:Weekly Sunday Pokémon League – A2Z Trading Card Games
DESCRIPTION:
URL:https://murphysboro.com/event/weekly-sunday-pokemon-league-a2z-trading-card-games-3/2026-08-16/
LOCATION:IL
CATEGORIES:Business,Educational
END:VEVENT
BEGIN:VEVENT
DTSTART;TZID=America/Chicago:20260817T180000
DTEND;TZID=America/Chicago:20260817T210000
DTSTAMP:20260421T122834
CREATED:20251222T220139Z
LAST-MODIFIED:20251222T220139Z
UID:10011469-1786989600-1787000400@murphysboro.com
SUMMARY:Weekly Monday Pokémon League – A2Z Trading Card Games
DESCRIPTION:
URL:https://murphysboro.com/event/weekly-monday-pokemon-league-a2z-trading-card-games-3/2026-08-17/
LOCATION:IL
CATEGORIES:Business
END:VEVENT
BEGIN:VEVENT
DTSTART;TZID=America/Chicago:20260818T180000
DTEND;TZID=America/Chicago:20260818T210000
DTSTAMP:20260421T122834
CREATED:20251223T121812Z
LAST-MODIFIED:20251223T121812Z
UID:10011893-1787076000-1787086800@murphysboro.com
SUMMARY:Weekly Advanced Format Yugioh – A2Z Trading Card Games
DESCRIPTION:
URL:https://murphysboro.com/event/weekly-advanced-format-yugioh-a2z-trading-card-games-3/2026-08-18/
LOCATION:IL
CATEGORIES:Business,Educational
END:VEVENT
BEGIN:VEVENT
DTSTART;TZID=America/Chicago:20260820T180000
DTEND;TZID=America/Chicago:20260820T210000
DTSTAMP:20260421T122834
CREATED:20251222T193308Z
LAST-MODIFIED:20251222T193308Z
UID:10011158-1787248800-1787259600@murphysboro.com
SUMMARY:Weekly Yugioh Genesys Format Tournament - A2Z Trading Card Games
DESCRIPTION:
URL:https://murphysboro.com/event/weekly-yugioh-genesys-format-tournament-a2z-trading-card-games/2026-08-20/
LOCATION:A2Z Trading Card Games\, 1003 Chestnut Street\, Murphysboro\, IL\, 62966\, United States
CATEGORIES:Business,Educational
END:VEVENT
BEGIN:VEVENT
DTSTART;TZID=America/Chicago:20260821T180000
DTEND;TZID=America/Chicago:20260821T220000
DTSTAMP:20260421T122834
CREATED:20251225T121452Z
LAST-MODIFIED:20251225T121452Z
UID:10012981-1787335200-1787349600@murphysboro.com
SUMMARY:Standard FNM – A2Z Trading Card Games
DESCRIPTION:
URL:https://murphysboro.com/event/standard-fnm-a2z-trading-card-games-3/2026-08-21/
LOCATION:A2Z Trading Card Games\, 1003 Chestnut Street\, Murphysboro\, IL\, 62966\, United States
CATEGORIES:Business
END:VEVENT
END:VCALENDAR