BEGIN:VCALENDAR
VERSION:2.0
PRODID:-//The City of Murphysboro - ECPv6.15.20//NONSGML v1.0//EN
CALSCALE:GREGORIAN
METHOD:PUBLISH
X-ORIGINAL-URL:https://murphysboro.com
X-WR-CALDESC:Events for The City of Murphysboro
REFRESH-INTERVAL;VALUE=DURATION:PT1H
X-Robots-Tag:noindex
X-PUBLISHED-TTL:PT1H
BEGIN:VTIMEZONE
TZID:America/Chicago
BEGIN:DAYLIGHT
TZOFFSETFROM:-0600
TZOFFSETTO:-0500
TZNAME:CDT
DTSTART:20250309T080000
END:DAYLIGHT
BEGIN:STANDARD
TZOFFSETFROM:-0500
TZOFFSETTO:-0600
TZNAME:CST
DTSTART:20251102T070000
END:STANDARD
BEGIN:DAYLIGHT
TZOFFSETFROM:-0600
TZOFFSETTO:-0500
TZNAME:CDT
DTSTART:20260308T080000
END:DAYLIGHT
BEGIN:STANDARD
TZOFFSETFROM:-0500
TZOFFSETTO:-0600
TZNAME:CST
DTSTART:20261101T070000
END:STANDARD
BEGIN:DAYLIGHT
TZOFFSETFROM:-0600
TZOFFSETTO:-0500
TZNAME:CDT
DTSTART:20270314T080000
END:DAYLIGHT
BEGIN:STANDARD
TZOFFSETFROM:-0500
TZOFFSETTO:-0600
TZNAME:CST
DTSTART:20271107T070000
END:STANDARD
END:VTIMEZONE
BEGIN:VEVENT
DTSTART;TZID=America/Chicago:20260419T170000
DTEND;TZID=America/Chicago:20260419T210000
DTSTAMP:20260420T081501
CREATED:20251223T010142Z
LAST-MODIFIED:20251223T010142Z
UID:10011561-1776618000-1776632400@murphysboro.com
SUMMARY:Weekly Sunday Pokémon League – A2Z Trading Card Games
DESCRIPTION:
URL:https://murphysboro.com/event/weekly-sunday-pokemon-league-a2z-trading-card-games-3/2026-04-19/
LOCATION:IL
CATEGORIES:Business,Educational
END:VEVENT
BEGIN:VEVENT
DTSTART;TZID=America/Chicago:20260418T150000
DTEND;TZID=America/Chicago:20260418T200000
DTSTAMP:20260420T081501
CREATED:20251226T120431Z
LAST-MODIFIED:20251226T120431Z
UID:10013167-1776524400-1776542400@murphysboro.com
SUMMARY:Pokémon Open Play and Trade – A2Z Trading Card Games
DESCRIPTION:
URL:https://murphysboro.com/event/pokemon-open-play-and-trade-a2z-trading-card-games-3/2026-04-18/
LOCATION:A2Z Trading Card Games\, 1003 Chestnut Street\, Murphysboro\, IL\, 62966\, United States
CATEGORIES:Business,Educational
END:VEVENT
BEGIN:VEVENT
DTSTART;TZID=America/Chicago:20260417T180000
DTEND;TZID=America/Chicago:20260417T220000
DTSTAMP:20260420T081501
CREATED:20251225T121452Z
LAST-MODIFIED:20251225T121452Z
UID:10012963-1776448800-1776463200@murphysboro.com
SUMMARY:Standard FNM – A2Z Trading Card Games
DESCRIPTION:
URL:https://murphysboro.com/event/standard-fnm-a2z-trading-card-games-3/2026-04-17/
LOCATION:A2Z Trading Card Games\, 1003 Chestnut Street\, Murphysboro\, IL\, 62966\, United States
CATEGORIES:Business
END:VEVENT
BEGIN:VEVENT
DTSTART;TZID=America/Chicago:20260416T180000
DTEND;TZID=America/Chicago:20260416T210000
DTSTAMP:20260420T081501
CREATED:20251222T193308Z
LAST-MODIFIED:20251222T193308Z
UID:10011140-1776362400-1776373200@murphysboro.com
SUMMARY:Weekly Yugioh Genesys Format Tournament - A2Z Trading Card Games
DESCRIPTION:
URL:https://murphysboro.com/event/weekly-yugioh-genesys-format-tournament-a2z-trading-card-games/2026-04-16/
LOCATION:A2Z Trading Card Games\, 1003 Chestnut Street\, Murphysboro\, IL\, 62966\, United States
CATEGORIES:Business,Educational
END:VEVENT
BEGIN:VEVENT
DTSTART;TZID=America/Chicago:20260414T180000
DTEND;TZID=America/Chicago:20260414T210000
DTSTAMP:20260420T081501
CREATED:20251223T121812Z
LAST-MODIFIED:20251223T121812Z
UID:10011875-1776189600-1776200400@murphysboro.com
SUMMARY:Weekly Advanced Format Yugioh – A2Z Trading Card Games
DESCRIPTION:
URL:https://murphysboro.com/event/weekly-advanced-format-yugioh-a2z-trading-card-games-3/2026-04-14/
LOCATION:IL
CATEGORIES:Business,Educational
END:VEVENT
BEGIN:VEVENT
DTSTART;TZID=America/Chicago:20260413T180000
DTEND;TZID=America/Chicago:20260413T210000
DTSTAMP:20260420T081501
CREATED:20251222T220139Z
LAST-MODIFIED:20251222T220139Z
UID:10011451-1776103200-1776114000@murphysboro.com
SUMMARY:Weekly Monday Pokémon League – A2Z Trading Card Games
DESCRIPTION:
URL:https://murphysboro.com/event/weekly-monday-pokemon-league-a2z-trading-card-games-3/2026-04-13/
LOCATION:IL
CATEGORIES:Business
END:VEVENT
BEGIN:VEVENT
DTSTART;TZID=America/Chicago:20260412T170000
DTEND;TZID=America/Chicago:20260412T210000
DTSTAMP:20260420T081501
CREATED:20251223T010142Z
LAST-MODIFIED:20251223T010142Z
UID:10011560-1776013200-1776027600@murphysboro.com
SUMMARY:Weekly Sunday Pokémon League – A2Z Trading Card Games
DESCRIPTION:
URL:https://murphysboro.com/event/weekly-sunday-pokemon-league-a2z-trading-card-games-3/2026-04-12/
LOCATION:IL
CATEGORIES:Business,Educational
END:VEVENT
BEGIN:VEVENT
DTSTART;TZID=America/Chicago:20260411T150000
DTEND;TZID=America/Chicago:20260411T200000
DTSTAMP:20260420T081501
CREATED:20251226T120431Z
LAST-MODIFIED:20251226T120431Z
UID:10013166-1775919600-1775937600@murphysboro.com
SUMMARY:Pokémon Open Play and Trade – A2Z Trading Card Games
DESCRIPTION:
URL:https://murphysboro.com/event/pokemon-open-play-and-trade-a2z-trading-card-games-3/2026-04-11/
LOCATION:A2Z Trading Card Games\, 1003 Chestnut Street\, Murphysboro\, IL\, 62966\, United States
CATEGORIES:Business,Educational
END:VEVENT
BEGIN:VEVENT
DTSTART;TZID=America/Chicago:20260410T180000
DTEND;TZID=America/Chicago:20260410T220000
DTSTAMP:20260420T081501
CREATED:20251225T121452Z
LAST-MODIFIED:20251225T121452Z
UID:10012962-1775844000-1775858400@murphysboro.com
SUMMARY:Standard FNM – A2Z Trading Card Games
DESCRIPTION:
URL:https://murphysboro.com/event/standard-fnm-a2z-trading-card-games-3/2026-04-10/
LOCATION:A2Z Trading Card Games\, 1003 Chestnut Street\, Murphysboro\, IL\, 62966\, United States
CATEGORIES:Business
END:VEVENT
BEGIN:VEVENT
DTSTART;TZID=America/Chicago:20260409T180000
DTEND;TZID=America/Chicago:20260409T210000
DTSTAMP:20260420T081501
CREATED:20251222T193308Z
LAST-MODIFIED:20251222T193308Z
UID:10011139-1775757600-1775768400@murphysboro.com
SUMMARY:Weekly Yugioh Genesys Format Tournament - A2Z Trading Card Games
DESCRIPTION:
URL:https://murphysboro.com/event/weekly-yugioh-genesys-format-tournament-a2z-trading-card-games/2026-04-09/
LOCATION:A2Z Trading Card Games\, 1003 Chestnut Street\, Murphysboro\, IL\, 62966\, United States
CATEGORIES:Business,Educational
END:VEVENT
BEGIN:VEVENT
DTSTART;TZID=America/Chicago:20260407T180000
DTEND;TZID=America/Chicago:20260407T210000
DTSTAMP:20260420T081501
CREATED:20251223T121812Z
LAST-MODIFIED:20251223T121812Z
UID:10011874-1775584800-1775595600@murphysboro.com
SUMMARY:Weekly Advanced Format Yugioh – A2Z Trading Card Games
DESCRIPTION:
URL:https://murphysboro.com/event/weekly-advanced-format-yugioh-a2z-trading-card-games-3/2026-04-07/
LOCATION:IL
CATEGORIES:Business,Educational
END:VEVENT
BEGIN:VEVENT
DTSTART;TZID=America/Chicago:20260406T180000
DTEND;TZID=America/Chicago:20260406T210000
DTSTAMP:20260420T081501
CREATED:20251222T220139Z
LAST-MODIFIED:20251222T220139Z
UID:10011450-1775498400-1775509200@murphysboro.com
SUMMARY:Weekly Monday Pokémon League – A2Z Trading Card Games
DESCRIPTION:
URL:https://murphysboro.com/event/weekly-monday-pokemon-league-a2z-trading-card-games-3/2026-04-06/
LOCATION:IL
CATEGORIES:Business
END:VEVENT
BEGIN:VEVENT
DTSTART;TZID=America/Chicago:20260405T170000
DTEND;TZID=America/Chicago:20260405T210000
DTSTAMP:20260420T081501
CREATED:20251223T010142Z
LAST-MODIFIED:20251223T010142Z
UID:10011559-1775408400-1775422800@murphysboro.com
SUMMARY:Weekly Sunday Pokémon League – A2Z Trading Card Games
DESCRIPTION:
URL:https://murphysboro.com/event/weekly-sunday-pokemon-league-a2z-trading-card-games-3/2026-04-05/
LOCATION:IL
CATEGORIES:Business,Educational
END:VEVENT
BEGIN:VEVENT
DTSTART;TZID=America/Chicago:20260404T150000
DTEND;TZID=America/Chicago:20260404T200000
DTSTAMP:20260420T081501
CREATED:20251226T120431Z
LAST-MODIFIED:20251226T120431Z
UID:10013165-1775314800-1775332800@murphysboro.com
SUMMARY:Pokémon Open Play and Trade – A2Z Trading Card Games
DESCRIPTION:
URL:https://murphysboro.com/event/pokemon-open-play-and-trade-a2z-trading-card-games-3/2026-04-04/
LOCATION:A2Z Trading Card Games\, 1003 Chestnut Street\, Murphysboro\, IL\, 62966\, United States
CATEGORIES:Business,Educational
END:VEVENT
BEGIN:VEVENT
DTSTART;TZID=America/Chicago:20260403T180000
DTEND;TZID=America/Chicago:20260403T220000
DTSTAMP:20260420T081501
CREATED:20251225T121452Z
LAST-MODIFIED:20251225T121452Z
UID:10012961-1775239200-1775253600@murphysboro.com
SUMMARY:Standard FNM – A2Z Trading Card Games
DESCRIPTION:
URL:https://murphysboro.com/event/standard-fnm-a2z-trading-card-games-3/2026-04-03/
LOCATION:A2Z Trading Card Games\, 1003 Chestnut Street\, Murphysboro\, IL\, 62966\, United States
CATEGORIES:Business
END:VEVENT
BEGIN:VEVENT
DTSTART;TZID=America/Chicago:20260402T180000
DTEND;TZID=America/Chicago:20260402T210000
DTSTAMP:20260420T081501
CREATED:20251222T193308Z
LAST-MODIFIED:20251222T193308Z
UID:10011138-1775152800-1775163600@murphysboro.com
SUMMARY:Weekly Yugioh Genesys Format Tournament - A2Z Trading Card Games
DESCRIPTION:
URL:https://murphysboro.com/event/weekly-yugioh-genesys-format-tournament-a2z-trading-card-games/2026-04-02/
LOCATION:A2Z Trading Card Games\, 1003 Chestnut Street\, Murphysboro\, IL\, 62966\, United States
CATEGORIES:Business,Educational
END:VEVENT
BEGIN:VEVENT
DTSTART;TZID=America/Chicago:20260331T180000
DTEND;TZID=America/Chicago:20260331T210000
DTSTAMP:20260420T081501
CREATED:20251223T121812Z
LAST-MODIFIED:20251223T121812Z
UID:10011873-1774980000-1774990800@murphysboro.com
SUMMARY:Weekly Advanced Format Yugioh – A2Z Trading Card Games
DESCRIPTION:
URL:https://murphysboro.com/event/weekly-advanced-format-yugioh-a2z-trading-card-games-3/2026-03-31/
LOCATION:IL
CATEGORIES:Business,Educational
END:VEVENT
BEGIN:VEVENT
DTSTART;TZID=America/Chicago:20260330T180000
DTEND;TZID=America/Chicago:20260330T210000
DTSTAMP:20260420T081501
CREATED:20251222T220139Z
LAST-MODIFIED:20251222T220139Z
UID:10011449-1774893600-1774904400@murphysboro.com
SUMMARY:Weekly Monday Pokémon League – A2Z Trading Card Games
DESCRIPTION:
URL:https://murphysboro.com/event/weekly-monday-pokemon-league-a2z-trading-card-games-3/2026-03-30/
LOCATION:IL
CATEGORIES:Business
END:VEVENT
BEGIN:VEVENT
DTSTART;TZID=America/Chicago:20260329T170000
DTEND;TZID=America/Chicago:20260329T210000
DTSTAMP:20260420T081501
CREATED:20251223T010142Z
LAST-MODIFIED:20251223T010142Z
UID:10011558-1774803600-1774818000@murphysboro.com
SUMMARY:Weekly Sunday Pokémon League – A2Z Trading Card Games
DESCRIPTION:
URL:https://murphysboro.com/event/weekly-sunday-pokemon-league-a2z-trading-card-games-3/2026-03-29/
LOCATION:IL
CATEGORIES:Business,Educational
END:VEVENT
BEGIN:VEVENT
DTSTART;TZID=America/Chicago:20260328T150000
DTEND;TZID=America/Chicago:20260328T200000
DTSTAMP:20260420T081501
CREATED:20251226T120431Z
LAST-MODIFIED:20251226T120431Z
UID:10013164-1774710000-1774728000@murphysboro.com
SUMMARY:Pokémon Open Play and Trade – A2Z Trading Card Games
DESCRIPTION:
URL:https://murphysboro.com/event/pokemon-open-play-and-trade-a2z-trading-card-games-3/2026-03-28/
LOCATION:A2Z Trading Card Games\, 1003 Chestnut Street\, Murphysboro\, IL\, 62966\, United States
CATEGORIES:Business,Educational
END:VEVENT
BEGIN:VEVENT
DTSTART;TZID=America/Chicago:20260327T180000
DTEND;TZID=America/Chicago:20260327T220000
DTSTAMP:20260420T081501
CREATED:20251225T121452Z
LAST-MODIFIED:20251225T121452Z
UID:10012960-1774634400-1774648800@murphysboro.com
SUMMARY:Standard FNM – A2Z Trading Card Games
DESCRIPTION:
URL:https://murphysboro.com/event/standard-fnm-a2z-trading-card-games-3/2026-03-27/
LOCATION:A2Z Trading Card Games\, 1003 Chestnut Street\, Murphysboro\, IL\, 62966\, United States
CATEGORIES:Business
END:VEVENT
BEGIN:VEVENT
DTSTART;TZID=America/Chicago:20260326T180000
DTEND;TZID=America/Chicago:20260326T210000
DTSTAMP:20260420T081501
CREATED:20251222T193308Z
LAST-MODIFIED:20251222T193308Z
UID:10011137-1774548000-1774558800@murphysboro.com
SUMMARY:Weekly Yugioh Genesys Format Tournament - A2Z Trading Card Games
DESCRIPTION:
URL:https://murphysboro.com/event/weekly-yugioh-genesys-format-tournament-a2z-trading-card-games/2026-03-26/
LOCATION:A2Z Trading Card Games\, 1003 Chestnut Street\, Murphysboro\, IL\, 62966\, United States
CATEGORIES:Business,Educational
END:VEVENT
BEGIN:VEVENT
DTSTART;TZID=America/Chicago:20260324T180000
DTEND;TZID=America/Chicago:20260324T210000
DTSTAMP:20260420T081501
CREATED:20251223T121812Z
LAST-MODIFIED:20251223T121812Z
UID:10011872-1774375200-1774386000@murphysboro.com
SUMMARY:Weekly Advanced Format Yugioh – A2Z Trading Card Games
DESCRIPTION:
URL:https://murphysboro.com/event/weekly-advanced-format-yugioh-a2z-trading-card-games-3/2026-03-24/
LOCATION:IL
CATEGORIES:Business,Educational
END:VEVENT
BEGIN:VEVENT
DTSTART;TZID=America/Chicago:20260323T180000
DTEND;TZID=America/Chicago:20260323T210000
DTSTAMP:20260420T081501
CREATED:20251222T220139Z
LAST-MODIFIED:20251222T220139Z
UID:10011448-1774288800-1774299600@murphysboro.com
SUMMARY:Weekly Monday Pokémon League – A2Z Trading Card Games
DESCRIPTION:
URL:https://murphysboro.com/event/weekly-monday-pokemon-league-a2z-trading-card-games-3/2026-03-23/
LOCATION:IL
CATEGORIES:Business
END:VEVENT
BEGIN:VEVENT
DTSTART;TZID=America/Chicago:20260322T170000
DTEND;TZID=America/Chicago:20260322T210000
DTSTAMP:20260420T081501
CREATED:20251223T010142Z
LAST-MODIFIED:20251223T010142Z
UID:10011557-1774198800-1774213200@murphysboro.com
SUMMARY:Weekly Sunday Pokémon League – A2Z Trading Card Games
DESCRIPTION:
URL:https://murphysboro.com/event/weekly-sunday-pokemon-league-a2z-trading-card-games-3/2026-03-22/
LOCATION:IL
CATEGORIES:Business,Educational
END:VEVENT
BEGIN:VEVENT
DTSTART;TZID=America/Chicago:20260321T150000
DTEND;TZID=America/Chicago:20260321T200000
DTSTAMP:20260420T081501
CREATED:20251226T120431Z
LAST-MODIFIED:20251226T120431Z
UID:10013163-1774105200-1774123200@murphysboro.com
SUMMARY:Pokémon Open Play and Trade – A2Z Trading Card Games
DESCRIPTION:
URL:https://murphysboro.com/event/pokemon-open-play-and-trade-a2z-trading-card-games-3/2026-03-21/
LOCATION:A2Z Trading Card Games\, 1003 Chestnut Street\, Murphysboro\, IL\, 62966\, United States
CATEGORIES:Business,Educational
END:VEVENT
BEGIN:VEVENT
DTSTART;TZID=America/Chicago:20260320T180000
DTEND;TZID=America/Chicago:20260320T220000
DTSTAMP:20260420T081501
CREATED:20251225T121452Z
LAST-MODIFIED:20251225T121452Z
UID:10012959-1774029600-1774044000@murphysboro.com
SUMMARY:Standard FNM – A2Z Trading Card Games
DESCRIPTION:
URL:https://murphysboro.com/event/standard-fnm-a2z-trading-card-games-3/2026-03-20/
LOCATION:A2Z Trading Card Games\, 1003 Chestnut Street\, Murphysboro\, IL\, 62966\, United States
CATEGORIES:Business
END:VEVENT
BEGIN:VEVENT
DTSTART;TZID=America/Chicago:20260319T180000
DTEND;TZID=America/Chicago:20260319T210000
DTSTAMP:20260420T081501
CREATED:20251222T193308Z
LAST-MODIFIED:20251222T193308Z
UID:10011136-1773943200-1773954000@murphysboro.com
SUMMARY:Weekly Yugioh Genesys Format Tournament - A2Z Trading Card Games
DESCRIPTION:
URL:https://murphysboro.com/event/weekly-yugioh-genesys-format-tournament-a2z-trading-card-games/2026-03-19/
LOCATION:A2Z Trading Card Games\, 1003 Chestnut Street\, Murphysboro\, IL\, 62966\, United States
CATEGORIES:Business,Educational
END:VEVENT
BEGIN:VEVENT
DTSTART;TZID=America/Chicago:20260317T180000
DTEND;TZID=America/Chicago:20260317T210000
DTSTAMP:20260420T081501
CREATED:20251223T121812Z
LAST-MODIFIED:20251223T121812Z
UID:10011871-1773770400-1773781200@murphysboro.com
SUMMARY:Weekly Advanced Format Yugioh – A2Z Trading Card Games
DESCRIPTION:
URL:https://murphysboro.com/event/weekly-advanced-format-yugioh-a2z-trading-card-games-3/2026-03-17/
LOCATION:IL
CATEGORIES:Business,Educational
END:VEVENT
BEGIN:VEVENT
DTSTART;TZID=America/Chicago:20260316T180000
DTEND;TZID=America/Chicago:20260316T210000
DTSTAMP:20260420T081501
CREATED:20251222T220139Z
LAST-MODIFIED:20251222T220139Z
UID:10011447-1773684000-1773694800@murphysboro.com
SUMMARY:Weekly Monday Pokémon League – A2Z Trading Card Games
DESCRIPTION:
URL:https://murphysboro.com/event/weekly-monday-pokemon-league-a2z-trading-card-games-3/2026-03-16/
LOCATION:IL
CATEGORIES:Business
END:VEVENT
END:VCALENDAR