BEGIN:VCALENDAR
VERSION:2.0
PRODID:-//The City of Murphysboro - ECPv6.15.20//NONSGML v1.0//EN
CALSCALE:GREGORIAN
METHOD:PUBLISH
X-ORIGINAL-URL:https://murphysboro.com
X-WR-CALDESC:Events for The City of Murphysboro
REFRESH-INTERVAL;VALUE=DURATION:PT1H
X-Robots-Tag:noindex
X-PUBLISHED-TTL:PT1H
BEGIN:VTIMEZONE
TZID:America/Chicago
BEGIN:DAYLIGHT
TZOFFSETFROM:-0600
TZOFFSETTO:-0500
TZNAME:CDT
DTSTART:20250309T080000
END:DAYLIGHT
BEGIN:STANDARD
TZOFFSETFROM:-0500
TZOFFSETTO:-0600
TZNAME:CST
DTSTART:20251102T070000
END:STANDARD
BEGIN:DAYLIGHT
TZOFFSETFROM:-0600
TZOFFSETTO:-0500
TZNAME:CDT
DTSTART:20260308T080000
END:DAYLIGHT
BEGIN:STANDARD
TZOFFSETFROM:-0500
TZOFFSETTO:-0600
TZNAME:CST
DTSTART:20261101T070000
END:STANDARD
BEGIN:DAYLIGHT
TZOFFSETFROM:-0600
TZOFFSETTO:-0500
TZNAME:CDT
DTSTART:20270314T080000
END:DAYLIGHT
BEGIN:STANDARD
TZOFFSETFROM:-0500
TZOFFSETTO:-0600
TZNAME:CST
DTSTART:20271107T070000
END:STANDARD
END:VTIMEZONE
BEGIN:VEVENT
DTSTART;TZID=America/Chicago:20260806T180000
DTEND;TZID=America/Chicago:20260806T210000
DTSTAMP:20260423T101722
CREATED:20251222T193308Z
LAST-MODIFIED:20251222T193308Z
UID:10011156-1786039200-1786050000@murphysboro.com
SUMMARY:Weekly Yugioh Genesys Format Tournament - A2Z Trading Card Games
DESCRIPTION:
URL:https://murphysboro.com/event/weekly-yugioh-genesys-format-tournament-a2z-trading-card-games/2026-08-06/
LOCATION:A2Z Trading Card Games\, 1003 Chestnut Street\, Murphysboro\, IL\, 62966\, United States
CATEGORIES:Business,Educational
END:VEVENT
BEGIN:VEVENT
DTSTART;TZID=America/Chicago:20260807T180000
DTEND;TZID=America/Chicago:20260807T220000
DTSTAMP:20260423T101722
CREATED:20251225T121452Z
LAST-MODIFIED:20251225T121452Z
UID:10012979-1786125600-1786140000@murphysboro.com
SUMMARY:Standard FNM – A2Z Trading Card Games
DESCRIPTION:
URL:https://murphysboro.com/event/standard-fnm-a2z-trading-card-games-3/2026-08-07/
LOCATION:A2Z Trading Card Games\, 1003 Chestnut Street\, Murphysboro\, IL\, 62966\, United States
CATEGORIES:Business
END:VEVENT
BEGIN:VEVENT
DTSTART;TZID=America/Chicago:20260808T150000
DTEND;TZID=America/Chicago:20260808T200000
DTSTAMP:20260423T101722
CREATED:20251226T120431Z
LAST-MODIFIED:20251226T120431Z
UID:10013183-1786201200-1786219200@murphysboro.com
SUMMARY:Pokémon Open Play and Trade – A2Z Trading Card Games
DESCRIPTION:
URL:https://murphysboro.com/event/pokemon-open-play-and-trade-a2z-trading-card-games-3/2026-08-08/
LOCATION:A2Z Trading Card Games\, 1003 Chestnut Street\, Murphysboro\, IL\, 62966\, United States
CATEGORIES:Business,Educational
END:VEVENT
BEGIN:VEVENT
DTSTART;TZID=America/Chicago:20260809T170000
DTEND;TZID=America/Chicago:20260809T210000
DTSTAMP:20260423T101722
CREATED:20251223T010142Z
LAST-MODIFIED:20251223T010142Z
UID:10011577-1786294800-1786309200@murphysboro.com
SUMMARY:Weekly Sunday Pokémon League – A2Z Trading Card Games
DESCRIPTION:
URL:https://murphysboro.com/event/weekly-sunday-pokemon-league-a2z-trading-card-games-3/2026-08-09/
LOCATION:IL
CATEGORIES:Business,Educational
END:VEVENT
BEGIN:VEVENT
DTSTART;TZID=America/Chicago:20260810T180000
DTEND;TZID=America/Chicago:20260810T210000
DTSTAMP:20260423T101722
CREATED:20251222T220139Z
LAST-MODIFIED:20251222T220139Z
UID:10011468-1786384800-1786395600@murphysboro.com
SUMMARY:Weekly Monday Pokémon League – A2Z Trading Card Games
DESCRIPTION:
URL:https://murphysboro.com/event/weekly-monday-pokemon-league-a2z-trading-card-games-3/2026-08-10/
LOCATION:IL
CATEGORIES:Business
END:VEVENT
BEGIN:VEVENT
DTSTART;TZID=America/Chicago:20260811T180000
DTEND;TZID=America/Chicago:20260811T210000
DTSTAMP:20260423T101722
CREATED:20251223T121812Z
LAST-MODIFIED:20251223T121812Z
UID:10011892-1786471200-1786482000@murphysboro.com
SUMMARY:Weekly Advanced Format Yugioh – A2Z Trading Card Games
DESCRIPTION:
URL:https://murphysboro.com/event/weekly-advanced-format-yugioh-a2z-trading-card-games-3/2026-08-11/
LOCATION:IL
CATEGORIES:Business,Educational
END:VEVENT
BEGIN:VEVENT
DTSTART;TZID=America/Chicago:20260813T180000
DTEND;TZID=America/Chicago:20260813T210000
DTSTAMP:20260423T101722
CREATED:20251222T193308Z
LAST-MODIFIED:20251222T193308Z
UID:10011157-1786644000-1786654800@murphysboro.com
SUMMARY:Weekly Yugioh Genesys Format Tournament - A2Z Trading Card Games
DESCRIPTION:
URL:https://murphysboro.com/event/weekly-yugioh-genesys-format-tournament-a2z-trading-card-games/2026-08-13/
LOCATION:A2Z Trading Card Games\, 1003 Chestnut Street\, Murphysboro\, IL\, 62966\, United States
CATEGORIES:Business,Educational
END:VEVENT
BEGIN:VEVENT
DTSTART;TZID=America/Chicago:20260814T180000
DTEND;TZID=America/Chicago:20260814T220000
DTSTAMP:20260423T101722
CREATED:20251225T121452Z
LAST-MODIFIED:20251225T121452Z
UID:10012980-1786730400-1786744800@murphysboro.com
SUMMARY:Standard FNM – A2Z Trading Card Games
DESCRIPTION:
URL:https://murphysboro.com/event/standard-fnm-a2z-trading-card-games-3/2026-08-14/
LOCATION:A2Z Trading Card Games\, 1003 Chestnut Street\, Murphysboro\, IL\, 62966\, United States
CATEGORIES:Business
END:VEVENT
BEGIN:VEVENT
DTSTART;TZID=America/Chicago:20260815T150000
DTEND;TZID=America/Chicago:20260815T200000
DTSTAMP:20260423T101722
CREATED:20251226T120431Z
LAST-MODIFIED:20251226T120431Z
UID:10013184-1786806000-1786824000@murphysboro.com
SUMMARY:Pokémon Open Play and Trade – A2Z Trading Card Games
DESCRIPTION:
URL:https://murphysboro.com/event/pokemon-open-play-and-trade-a2z-trading-card-games-3/2026-08-15/
LOCATION:A2Z Trading Card Games\, 1003 Chestnut Street\, Murphysboro\, IL\, 62966\, United States
CATEGORIES:Business,Educational
END:VEVENT
BEGIN:VEVENT
DTSTART;TZID=America/Chicago:20260816T170000
DTEND;TZID=America/Chicago:20260816T210000
DTSTAMP:20260423T101722
CREATED:20251223T010142Z
LAST-MODIFIED:20251223T010142Z
UID:10011578-1786899600-1786914000@murphysboro.com
SUMMARY:Weekly Sunday Pokémon League – A2Z Trading Card Games
DESCRIPTION:
URL:https://murphysboro.com/event/weekly-sunday-pokemon-league-a2z-trading-card-games-3/2026-08-16/
LOCATION:IL
CATEGORIES:Business,Educational
END:VEVENT
BEGIN:VEVENT
DTSTART;TZID=America/Chicago:20260817T180000
DTEND;TZID=America/Chicago:20260817T210000
DTSTAMP:20260423T101722
CREATED:20251222T220139Z
LAST-MODIFIED:20251222T220139Z
UID:10011469-1786989600-1787000400@murphysboro.com
SUMMARY:Weekly Monday Pokémon League – A2Z Trading Card Games
DESCRIPTION:
URL:https://murphysboro.com/event/weekly-monday-pokemon-league-a2z-trading-card-games-3/2026-08-17/
LOCATION:IL
CATEGORIES:Business
END:VEVENT
BEGIN:VEVENT
DTSTART;TZID=America/Chicago:20260818T180000
DTEND;TZID=America/Chicago:20260818T210000
DTSTAMP:20260423T101722
CREATED:20251223T121812Z
LAST-MODIFIED:20251223T121812Z
UID:10011893-1787076000-1787086800@murphysboro.com
SUMMARY:Weekly Advanced Format Yugioh – A2Z Trading Card Games
DESCRIPTION:
URL:https://murphysboro.com/event/weekly-advanced-format-yugioh-a2z-trading-card-games-3/2026-08-18/
LOCATION:IL
CATEGORIES:Business,Educational
END:VEVENT
BEGIN:VEVENT
DTSTART;TZID=America/Chicago:20260820T180000
DTEND;TZID=America/Chicago:20260820T210000
DTSTAMP:20260423T101722
CREATED:20251222T193308Z
LAST-MODIFIED:20251222T193308Z
UID:10011158-1787248800-1787259600@murphysboro.com
SUMMARY:Weekly Yugioh Genesys Format Tournament - A2Z Trading Card Games
DESCRIPTION:
URL:https://murphysboro.com/event/weekly-yugioh-genesys-format-tournament-a2z-trading-card-games/2026-08-20/
LOCATION:A2Z Trading Card Games\, 1003 Chestnut Street\, Murphysboro\, IL\, 62966\, United States
CATEGORIES:Business,Educational
END:VEVENT
BEGIN:VEVENT
DTSTART;TZID=America/Chicago:20260821T180000
DTEND;TZID=America/Chicago:20260821T220000
DTSTAMP:20260423T101722
CREATED:20251225T121452Z
LAST-MODIFIED:20251225T121452Z
UID:10012981-1787335200-1787349600@murphysboro.com
SUMMARY:Standard FNM – A2Z Trading Card Games
DESCRIPTION:
URL:https://murphysboro.com/event/standard-fnm-a2z-trading-card-games-3/2026-08-21/
LOCATION:A2Z Trading Card Games\, 1003 Chestnut Street\, Murphysboro\, IL\, 62966\, United States
CATEGORIES:Business
END:VEVENT
BEGIN:VEVENT
DTSTART;TZID=America/Chicago:20260822T150000
DTEND;TZID=America/Chicago:20260822T200000
DTSTAMP:20260423T101722
CREATED:20251226T120431Z
LAST-MODIFIED:20251226T120431Z
UID:10013185-1787410800-1787428800@murphysboro.com
SUMMARY:Pokémon Open Play and Trade – A2Z Trading Card Games
DESCRIPTION:
URL:https://murphysboro.com/event/pokemon-open-play-and-trade-a2z-trading-card-games-3/2026-08-22/
LOCATION:A2Z Trading Card Games\, 1003 Chestnut Street\, Murphysboro\, IL\, 62966\, United States
CATEGORIES:Business,Educational
END:VEVENT
BEGIN:VEVENT
DTSTART;TZID=America/Chicago:20260823T170000
DTEND;TZID=America/Chicago:20260823T210000
DTSTAMP:20260423T101722
CREATED:20251223T010142Z
LAST-MODIFIED:20251223T010142Z
UID:10011579-1787504400-1787518800@murphysboro.com
SUMMARY:Weekly Sunday Pokémon League – A2Z Trading Card Games
DESCRIPTION:
URL:https://murphysboro.com/event/weekly-sunday-pokemon-league-a2z-trading-card-games-3/2026-08-23/
LOCATION:IL
CATEGORIES:Business,Educational
END:VEVENT
BEGIN:VEVENT
DTSTART;TZID=America/Chicago:20260824T180000
DTEND;TZID=America/Chicago:20260824T210000
DTSTAMP:20260423T101722
CREATED:20251222T220139Z
LAST-MODIFIED:20251222T220139Z
UID:10011470-1787594400-1787605200@murphysboro.com
SUMMARY:Weekly Monday Pokémon League – A2Z Trading Card Games
DESCRIPTION:
URL:https://murphysboro.com/event/weekly-monday-pokemon-league-a2z-trading-card-games-3/2026-08-24/
LOCATION:IL
CATEGORIES:Business
END:VEVENT
BEGIN:VEVENT
DTSTART;TZID=America/Chicago:20260825T180000
DTEND;TZID=America/Chicago:20260825T210000
DTSTAMP:20260423T101722
CREATED:20251223T121812Z
LAST-MODIFIED:20251223T121812Z
UID:10011894-1787680800-1787691600@murphysboro.com
SUMMARY:Weekly Advanced Format Yugioh – A2Z Trading Card Games
DESCRIPTION:
URL:https://murphysboro.com/event/weekly-advanced-format-yugioh-a2z-trading-card-games-3/2026-08-25/
LOCATION:IL
CATEGORIES:Business,Educational
END:VEVENT
BEGIN:VEVENT
DTSTART;TZID=America/Chicago:20260827T180000
DTEND;TZID=America/Chicago:20260827T210000
DTSTAMP:20260423T101722
CREATED:20251222T193308Z
LAST-MODIFIED:20251222T193308Z
UID:10011159-1787853600-1787864400@murphysboro.com
SUMMARY:Weekly Yugioh Genesys Format Tournament - A2Z Trading Card Games
DESCRIPTION:
URL:https://murphysboro.com/event/weekly-yugioh-genesys-format-tournament-a2z-trading-card-games/2026-08-27/
LOCATION:A2Z Trading Card Games\, 1003 Chestnut Street\, Murphysboro\, IL\, 62966\, United States
CATEGORIES:Business,Educational
END:VEVENT
BEGIN:VEVENT
DTSTART;TZID=America/Chicago:20260828T180000
DTEND;TZID=America/Chicago:20260828T220000
DTSTAMP:20260423T101722
CREATED:20251225T121452Z
LAST-MODIFIED:20251225T121452Z
UID:10012982-1787940000-1787954400@murphysboro.com
SUMMARY:Standard FNM – A2Z Trading Card Games
DESCRIPTION:
URL:https://murphysboro.com/event/standard-fnm-a2z-trading-card-games-3/2026-08-28/
LOCATION:A2Z Trading Card Games\, 1003 Chestnut Street\, Murphysboro\, IL\, 62966\, United States
CATEGORIES:Business
END:VEVENT
BEGIN:VEVENT
DTSTART;TZID=America/Chicago:20260829T150000
DTEND;TZID=America/Chicago:20260829T200000
DTSTAMP:20260423T101722
CREATED:20251226T120431Z
LAST-MODIFIED:20251226T120431Z
UID:10013186-1788015600-1788033600@murphysboro.com
SUMMARY:Pokémon Open Play and Trade – A2Z Trading Card Games
DESCRIPTION:
URL:https://murphysboro.com/event/pokemon-open-play-and-trade-a2z-trading-card-games-3/2026-08-29/
LOCATION:A2Z Trading Card Games\, 1003 Chestnut Street\, Murphysboro\, IL\, 62966\, United States
CATEGORIES:Business,Educational
END:VEVENT
BEGIN:VEVENT
DTSTART;TZID=America/Chicago:20260830T170000
DTEND;TZID=America/Chicago:20260830T210000
DTSTAMP:20260423T101722
CREATED:20251223T010142Z
LAST-MODIFIED:20251223T010142Z
UID:10011580-1788109200-1788123600@murphysboro.com
SUMMARY:Weekly Sunday Pokémon League – A2Z Trading Card Games
DESCRIPTION:
URL:https://murphysboro.com/event/weekly-sunday-pokemon-league-a2z-trading-card-games-3/2026-08-30/
LOCATION:IL
CATEGORIES:Business,Educational
END:VEVENT
BEGIN:VEVENT
DTSTART;TZID=America/Chicago:20260831T180000
DTEND;TZID=America/Chicago:20260831T210000
DTSTAMP:20260423T101722
CREATED:20251222T220139Z
LAST-MODIFIED:20251222T220139Z
UID:10011471-1788199200-1788210000@murphysboro.com
SUMMARY:Weekly Monday Pokémon League – A2Z Trading Card Games
DESCRIPTION:
URL:https://murphysboro.com/event/weekly-monday-pokemon-league-a2z-trading-card-games-3/2026-08-31/
LOCATION:IL
CATEGORIES:Business
END:VEVENT
BEGIN:VEVENT
DTSTART;TZID=America/Chicago:20260901T180000
DTEND;TZID=America/Chicago:20260901T210000
DTSTAMP:20260423T101722
CREATED:20251223T121812Z
LAST-MODIFIED:20251223T121812Z
UID:10011895-1788285600-1788296400@murphysboro.com
SUMMARY:Weekly Advanced Format Yugioh – A2Z Trading Card Games
DESCRIPTION:
URL:https://murphysboro.com/event/weekly-advanced-format-yugioh-a2z-trading-card-games-3/2026-09-01/
LOCATION:IL
CATEGORIES:Business,Educational
END:VEVENT
BEGIN:VEVENT
DTSTART;TZID=America/Chicago:20260903T180000
DTEND;TZID=America/Chicago:20260903T210000
DTSTAMP:20260423T101722
CREATED:20251222T193308Z
LAST-MODIFIED:20251222T193308Z
UID:10011160-1788458400-1788469200@murphysboro.com
SUMMARY:Weekly Yugioh Genesys Format Tournament - A2Z Trading Card Games
DESCRIPTION:
URL:https://murphysboro.com/event/weekly-yugioh-genesys-format-tournament-a2z-trading-card-games/2026-09-03/
LOCATION:A2Z Trading Card Games\, 1003 Chestnut Street\, Murphysboro\, IL\, 62966\, United States
CATEGORIES:Business,Educational
END:VEVENT
BEGIN:VEVENT
DTSTART;TZID=America/Chicago:20260904T180000
DTEND;TZID=America/Chicago:20260904T220000
DTSTAMP:20260423T101722
CREATED:20251225T121452Z
LAST-MODIFIED:20251225T121452Z
UID:10012983-1788544800-1788559200@murphysboro.com
SUMMARY:Standard FNM – A2Z Trading Card Games
DESCRIPTION:
URL:https://murphysboro.com/event/standard-fnm-a2z-trading-card-games-3/2026-09-04/
LOCATION:A2Z Trading Card Games\, 1003 Chestnut Street\, Murphysboro\, IL\, 62966\, United States
CATEGORIES:Business
END:VEVENT
BEGIN:VEVENT
DTSTART;TZID=America/Chicago:20260905T150000
DTEND;TZID=America/Chicago:20260905T200000
DTSTAMP:20260423T101722
CREATED:20251226T120431Z
LAST-MODIFIED:20251226T120431Z
UID:10013187-1788620400-1788638400@murphysboro.com
SUMMARY:Pokémon Open Play and Trade – A2Z Trading Card Games
DESCRIPTION:
URL:https://murphysboro.com/event/pokemon-open-play-and-trade-a2z-trading-card-games-3/2026-09-05/
LOCATION:A2Z Trading Card Games\, 1003 Chestnut Street\, Murphysboro\, IL\, 62966\, United States
CATEGORIES:Business,Educational
END:VEVENT
BEGIN:VEVENT
DTSTART;TZID=America/Chicago:20260906T170000
DTEND;TZID=America/Chicago:20260906T210000
DTSTAMP:20260423T101722
CREATED:20251223T010142Z
LAST-MODIFIED:20251223T010142Z
UID:10011581-1788714000-1788728400@murphysboro.com
SUMMARY:Weekly Sunday Pokémon League – A2Z Trading Card Games
DESCRIPTION:
URL:https://murphysboro.com/event/weekly-sunday-pokemon-league-a2z-trading-card-games-3/2026-09-06/
LOCATION:IL
CATEGORIES:Business,Educational
END:VEVENT
BEGIN:VEVENT
DTSTART;TZID=America/Chicago:20260907T180000
DTEND;TZID=America/Chicago:20260907T210000
DTSTAMP:20260423T101722
CREATED:20251222T220139Z
LAST-MODIFIED:20251222T220139Z
UID:10011472-1788804000-1788814800@murphysboro.com
SUMMARY:Weekly Monday Pokémon League – A2Z Trading Card Games
DESCRIPTION:
URL:https://murphysboro.com/event/weekly-monday-pokemon-league-a2z-trading-card-games-3/2026-09-07/
LOCATION:IL
CATEGORIES:Business
END:VEVENT
BEGIN:VEVENT
DTSTART;TZID=America/Chicago:20260908T180000
DTEND;TZID=America/Chicago:20260908T210000
DTSTAMP:20260423T101722
CREATED:20251223T121812Z
LAST-MODIFIED:20251223T121812Z
UID:10011896-1788890400-1788901200@murphysboro.com
SUMMARY:Weekly Advanced Format Yugioh – A2Z Trading Card Games
DESCRIPTION:
URL:https://murphysboro.com/event/weekly-advanced-format-yugioh-a2z-trading-card-games-3/2026-09-08/
LOCATION:IL
CATEGORIES:Business,Educational
END:VEVENT
END:VCALENDAR