BEGIN:VCALENDAR
VERSION:2.0
PRODID:-//The City of Murphysboro - ECPv6.15.20//NONSGML v1.0//EN
CALSCALE:GREGORIAN
METHOD:PUBLISH
X-WR-CALNAME:The City of Murphysboro
X-ORIGINAL-URL:https://murphysboro.com
X-WR-CALDESC:Events for The City of Murphysboro
REFRESH-INTERVAL;VALUE=DURATION:PT1H
X-Robots-Tag:noindex
X-PUBLISHED-TTL:PT1H
BEGIN:VTIMEZONE
TZID:America/Chicago
BEGIN:DAYLIGHT
TZOFFSETFROM:-0600
TZOFFSETTO:-0500
TZNAME:CDT
DTSTART:20250309T080000
END:DAYLIGHT
BEGIN:STANDARD
TZOFFSETFROM:-0500
TZOFFSETTO:-0600
TZNAME:CST
DTSTART:20251102T070000
END:STANDARD
BEGIN:DAYLIGHT
TZOFFSETFROM:-0600
TZOFFSETTO:-0500
TZNAME:CDT
DTSTART:20260308T080000
END:DAYLIGHT
BEGIN:STANDARD
TZOFFSETFROM:-0500
TZOFFSETTO:-0600
TZNAME:CST
DTSTART:20261101T070000
END:STANDARD
BEGIN:DAYLIGHT
TZOFFSETFROM:-0600
TZOFFSETTO:-0500
TZNAME:CDT
DTSTART:20270314T080000
END:DAYLIGHT
BEGIN:STANDARD
TZOFFSETFROM:-0500
TZOFFSETTO:-0600
TZNAME:CST
DTSTART:20271107T070000
END:STANDARD
END:VTIMEZONE
BEGIN:VEVENT
DTSTART;TZID=America/Chicago:20260824T170000
DTEND;TZID=America/Chicago:20260824T190000
DTSTAMP:20260421T190757
CREATED:20251222T215807Z
LAST-MODIFIED:20251222T215807Z
UID:10011366-1787590800-1787598000@murphysboro.com
SUMMARY:Jessie’s Table (dinner) – 724 Ministries
DESCRIPTION:
URL:https://murphysboro.com/event/jessies-table-dinner-724-ministries-4/2026-08-24/
LOCATION:724 Ministries\, 724 Walnut Street\, Murphysboro\, IL\, 62966\, United States
CATEGORIES:Business,Community Event
END:VEVENT
BEGIN:VEVENT
DTSTART;TZID=America/Chicago:20260830T160000
DTEND;TZID=America/Chicago:20260830T180000
DTSTAMP:20260421T190757
CREATED:20251223T010008Z
LAST-MODIFIED:20251223T010008Z
UID:10011528-1788105600-1788112800@murphysboro.com
SUMMARY:Dinner on the House – 724 Ministries
DESCRIPTION:
URL:https://murphysboro.com/event/dinner-on-the-house-724-ministries-45/2026-08-30/
LOCATION:724 Ministries\, 724 Walnut Street\, Murphysboro\, IL\, 62966\, United States
CATEGORIES:Business,Fundraiser
END:VEVENT
BEGIN:VEVENT
DTSTART;TZID=America/Chicago:20260831T170000
DTEND;TZID=America/Chicago:20260831T190000
DTSTAMP:20260421T190757
CREATED:20251222T215807Z
LAST-MODIFIED:20251222T215807Z
UID:10011367-1788195600-1788202800@murphysboro.com
SUMMARY:Jessie’s Table (dinner) – 724 Ministries
DESCRIPTION:
URL:https://murphysboro.com/event/jessies-table-dinner-724-ministries-4/2026-08-31/
LOCATION:724 Ministries\, 724 Walnut Street\, Murphysboro\, IL\, 62966\, United States
CATEGORIES:Business,Community Event
END:VEVENT
BEGIN:VEVENT
DTSTART;TZID=America/Chicago:20260906T160000
DTEND;TZID=America/Chicago:20260906T180000
DTSTAMP:20260421T190757
CREATED:20251223T010008Z
LAST-MODIFIED:20251223T010008Z
UID:10011529-1788710400-1788717600@murphysboro.com
SUMMARY:Dinner on the House – 724 Ministries
DESCRIPTION:
URL:https://murphysboro.com/event/dinner-on-the-house-724-ministries-45/2026-09-06/
LOCATION:724 Ministries\, 724 Walnut Street\, Murphysboro\, IL\, 62966\, United States
CATEGORIES:Business,Fundraiser
END:VEVENT
BEGIN:VEVENT
DTSTART;TZID=America/Chicago:20260907T170000
DTEND;TZID=America/Chicago:20260907T190000
DTSTAMP:20260421T190757
CREATED:20251222T215807Z
LAST-MODIFIED:20251222T215807Z
UID:10011368-1788800400-1788807600@murphysboro.com
SUMMARY:Jessie’s Table (dinner) – 724 Ministries
DESCRIPTION:
URL:https://murphysboro.com/event/jessies-table-dinner-724-ministries-4/2026-09-07/
LOCATION:724 Ministries\, 724 Walnut Street\, Murphysboro\, IL\, 62966\, United States
CATEGORIES:Business,Community Event
END:VEVENT
BEGIN:VEVENT
DTSTART;TZID=America/Chicago:20260913T160000
DTEND;TZID=America/Chicago:20260913T180000
DTSTAMP:20260421T190757
CREATED:20251223T010008Z
LAST-MODIFIED:20251223T010008Z
UID:10011530-1789315200-1789322400@murphysboro.com
SUMMARY:Dinner on the House – 724 Ministries
DESCRIPTION:
URL:https://murphysboro.com/event/dinner-on-the-house-724-ministries-45/2026-09-13/
LOCATION:724 Ministries\, 724 Walnut Street\, Murphysboro\, IL\, 62966\, United States
CATEGORIES:Business,Fundraiser
END:VEVENT
BEGIN:VEVENT
DTSTART;TZID=America/Chicago:20260914T170000
DTEND;TZID=America/Chicago:20260914T190000
DTSTAMP:20260421T190757
CREATED:20251222T215807Z
LAST-MODIFIED:20251222T215807Z
UID:10011369-1789405200-1789412400@murphysboro.com
SUMMARY:Jessie’s Table (dinner) – 724 Ministries
DESCRIPTION:
URL:https://murphysboro.com/event/jessies-table-dinner-724-ministries-4/2026-09-14/
LOCATION:724 Ministries\, 724 Walnut Street\, Murphysboro\, IL\, 62966\, United States
CATEGORIES:Business,Community Event
END:VEVENT
BEGIN:VEVENT
DTSTART;TZID=America/Chicago:20260920T160000
DTEND;TZID=America/Chicago:20260920T180000
DTSTAMP:20260421T190757
CREATED:20251223T010008Z
LAST-MODIFIED:20251223T010008Z
UID:10011531-1789920000-1789927200@murphysboro.com
SUMMARY:Dinner on the House – 724 Ministries
DESCRIPTION:
URL:https://murphysboro.com/event/dinner-on-the-house-724-ministries-45/2026-09-20/
LOCATION:724 Ministries\, 724 Walnut Street\, Murphysboro\, IL\, 62966\, United States
CATEGORIES:Business,Fundraiser
END:VEVENT
BEGIN:VEVENT
DTSTART;TZID=America/Chicago:20260921T170000
DTEND;TZID=America/Chicago:20260921T190000
DTSTAMP:20260421T190757
CREATED:20251222T215807Z
LAST-MODIFIED:20251222T215807Z
UID:10011370-1790010000-1790017200@murphysboro.com
SUMMARY:Jessie’s Table (dinner) – 724 Ministries
DESCRIPTION:
URL:https://murphysboro.com/event/jessies-table-dinner-724-ministries-4/2026-09-21/
LOCATION:724 Ministries\, 724 Walnut Street\, Murphysboro\, IL\, 62966\, United States
CATEGORIES:Business,Community Event
END:VEVENT
BEGIN:VEVENT
DTSTART;TZID=America/Chicago:20260927T160000
DTEND;TZID=America/Chicago:20260927T180000
DTSTAMP:20260421T190757
CREATED:20251223T010008Z
LAST-MODIFIED:20251223T010008Z
UID:10011532-1790524800-1790532000@murphysboro.com
SUMMARY:Dinner on the House – 724 Ministries
DESCRIPTION:
URL:https://murphysboro.com/event/dinner-on-the-house-724-ministries-45/2026-09-27/
LOCATION:724 Ministries\, 724 Walnut Street\, Murphysboro\, IL\, 62966\, United States
CATEGORIES:Business,Fundraiser
END:VEVENT
BEGIN:VEVENT
DTSTART;TZID=America/Chicago:20260928T170000
DTEND;TZID=America/Chicago:20260928T190000
DTSTAMP:20260421T190757
CREATED:20251222T215807Z
LAST-MODIFIED:20251222T215807Z
UID:10011371-1790614800-1790622000@murphysboro.com
SUMMARY:Jessie’s Table (dinner) – 724 Ministries
DESCRIPTION:
URL:https://murphysboro.com/event/jessies-table-dinner-724-ministries-4/2026-09-28/
LOCATION:724 Ministries\, 724 Walnut Street\, Murphysboro\, IL\, 62966\, United States
CATEGORIES:Business,Community Event
END:VEVENT
BEGIN:VEVENT
DTSTART;TZID=America/Chicago:20261004T160000
DTEND;TZID=America/Chicago:20261004T180000
DTSTAMP:20260421T190757
CREATED:20251223T010008Z
LAST-MODIFIED:20251223T010008Z
UID:10011533-1791129600-1791136800@murphysboro.com
SUMMARY:Dinner on the House – 724 Ministries
DESCRIPTION:
URL:https://murphysboro.com/event/dinner-on-the-house-724-ministries-45/2026-10-04/
LOCATION:724 Ministries\, 724 Walnut Street\, Murphysboro\, IL\, 62966\, United States
CATEGORIES:Business,Fundraiser
END:VEVENT
BEGIN:VEVENT
DTSTART;TZID=America/Chicago:20261005T170000
DTEND;TZID=America/Chicago:20261005T190000
DTSTAMP:20260421T190757
CREATED:20251222T215807Z
LAST-MODIFIED:20251222T215807Z
UID:10011372-1791219600-1791226800@murphysboro.com
SUMMARY:Jessie’s Table (dinner) – 724 Ministries
DESCRIPTION:
URL:https://murphysboro.com/event/jessies-table-dinner-724-ministries-4/2026-10-05/
LOCATION:724 Ministries\, 724 Walnut Street\, Murphysboro\, IL\, 62966\, United States
CATEGORIES:Business,Community Event
END:VEVENT
BEGIN:VEVENT
DTSTART;TZID=America/Chicago:20261011T160000
DTEND;TZID=America/Chicago:20261011T180000
DTSTAMP:20260421T190757
CREATED:20251223T010008Z
LAST-MODIFIED:20251223T010008Z
UID:10011534-1791734400-1791741600@murphysboro.com
SUMMARY:Dinner on the House – 724 Ministries
DESCRIPTION:
URL:https://murphysboro.com/event/dinner-on-the-house-724-ministries-45/2026-10-11/
LOCATION:724 Ministries\, 724 Walnut Street\, Murphysboro\, IL\, 62966\, United States
CATEGORIES:Business,Fundraiser
END:VEVENT
BEGIN:VEVENT
DTSTART;TZID=America/Chicago:20261012T170000
DTEND;TZID=America/Chicago:20261012T190000
DTSTAMP:20260421T190757
CREATED:20251222T215807Z
LAST-MODIFIED:20251222T215807Z
UID:10011373-1791824400-1791831600@murphysboro.com
SUMMARY:Jessie’s Table (dinner) – 724 Ministries
DESCRIPTION:
URL:https://murphysboro.com/event/jessies-table-dinner-724-ministries-4/2026-10-12/
LOCATION:724 Ministries\, 724 Walnut Street\, Murphysboro\, IL\, 62966\, United States
CATEGORIES:Business,Community Event
END:VEVENT
BEGIN:VEVENT
DTSTART;TZID=America/Chicago:20261018T160000
DTEND;TZID=America/Chicago:20261018T180000
DTSTAMP:20260421T190757
CREATED:20251223T010008Z
LAST-MODIFIED:20251223T010008Z
UID:10011535-1792339200-1792346400@murphysboro.com
SUMMARY:Dinner on the House – 724 Ministries
DESCRIPTION:
URL:https://murphysboro.com/event/dinner-on-the-house-724-ministries-45/2026-10-18/
LOCATION:724 Ministries\, 724 Walnut Street\, Murphysboro\, IL\, 62966\, United States
CATEGORIES:Business,Fundraiser
END:VEVENT
BEGIN:VEVENT
DTSTART;TZID=America/Chicago:20261019T170000
DTEND;TZID=America/Chicago:20261019T190000
DTSTAMP:20260421T190757
CREATED:20251222T215807Z
LAST-MODIFIED:20251222T215807Z
UID:10011374-1792429200-1792436400@murphysboro.com
SUMMARY:Jessie’s Table (dinner) – 724 Ministries
DESCRIPTION:
URL:https://murphysboro.com/event/jessies-table-dinner-724-ministries-4/2026-10-19/
LOCATION:724 Ministries\, 724 Walnut Street\, Murphysboro\, IL\, 62966\, United States
CATEGORIES:Business,Community Event
END:VEVENT
BEGIN:VEVENT
DTSTART;TZID=America/Chicago:20261025T160000
DTEND;TZID=America/Chicago:20261025T180000
DTSTAMP:20260421T190757
CREATED:20251223T010008Z
LAST-MODIFIED:20251223T010008Z
UID:10011536-1792944000-1792951200@murphysboro.com
SUMMARY:Dinner on the House – 724 Ministries
DESCRIPTION:
URL:https://murphysboro.com/event/dinner-on-the-house-724-ministries-45/2026-10-25/
LOCATION:724 Ministries\, 724 Walnut Street\, Murphysboro\, IL\, 62966\, United States
CATEGORIES:Business,Fundraiser
END:VEVENT
BEGIN:VEVENT
DTSTART;TZID=America/Chicago:20261026T170000
DTEND;TZID=America/Chicago:20261026T190000
DTSTAMP:20260421T190757
CREATED:20251222T215807Z
LAST-MODIFIED:20251222T215807Z
UID:10011375-1793034000-1793041200@murphysboro.com
SUMMARY:Jessie’s Table (dinner) – 724 Ministries
DESCRIPTION:
URL:https://murphysboro.com/event/jessies-table-dinner-724-ministries-4/2026-10-26/
LOCATION:724 Ministries\, 724 Walnut Street\, Murphysboro\, IL\, 62966\, United States
CATEGORIES:Business,Community Event
END:VEVENT
BEGIN:VEVENT
DTSTART;TZID=America/Chicago:20261101T160000
DTEND;TZID=America/Chicago:20261101T180000
DTSTAMP:20260421T190757
CREATED:20251223T010008Z
LAST-MODIFIED:20251223T010008Z
UID:10011537-1793548800-1793556000@murphysboro.com
SUMMARY:Dinner on the House – 724 Ministries
DESCRIPTION:
URL:https://murphysboro.com/event/dinner-on-the-house-724-ministries-45/2026-11-01/
LOCATION:724 Ministries\, 724 Walnut Street\, Murphysboro\, IL\, 62966\, United States
CATEGORIES:Business,Fundraiser
END:VEVENT
BEGIN:VEVENT
DTSTART;TZID=America/Chicago:20261102T170000
DTEND;TZID=America/Chicago:20261102T190000
DTSTAMP:20260421T190757
CREATED:20251222T215807Z
LAST-MODIFIED:20251222T215807Z
UID:10011376-1793638800-1793646000@murphysboro.com
SUMMARY:Jessie’s Table (dinner) – 724 Ministries
DESCRIPTION:
URL:https://murphysboro.com/event/jessies-table-dinner-724-ministries-4/2026-11-02/
LOCATION:724 Ministries\, 724 Walnut Street\, Murphysboro\, IL\, 62966\, United States
CATEGORIES:Business,Community Event
END:VEVENT
BEGIN:VEVENT
DTSTART;TZID=America/Chicago:20261108T160000
DTEND;TZID=America/Chicago:20261108T180000
DTSTAMP:20260421T190757
CREATED:20251223T010008Z
LAST-MODIFIED:20251223T010008Z
UID:10011538-1794153600-1794160800@murphysboro.com
SUMMARY:Dinner on the House – 724 Ministries
DESCRIPTION:
URL:https://murphysboro.com/event/dinner-on-the-house-724-ministries-45/2026-11-08/
LOCATION:724 Ministries\, 724 Walnut Street\, Murphysboro\, IL\, 62966\, United States
CATEGORIES:Business,Fundraiser
END:VEVENT
BEGIN:VEVENT
DTSTART;TZID=America/Chicago:20261109T170000
DTEND;TZID=America/Chicago:20261109T190000
DTSTAMP:20260421T190757
CREATED:20251222T215807Z
LAST-MODIFIED:20251222T215807Z
UID:10011377-1794243600-1794250800@murphysboro.com
SUMMARY:Jessie’s Table (dinner) – 724 Ministries
DESCRIPTION:
URL:https://murphysboro.com/event/jessies-table-dinner-724-ministries-4/2026-11-09/
LOCATION:724 Ministries\, 724 Walnut Street\, Murphysboro\, IL\, 62966\, United States
CATEGORIES:Business,Community Event
END:VEVENT
BEGIN:VEVENT
DTSTART;TZID=America/Chicago:20261115T160000
DTEND;TZID=America/Chicago:20261115T180000
DTSTAMP:20260421T190757
CREATED:20251223T010008Z
LAST-MODIFIED:20251223T010008Z
UID:10011539-1794758400-1794765600@murphysboro.com
SUMMARY:Dinner on the House – 724 Ministries
DESCRIPTION:
URL:https://murphysboro.com/event/dinner-on-the-house-724-ministries-45/2026-11-15/
LOCATION:724 Ministries\, 724 Walnut Street\, Murphysboro\, IL\, 62966\, United States
CATEGORIES:Business,Fundraiser
END:VEVENT
BEGIN:VEVENT
DTSTART;TZID=America/Chicago:20261116T170000
DTEND;TZID=America/Chicago:20261116T190000
DTSTAMP:20260421T190757
CREATED:20251222T215807Z
LAST-MODIFIED:20251222T215807Z
UID:10011378-1794848400-1794855600@murphysboro.com
SUMMARY:Jessie’s Table (dinner) – 724 Ministries
DESCRIPTION:
URL:https://murphysboro.com/event/jessies-table-dinner-724-ministries-4/2026-11-16/
LOCATION:724 Ministries\, 724 Walnut Street\, Murphysboro\, IL\, 62966\, United States
CATEGORIES:Business,Community Event
END:VEVENT
BEGIN:VEVENT
DTSTART;TZID=America/Chicago:20261122T160000
DTEND;TZID=America/Chicago:20261122T180000
DTSTAMP:20260421T190757
CREATED:20251223T010008Z
LAST-MODIFIED:20251223T010008Z
UID:10011540-1795363200-1795370400@murphysboro.com
SUMMARY:Dinner on the House – 724 Ministries
DESCRIPTION:
URL:https://murphysboro.com/event/dinner-on-the-house-724-ministries-45/2026-11-22/
LOCATION:724 Ministries\, 724 Walnut Street\, Murphysboro\, IL\, 62966\, United States
CATEGORIES:Business,Fundraiser
END:VEVENT
BEGIN:VEVENT
DTSTART;TZID=America/Chicago:20261123T170000
DTEND;TZID=America/Chicago:20261123T190000
DTSTAMP:20260421T190757
CREATED:20251222T215807Z
LAST-MODIFIED:20251222T215807Z
UID:10011379-1795453200-1795460400@murphysboro.com
SUMMARY:Jessie’s Table (dinner) – 724 Ministries
DESCRIPTION:
URL:https://murphysboro.com/event/jessies-table-dinner-724-ministries-4/2026-11-23/
LOCATION:724 Ministries\, 724 Walnut Street\, Murphysboro\, IL\, 62966\, United States
CATEGORIES:Business,Community Event
END:VEVENT
BEGIN:VEVENT
DTSTART;TZID=America/Chicago:20261129T160000
DTEND;TZID=America/Chicago:20261129T180000
DTSTAMP:20260421T190757
CREATED:20251223T010008Z
LAST-MODIFIED:20251223T010008Z
UID:10011541-1795968000-1795975200@murphysboro.com
SUMMARY:Dinner on the House – 724 Ministries
DESCRIPTION:
URL:https://murphysboro.com/event/dinner-on-the-house-724-ministries-45/2026-11-29/
LOCATION:724 Ministries\, 724 Walnut Street\, Murphysboro\, IL\, 62966\, United States
CATEGORIES:Business,Fundraiser
END:VEVENT
BEGIN:VEVENT
DTSTART;TZID=America/Chicago:20261130T170000
DTEND;TZID=America/Chicago:20261130T190000
DTSTAMP:20260421T190757
CREATED:20251222T215807Z
LAST-MODIFIED:20251222T215807Z
UID:10011380-1796058000-1796065200@murphysboro.com
SUMMARY:Jessie’s Table (dinner) – 724 Ministries
DESCRIPTION:
URL:https://murphysboro.com/event/jessies-table-dinner-724-ministries-4/2026-11-30/
LOCATION:724 Ministries\, 724 Walnut Street\, Murphysboro\, IL\, 62966\, United States
CATEGORIES:Business,Community Event
END:VEVENT
BEGIN:VEVENT
DTSTART;TZID=America/Chicago:20261206T160000
DTEND;TZID=America/Chicago:20261206T180000
DTSTAMP:20260421T190757
CREATED:20251223T010008Z
LAST-MODIFIED:20251223T010008Z
UID:10011542-1796572800-1796580000@murphysboro.com
SUMMARY:Dinner on the House – 724 Ministries
DESCRIPTION:
URL:https://murphysboro.com/event/dinner-on-the-house-724-ministries-45/2026-12-06/
LOCATION:724 Ministries\, 724 Walnut Street\, Murphysboro\, IL\, 62966\, United States
CATEGORIES:Business,Fundraiser
END:VEVENT
END:VCALENDAR