BEGIN:VCALENDAR
VERSION:2.0
PRODID:-//The City of Murphysboro - ECPv6.15.20//NONSGML v1.0//EN
CALSCALE:GREGORIAN
METHOD:PUBLISH
X-ORIGINAL-URL:https://murphysboro.com
X-WR-CALDESC:Events for The City of Murphysboro
REFRESH-INTERVAL;VALUE=DURATION:PT1H
X-Robots-Tag:noindex
X-PUBLISHED-TTL:PT1H
BEGIN:VTIMEZONE
TZID:UTC
BEGIN:STANDARD
TZOFFSETFROM:+0000
TZOFFSETTO:+0000
TZNAME:UTC
DTSTART:20240101T000000
END:STANDARD
END:VTIMEZONE
BEGIN:VTIMEZONE
TZID:America/Chicago
BEGIN:DAYLIGHT
TZOFFSETFROM:-0600
TZOFFSETTO:-0500
TZNAME:CDT
DTSTART:20240310T080000
END:DAYLIGHT
BEGIN:STANDARD
TZOFFSETFROM:-0500
TZOFFSETTO:-0600
TZNAME:CST
DTSTART:20241103T070000
END:STANDARD
BEGIN:DAYLIGHT
TZOFFSETFROM:-0600
TZOFFSETTO:-0500
TZNAME:CDT
DTSTART:20250309T080000
END:DAYLIGHT
BEGIN:STANDARD
TZOFFSETFROM:-0500
TZOFFSETTO:-0600
TZNAME:CST
DTSTART:20251102T070000
END:STANDARD
BEGIN:DAYLIGHT
TZOFFSETFROM:-0600
TZOFFSETTO:-0500
TZNAME:CDT
DTSTART:20260308T080000
END:DAYLIGHT
BEGIN:STANDARD
TZOFFSETFROM:-0500
TZOFFSETTO:-0600
TZNAME:CST
DTSTART:20261101T070000
END:STANDARD
END:VTIMEZONE
BEGIN:VEVENT
DTSTART;TZID=UTC:20251023T093000
DTEND;TZID=UTC:20251023T110000
DTSTAMP:20260419T093833
CREATED:20241223T212234Z
LAST-MODIFIED:20241223T212306Z
UID:10007446-1761211800-1761217200@murphysboro.com
SUMMARY:Line Dancing - Senior Center
DESCRIPTION:
URL:https://murphysboro.com/event/line-dancing-senior-center-11-2/2025-10-23/
END:VEVENT
BEGIN:VEVENT
DTSTART;TZID=America/Chicago:20251023T110000
DTEND;TZID=America/Chicago:20251023T120000
DTSTAMP:20260419T093833
CREATED:20251021T121455Z
LAST-MODIFIED:20251021T121455Z
UID:10010459-1761217200-1761220800@murphysboro.com
SUMMARY:Senior Fraud Protection Seminar - Senior Center
DESCRIPTION:
URL:https://murphysboro.com/event/senior-fraud-protection-seminar-senior-center/
CATEGORIES:Business,Educational
END:VEVENT
BEGIN:VEVENT
DTSTART;TZID=UTC:20251023T130000
DTEND;TZID=UTC:20251023T160000
DTSTAMP:20260419T093833
CREATED:20241226T115715Z
LAST-MODIFIED:20241226T115736Z
UID:10008340-1761224400-1761235200@murphysboro.com
SUMMARY:Open hours - Logan Museum
DESCRIPTION:
URL:https://murphysboro.com/event/open-hours-logan-museum-62-2/2025-10-23/
END:VEVENT
BEGIN:VEVENT
DTSTART;TZID=UTC:20251023T161500
DTEND;TZID=UTC:20251023T171500
DTSTAMP:20260419T093833
CREATED:20241226T115850Z
LAST-MODIFIED:20241226T115911Z
UID:10008392-1761236100-1761239700@murphysboro.com
SUMMARY:Yoga Class - Event Center
DESCRIPTION:
URL:https://murphysboro.com/event/yoga-class-event-center-12-2-2/2025-10-23/
CATEGORIES:Community Event
END:VEVENT
BEGIN:VEVENT
DTSTART;TZID=America/Chicago:20251023T173000
DTEND;TZID=America/Chicago:20251023T183000
DTSTAMP:20260419T093833
CREATED:20250825T155316Z
LAST-MODIFIED:20250825T155316Z
UID:10010163-1761240600-1761244200@murphysboro.com
SUMMARY:Exercise Class - Topp Shape
DESCRIPTION:
URL:https://murphysboro.com/event/exercise-class-topp-shape-6/2025-10-23/
CATEGORIES:Business
END:VEVENT
BEGIN:VEVENT
DTSTART;TZID=America/Chicago:20251023T180000
DTEND;TZID=America/Chicago:20251023T190000
DTSTAMP:20260419T093833
CREATED:20241223T215335Z
LAST-MODIFIED:20241223T215357Z
UID:10007716-1761242400-1761246000@murphysboro.com
SUMMARY:Body by Brent Bootcamp - Youth and Recreation Center
DESCRIPTION:
URL:https://murphysboro.com/event/body-by-brent-bootcamp-youth-and-recreation-center-2-2/2025-10-23/
LOCATION:Youth and Rec Center\, 1818 Walnut Street\, Murphysboro\, IL\, 62966\, United States
CATEGORIES:Camp,Community Event
END:VEVENT
BEGIN:VEVENT
DTSTART;TZID=America/Chicago:20251023T180000
DTEND;TZID=America/Chicago:20251023T200000
DTSTAMP:20260419T093833
CREATED:20241108T112325Z
LAST-MODIFIED:20250204T211111Z
UID:10008986-1761242400-1761249600@murphysboro.com
SUMMARY:Last Queen Standing - Rosie's Video Gaming
DESCRIPTION:
URL:https://murphysboro.com/event/last-queen-standing-rosies-video-gaming/2025-10-23/
CATEGORIES:Business
END:VEVENT
BEGIN:VEVENT
DTSTART;TZID=America/Chicago:20251023T180000
DTEND;TZID=America/Chicago:20251023T200000
DTSTAMP:20260419T093833
CREATED:20251022T114659Z
LAST-MODIFIED:20251023T224141Z
UID:10010470-1761242400-1761249600@murphysboro.com
SUMMARY:Witches Night Out - Faye
DESCRIPTION:
URL:https://murphysboro.com/event/witches-night-out-faye/
LOCATION:Faye\, 1616 Walnut\, Murphysboro\, IL\, 62966\, United States
CATEGORIES:Business
END:VEVENT
BEGIN:VEVENT
DTSTART;TZID=UTC:20251023T190000
DTEND;TZID=UTC:20251023T210000
DTSTAMP:20260419T093833
CREATED:20241226T120218Z
LAST-MODIFIED:20241226T120245Z
UID:10008548-1761246000-1761253200@murphysboro.com
SUMMARY:Bingo Night - American Legion
DESCRIPTION:
URL:https://murphysboro.com/event/bingo-night-american-legion-11-2/2025-10-23/
END:VEVENT
BEGIN:VEVENT
DTSTART;TZID=America/Chicago:20251023T200000
DTEND;TZID=America/Chicago:20251023T220000
DTSTAMP:20260419T093833
CREATED:20241226T120112Z
LAST-MODIFIED:20241226T120135Z
UID:10008496-1761249600-1761256800@murphysboro.com
SUMMARY:Trivia Night - Brews Brothers Taproom
DESCRIPTION:
URL:https://murphysboro.com/event/trivia-night-brews-brothers-taproom-45-2/2025-10-23/
END:VEVENT
BEGIN:VEVENT
DTSTART;TZID=UTC:20251024T073000
DTEND;TZID=UTC:20251024T150000
DTSTAMP:20260419T093833
CREATED:20241223T214551Z
LAST-MODIFIED:20241223T214620Z
UID:10007552-1761291000-1761318000@murphysboro.com
SUMMARY:City Storage Yard Open – Shomaker Drive
DESCRIPTION:
URL:https://murphysboro.com/event/open-hours-logan-museum-141-2/2025-10-24/
CATEGORIES:Community Event
END:VEVENT
BEGIN:VEVENT
DTSTART;TZID=America/Chicago:20251024T080000
DTEND;TZID=America/Chicago:20251024T090000
DTSTAMP:20260419T093833
CREATED:20250825T115935Z
LAST-MODIFIED:20250825T115935Z
UID:10010088-1761292800-1761296400@murphysboro.com
SUMMARY:Exercise Class - Topp Shape
DESCRIPTION:
URL:https://murphysboro.com/event/exercise-class-topp-shape-3/2025-10-24/
END:VEVENT
BEGIN:VEVENT
DTSTART;TZID=UTC:20251024T120000
DTEND;TZID=UTC:20251024T150000
DTSTAMP:20260419T093833
CREATED:20241225T195104Z
LAST-MODIFIED:20241225T195128Z
UID:10007976-1761307200-1761318000@murphysboro.com
SUMMARY:Open hours - Jackson County Historical Society
DESCRIPTION:
URL:https://murphysboro.com/event/fried-chicken-dinner-knights-of-columbus-hall-8-2-2/2025-10-24/
LOCATION:Jackson County Historical Society\, 1616 Edith Street\, Murphysboro\, IL\, 62966\, United States
CATEGORIES:Business,Educational
END:VEVENT
BEGIN:VEVENT
DTSTART;TZID=UTC:20251024T130000
DTEND;TZID=UTC:20251024T160000
DTSTAMP:20260419T093833
CREATED:20241226T115516Z
LAST-MODIFIED:20241226T115546Z
UID:10008288-1761310800-1761321600@murphysboro.com
SUMMARY:Open Hours - Logan Museum
DESCRIPTION:
URL:https://murphysboro.com/event/open-hours-logan-museum-263-2/2025-10-24/
LOCATION:John A. Logan Museum\, 1613 Edith\, Murphysboro
END:VEVENT
BEGIN:VEVENT
DTSTART;TZID=America/Chicago:20251024T151500
DTEND;TZID=America/Chicago:20251024T164500
DTSTAMP:20260419T093833
CREATED:20250907T112710Z
LAST-MODIFIED:20250907T112710Z
UID:10010274-1761318900-1761324300@murphysboro.com
SUMMARY:Writers Camp - Sallie Logan Library
DESCRIPTION:
URL:https://murphysboro.com/event/writers-camp-sallie-logan-library/2025-10-24/
LOCATION:Sallie Logan Library\, 1808 Walnut Street\, Murphysboro\, IL\, 62966\, United States
CATEGORIES:Arts | Culture,Educational
END:VEVENT
BEGIN:VEVENT
DTSTART;TZID=America/Chicago:20251024T180000
DTEND;TZID=America/Chicago:20251024T190000
DTSTAMP:20260419T093833
CREATED:20250820T124405Z
LAST-MODIFIED:20250820T124405Z
UID:10009982-1761328800-1761332400@murphysboro.com
SUMMARY:Surya Flow - Yoga on the Block
DESCRIPTION:
URL:https://murphysboro.com/event/surya-flow-yoga-on-the-block/2025-10-24/
CATEGORIES:Business
END:VEVENT
BEGIN:VEVENT
DTSTART;TZID=America/Chicago:20251024T180000
DTEND;TZID=America/Chicago:20251024T220000
DTSTAMP:20260419T093833
CREATED:20241221T123804Z
LAST-MODIFIED:20250307T135938Z
UID:10009098-1761328800-1761343200@murphysboro.com
SUMMARY:Standard FNM – A2Z Trading Card Games
DESCRIPTION:
URL:https://murphysboro.com/event/standard-fnm-a2z-trading-card-games/2025-10-24/
CATEGORIES:Business
END:VEVENT
BEGIN:VEVENT
DTSTART;TZID=UTC:20251024T190000
DTEND;TZID=UTC:20251024T200000
DTSTAMP:20260419T093833
CREATED:20241226T120623Z
LAST-MODIFIED:20241226T120643Z
UID:10008652-1761332400-1761336000@murphysboro.com
SUMMARY:Queen of Hearts - American Legion
DESCRIPTION:
URL:https://murphysboro.com/event/queen-of-hearts-american-legion-11-2/2025-10-24/
END:VEVENT
BEGIN:VEVENT
DTSTART;TZID=America/Chicago:20251024T190000
DTEND;TZID=America/Chicago:20251024T233000
DTSTAMP:20260419T093833
CREATED:20250921T115420Z
LAST-MODIFIED:20250921T115420Z
UID:10010399-1761332400-1761348600@murphysboro.com
SUMMARY:Halloween Party - Rosie's Gaming
DESCRIPTION:
URL:https://murphysboro.com/event/halloween-party-rosies-gaming/
CATEGORIES:Business
END:VEVENT
BEGIN:VEVENT
DTSTART;TZID=America/Chicago:20251025T093000
DTEND;TZID=America/Chicago:20251025T103000
DTSTAMP:20260419T093833
CREATED:20241223T215024Z
LAST-MODIFIED:20241223T215049Z
UID:10007610-1761384600-1761388200@murphysboro.com
SUMMARY:Body by Brent Bootcamp - Youth and Recreation Center
DESCRIPTION:
URL:https://murphysboro.com/event/body-by-brent-bootcamp-youth-and-recreation-center-3-2/2025-10-25/
LOCATION:Youth and Rec Center\, 1818 Walnut Street\, Murphysboro\, IL\, 62966\, United States
CATEGORIES:Camp,Community Event
END:VEVENT
BEGIN:VEVENT
DTSTART;TZID=America/Chicago:20251025T103000
DTEND;TZID=America/Chicago:20251025T113000
DTSTAMP:20260419T093833
CREATED:20251014T100859Z
LAST-MODIFIED:20251014T100859Z
UID:10010454-1761388200-1761391800@murphysboro.com
SUMMARY:Painting With Coffee - Sallie Logan Library
DESCRIPTION:
URL:https://murphysboro.com/event/painting-with-coffee-sallie-logan-library/
LOCATION:Sallie Logan Library\, 1808 Walnut Street\, Murphysboro\, IL\, 62966\, United States
CATEGORIES:Arts | Culture,Business,Educational
END:VEVENT
BEGIN:VEVENT
DTSTART;TZID=UTC:20251025T130000
DTEND;TZID=UTC:20251025T160000
DTSTAMP:20260419T093833
CREATED:20241226T120917Z
LAST-MODIFIED:20241226T120936Z
UID:10008704-1761397200-1761408000@murphysboro.com
SUMMARY:Open hours - Logan Museum
DESCRIPTION:
URL:https://murphysboro.com/event/open-hours-logan-museum-64-2/2025-10-25/
END:VEVENT
BEGIN:VEVENT
DTSTART;TZID=America/Chicago:20251025T133000
DTEND;TZID=America/Chicago:20251025T153000
DTSTAMP:20260419T093833
CREATED:20250919T124230Z
LAST-MODIFIED:20250919T124230Z
UID:10010325-1761399000-1761406200@murphysboro.com
SUMMARY:Wild Food Tasting - Scratch Brewing
DESCRIPTION:
URL:https://murphysboro.com/event/wild-food-tasting-scratch-brewing/
CATEGORIES:Business,Educational,Outdoor
END:VEVENT
BEGIN:VEVENT
DTSTART;TZID=America/Chicago:20251025T150000
DTEND;TZID=America/Chicago:20251025T180000
DTSTAMP:20260419T093833
CREATED:20251024T101100Z
LAST-MODIFIED:20251024T101100Z
UID:10010480-1761404400-1761415200@murphysboro.com
SUMMARY:Fall Festival - Elm Street Baptist Church
DESCRIPTION:
URL:https://murphysboro.com/event/fall-festival-elm-street-baptist-church/
CATEGORIES:Community Event,Festival
END:VEVENT
BEGIN:VEVENT
DTSTART;TZID=America/Chicago:20251025T150000
DTEND;TZID=America/Chicago:20251025T200000
DTSTAMP:20260419T093833
CREATED:20241129T223603Z
LAST-MODIFIED:20241130T113241Z
UID:10006849-1761404400-1761422400@murphysboro.com
SUMMARY:Pokemon Open Play and Trade - A2Z Trading Card Games
DESCRIPTION:
URL:https://murphysboro.com/event/pokemon-open-play-and-trade-a2z-trading-card-games/2025-10-25/
CATEGORIES:Business,Kid Friendly
END:VEVENT
BEGIN:VEVENT
DTSTART;TZID=America/Chicago:20251025T190000
DTEND;TZID=America/Chicago:20251025T210000
DTSTAMP:20260419T093833
CREATED:20251021T124107Z
LAST-MODIFIED:20251021T124107Z
UID:10010463-1761418800-1761426000@murphysboro.com
SUMMARY:No Fold Wrestling - Youth and Rec Center
DESCRIPTION:
URL:https://murphysboro.com/event/no-fold-wrestling-youth-and-rec-center-2/
LOCATION:Youth and Rec Center\, 1818 Walnut Street\, Murphysboro\, IL\, 62966\, United States
CATEGORIES:Business,Sports
END:VEVENT
BEGIN:VEVENT
DTSTART;TZID=America/Chicago:20251025T190000
DTEND;TZID=America/Chicago:20251025T210000
DTSTAMP:20260419T093833
CREATED:20251023T165733Z
LAST-MODIFIED:20251023T165733Z
UID:10010477-1761418800-1761426000@murphysboro.com
SUMMARY:Halloween Trivia - Rosie's Gaming
DESCRIPTION:
URL:https://murphysboro.com/event/halloween-trivia-rosies-gaming/
CATEGORIES:Business
END:VEVENT
BEGIN:VEVENT
DTSTART;TZID=America/Chicago:20251025T190000
DTEND;TZID=America/Chicago:20251025T220000
DTSTAMP:20260419T093833
CREATED:20251010T124121Z
LAST-MODIFIED:20251010T124121Z
UID:10010446-1761418800-1761429600@murphysboro.com
SUMMARY:Halloween Party - Southpaw Bar and Grill
DESCRIPTION:
URL:https://murphysboro.com/event/halloween-party-southpaw-bar-and-grill/
LOCATION:Southpaw Bar and Grill\, 1 Apple City Center\, Murphysboro\, IL\, 62966\, United States
CATEGORIES:Business
END:VEVENT
BEGIN:VEVENT
DTSTART;TZID=America/Chicago:20251026T140000
DTEND;TZID=America/Chicago:20251026T170000
DTSTAMP:20260419T093833
CREATED:20250828T100452Z
LAST-MODIFIED:20250828T100452Z
UID:10010217-1761487200-1761498000@murphysboro.com
SUMMARY:Cemetery Walk - Logan Museum
DESCRIPTION:
URL:https://murphysboro.com/event/cemetery-walk-logan-museum/
CATEGORIES:Educational,Outdoor
END:VEVENT
BEGIN:VEVENT
DTSTART;TZID=UTC:20251026T160000
DTEND;TZID=UTC:20251026T180000
DTSTAMP:20260419T093833
CREATED:20241226T121053Z
LAST-MODIFIED:20241226T121116Z
UID:10010384-1761494400-1761501600@murphysboro.com
SUMMARY:Dinner on the House - 724 Ministries
DESCRIPTION:
URL:https://murphysboro.com/event/dinner-on-the-house-724-ministries-11-2/2025-10-26/
END:VEVENT
END:VCALENDAR