BEGIN:VCALENDAR
VERSION:2.0
PRODID:-//The City of Murphysboro - ECPv6.15.16.1//NONSGML v1.0//EN
CALSCALE:GREGORIAN
METHOD:PUBLISH
X-WR-CALNAME:The City of Murphysboro
X-ORIGINAL-URL:https://murphysboro.com
X-WR-CALDESC:Events for The City of Murphysboro
REFRESH-INTERVAL;VALUE=DURATION:PT1H
X-Robots-Tag:noindex
X-PUBLISHED-TTL:PT1H
BEGIN:VTIMEZONE
TZID:America/Chicago
BEGIN:DAYLIGHT
TZOFFSETFROM:-0600
TZOFFSETTO:-0500
TZNAME:CDT
DTSTART:20250309T080000
END:DAYLIGHT
BEGIN:STANDARD
TZOFFSETFROM:-0500
TZOFFSETTO:-0600
TZNAME:CST
DTSTART:20251102T070000
END:STANDARD
BEGIN:DAYLIGHT
TZOFFSETFROM:-0600
TZOFFSETTO:-0500
TZNAME:CDT
DTSTART:20260308T080000
END:DAYLIGHT
BEGIN:STANDARD
TZOFFSETFROM:-0500
TZOFFSETTO:-0600
TZNAME:CST
DTSTART:20261101T070000
END:STANDARD
BEGIN:DAYLIGHT
TZOFFSETFROM:-0600
TZOFFSETTO:-0500
TZNAME:CDT
DTSTART:20270314T080000
END:DAYLIGHT
BEGIN:STANDARD
TZOFFSETFROM:-0500
TZOFFSETTO:-0600
TZNAME:CST
DTSTART:20271107T070000
END:STANDARD
END:VTIMEZONE
BEGIN:VEVENT
DTSTART;TZID=America/Chicago:20260227T180000
DTEND;TZID=America/Chicago:20260227T190000
DTSTAMP:20260225T175451
CREATED:20260104T113431Z
LAST-MODIFIED:20260104T113431Z
UID:10013555-1772215200-1772218800@murphysboro.com
SUMMARY:Fundamentals | Jiu Jitsu (age 13+) - Black Tie Jiu Jitsu
DESCRIPTION:
URL:https://murphysboro.com/event/fundamentals-jiu-jitsu-age-13-black-tie-jiu-jitsu-3/2026-02-27/
CATEGORIES:Business,Sports
END:VEVENT
BEGIN:VEVENT
DTSTART;TZID=America/Chicago:20260306T180000
DTEND;TZID=America/Chicago:20260306T190000
DTSTAMP:20260225T175451
CREATED:20260104T113431Z
LAST-MODIFIED:20260104T113431Z
UID:10013556-1772820000-1772823600@murphysboro.com
SUMMARY:Fundamentals | Jiu Jitsu (age 13+) - Black Tie Jiu Jitsu
DESCRIPTION:
URL:https://murphysboro.com/event/fundamentals-jiu-jitsu-age-13-black-tie-jiu-jitsu-3/2026-03-06/
CATEGORIES:Business,Sports
END:VEVENT
BEGIN:VEVENT
DTSTART;TZID=America/Chicago:20260313T180000
DTEND;TZID=America/Chicago:20260313T190000
DTSTAMP:20260225T175451
CREATED:20260104T113431Z
LAST-MODIFIED:20260104T113431Z
UID:10013557-1773424800-1773428400@murphysboro.com
SUMMARY:Fundamentals | Jiu Jitsu (age 13+) - Black Tie Jiu Jitsu
DESCRIPTION:
URL:https://murphysboro.com/event/fundamentals-jiu-jitsu-age-13-black-tie-jiu-jitsu-3/2026-03-13/
CATEGORIES:Business,Sports
END:VEVENT
BEGIN:VEVENT
DTSTART;TZID=America/Chicago:20260320T180000
DTEND;TZID=America/Chicago:20260320T190000
DTSTAMP:20260225T175451
CREATED:20260104T113431Z
LAST-MODIFIED:20260104T113431Z
UID:10013558-1774029600-1774033200@murphysboro.com
SUMMARY:Fundamentals | Jiu Jitsu (age 13+) - Black Tie Jiu Jitsu
DESCRIPTION:
URL:https://murphysboro.com/event/fundamentals-jiu-jitsu-age-13-black-tie-jiu-jitsu-3/2026-03-20/
CATEGORIES:Business,Sports
END:VEVENT
BEGIN:VEVENT
DTSTART;TZID=America/Chicago:20260327T180000
DTEND;TZID=America/Chicago:20260327T190000
DTSTAMP:20260225T175451
CREATED:20260104T113431Z
LAST-MODIFIED:20260104T113431Z
UID:10013559-1774634400-1774638000@murphysboro.com
SUMMARY:Fundamentals | Jiu Jitsu (age 13+) - Black Tie Jiu Jitsu
DESCRIPTION:
URL:https://murphysboro.com/event/fundamentals-jiu-jitsu-age-13-black-tie-jiu-jitsu-3/2026-03-27/
CATEGORIES:Business,Sports
END:VEVENT
BEGIN:VEVENT
DTSTART;TZID=America/Chicago:20260403T180000
DTEND;TZID=America/Chicago:20260403T190000
DTSTAMP:20260225T175451
CREATED:20260104T113431Z
LAST-MODIFIED:20260104T113431Z
UID:10013560-1775239200-1775242800@murphysboro.com
SUMMARY:Fundamentals | Jiu Jitsu (age 13+) - Black Tie Jiu Jitsu
DESCRIPTION:
URL:https://murphysboro.com/event/fundamentals-jiu-jitsu-age-13-black-tie-jiu-jitsu-3/2026-04-03/
CATEGORIES:Business,Sports
END:VEVENT
BEGIN:VEVENT
DTSTART;TZID=America/Chicago:20260410T180000
DTEND;TZID=America/Chicago:20260410T190000
DTSTAMP:20260225T175451
CREATED:20260104T113431Z
LAST-MODIFIED:20260104T113431Z
UID:10013561-1775844000-1775847600@murphysboro.com
SUMMARY:Fundamentals | Jiu Jitsu (age 13+) - Black Tie Jiu Jitsu
DESCRIPTION:
URL:https://murphysboro.com/event/fundamentals-jiu-jitsu-age-13-black-tie-jiu-jitsu-3/2026-04-10/
CATEGORIES:Business,Sports
END:VEVENT
BEGIN:VEVENT
DTSTART;TZID=America/Chicago:20260417T180000
DTEND;TZID=America/Chicago:20260417T190000
DTSTAMP:20260225T175451
CREATED:20260104T113431Z
LAST-MODIFIED:20260104T113431Z
UID:10013562-1776448800-1776452400@murphysboro.com
SUMMARY:Fundamentals | Jiu Jitsu (age 13+) - Black Tie Jiu Jitsu
DESCRIPTION:
URL:https://murphysboro.com/event/fundamentals-jiu-jitsu-age-13-black-tie-jiu-jitsu-3/2026-04-17/
CATEGORIES:Business,Sports
END:VEVENT
BEGIN:VEVENT
DTSTART;TZID=America/Chicago:20260424T180000
DTEND;TZID=America/Chicago:20260424T190000
DTSTAMP:20260225T175451
CREATED:20260104T113431Z
LAST-MODIFIED:20260104T113431Z
UID:10013563-1777053600-1777057200@murphysboro.com
SUMMARY:Fundamentals | Jiu Jitsu (age 13+) - Black Tie Jiu Jitsu
DESCRIPTION:
URL:https://murphysboro.com/event/fundamentals-jiu-jitsu-age-13-black-tie-jiu-jitsu-3/2026-04-24/
CATEGORIES:Business,Sports
END:VEVENT
BEGIN:VEVENT
DTSTART;TZID=America/Chicago:20260501T180000
DTEND;TZID=America/Chicago:20260501T190000
DTSTAMP:20260225T175451
CREATED:20260104T113431Z
LAST-MODIFIED:20260104T113431Z
UID:10013564-1777658400-1777662000@murphysboro.com
SUMMARY:Fundamentals | Jiu Jitsu (age 13+) - Black Tie Jiu Jitsu
DESCRIPTION:
URL:https://murphysboro.com/event/fundamentals-jiu-jitsu-age-13-black-tie-jiu-jitsu-3/2026-05-01/
CATEGORIES:Business,Sports
END:VEVENT
BEGIN:VEVENT
DTSTART;TZID=America/Chicago:20260508T180000
DTEND;TZID=America/Chicago:20260508T190000
DTSTAMP:20260225T175451
CREATED:20260104T113431Z
LAST-MODIFIED:20260104T113431Z
UID:10013565-1778263200-1778266800@murphysboro.com
SUMMARY:Fundamentals | Jiu Jitsu (age 13+) - Black Tie Jiu Jitsu
DESCRIPTION:
URL:https://murphysboro.com/event/fundamentals-jiu-jitsu-age-13-black-tie-jiu-jitsu-3/2026-05-08/
CATEGORIES:Business,Sports
END:VEVENT
BEGIN:VEVENT
DTSTART;TZID=America/Chicago:20260515T180000
DTEND;TZID=America/Chicago:20260515T190000
DTSTAMP:20260225T175451
CREATED:20260104T113431Z
LAST-MODIFIED:20260104T113431Z
UID:10013566-1778868000-1778871600@murphysboro.com
SUMMARY:Fundamentals | Jiu Jitsu (age 13+) - Black Tie Jiu Jitsu
DESCRIPTION:
URL:https://murphysboro.com/event/fundamentals-jiu-jitsu-age-13-black-tie-jiu-jitsu-3/2026-05-15/
CATEGORIES:Business,Sports
END:VEVENT
BEGIN:VEVENT
DTSTART;TZID=America/Chicago:20260522T180000
DTEND;TZID=America/Chicago:20260522T190000
DTSTAMP:20260225T175451
CREATED:20260104T113431Z
LAST-MODIFIED:20260104T113431Z
UID:10013567-1779472800-1779476400@murphysboro.com
SUMMARY:Fundamentals | Jiu Jitsu (age 13+) - Black Tie Jiu Jitsu
DESCRIPTION:
URL:https://murphysboro.com/event/fundamentals-jiu-jitsu-age-13-black-tie-jiu-jitsu-3/2026-05-22/
CATEGORIES:Business,Sports
END:VEVENT
BEGIN:VEVENT
DTSTART;TZID=America/Chicago:20260529T180000
DTEND;TZID=America/Chicago:20260529T190000
DTSTAMP:20260225T175451
CREATED:20260104T113431Z
LAST-MODIFIED:20260104T113431Z
UID:10013568-1780077600-1780081200@murphysboro.com
SUMMARY:Fundamentals | Jiu Jitsu (age 13+) - Black Tie Jiu Jitsu
DESCRIPTION:
URL:https://murphysboro.com/event/fundamentals-jiu-jitsu-age-13-black-tie-jiu-jitsu-3/2026-05-29/
CATEGORIES:Business,Sports
END:VEVENT
BEGIN:VEVENT
DTSTART;TZID=America/Chicago:20260605T180000
DTEND;TZID=America/Chicago:20260605T190000
DTSTAMP:20260225T175451
CREATED:20260104T113431Z
LAST-MODIFIED:20260104T113431Z
UID:10013569-1780682400-1780686000@murphysboro.com
SUMMARY:Fundamentals | Jiu Jitsu (age 13+) - Black Tie Jiu Jitsu
DESCRIPTION:
URL:https://murphysboro.com/event/fundamentals-jiu-jitsu-age-13-black-tie-jiu-jitsu-3/2026-06-05/
CATEGORIES:Business,Sports
END:VEVENT
BEGIN:VEVENT
DTSTART;TZID=America/Chicago:20260612T180000
DTEND;TZID=America/Chicago:20260612T190000
DTSTAMP:20260225T175451
CREATED:20260104T113431Z
LAST-MODIFIED:20260104T113431Z
UID:10013570-1781287200-1781290800@murphysboro.com
SUMMARY:Fundamentals | Jiu Jitsu (age 13+) - Black Tie Jiu Jitsu
DESCRIPTION:
URL:https://murphysboro.com/event/fundamentals-jiu-jitsu-age-13-black-tie-jiu-jitsu-3/2026-06-12/
CATEGORIES:Business,Sports
END:VEVENT
BEGIN:VEVENT
DTSTART;TZID=America/Chicago:20260619T180000
DTEND;TZID=America/Chicago:20260619T190000
DTSTAMP:20260225T175451
CREATED:20260104T113431Z
LAST-MODIFIED:20260104T113431Z
UID:10013571-1781892000-1781895600@murphysboro.com
SUMMARY:Fundamentals | Jiu Jitsu (age 13+) - Black Tie Jiu Jitsu
DESCRIPTION:
URL:https://murphysboro.com/event/fundamentals-jiu-jitsu-age-13-black-tie-jiu-jitsu-3/2026-06-19/
CATEGORIES:Business,Sports
END:VEVENT
BEGIN:VEVENT
DTSTART;TZID=America/Chicago:20260626T180000
DTEND;TZID=America/Chicago:20260626T190000
DTSTAMP:20260225T175451
CREATED:20260104T113431Z
LAST-MODIFIED:20260104T113431Z
UID:10013572-1782496800-1782500400@murphysboro.com
SUMMARY:Fundamentals | Jiu Jitsu (age 13+) - Black Tie Jiu Jitsu
DESCRIPTION:
URL:https://murphysboro.com/event/fundamentals-jiu-jitsu-age-13-black-tie-jiu-jitsu-3/2026-06-26/
CATEGORIES:Business,Sports
END:VEVENT
BEGIN:VEVENT
DTSTART;TZID=America/Chicago:20260703T180000
DTEND;TZID=America/Chicago:20260703T190000
DTSTAMP:20260225T175451
CREATED:20260104T113431Z
LAST-MODIFIED:20260104T113431Z
UID:10013573-1783101600-1783105200@murphysboro.com
SUMMARY:Fundamentals | Jiu Jitsu (age 13+) - Black Tie Jiu Jitsu
DESCRIPTION:
URL:https://murphysboro.com/event/fundamentals-jiu-jitsu-age-13-black-tie-jiu-jitsu-3/2026-07-03/
CATEGORIES:Business,Sports
END:VEVENT
BEGIN:VEVENT
DTSTART;TZID=America/Chicago:20260710T180000
DTEND;TZID=America/Chicago:20260710T190000
DTSTAMP:20260225T175451
CREATED:20260104T113431Z
LAST-MODIFIED:20260104T113431Z
UID:10013574-1783706400-1783710000@murphysboro.com
SUMMARY:Fundamentals | Jiu Jitsu (age 13+) - Black Tie Jiu Jitsu
DESCRIPTION:
URL:https://murphysboro.com/event/fundamentals-jiu-jitsu-age-13-black-tie-jiu-jitsu-3/2026-07-10/
CATEGORIES:Business,Sports
END:VEVENT
BEGIN:VEVENT
DTSTART;TZID=America/Chicago:20260717T180000
DTEND;TZID=America/Chicago:20260717T190000
DTSTAMP:20260225T175451
CREATED:20260104T113431Z
LAST-MODIFIED:20260104T113431Z
UID:10013575-1784311200-1784314800@murphysboro.com
SUMMARY:Fundamentals | Jiu Jitsu (age 13+) - Black Tie Jiu Jitsu
DESCRIPTION:
URL:https://murphysboro.com/event/fundamentals-jiu-jitsu-age-13-black-tie-jiu-jitsu-3/2026-07-17/
CATEGORIES:Business,Sports
END:VEVENT
BEGIN:VEVENT
DTSTART;TZID=America/Chicago:20260724T180000
DTEND;TZID=America/Chicago:20260724T190000
DTSTAMP:20260225T175451
CREATED:20260104T113431Z
LAST-MODIFIED:20260104T113431Z
UID:10013576-1784916000-1784919600@murphysboro.com
SUMMARY:Fundamentals | Jiu Jitsu (age 13+) - Black Tie Jiu Jitsu
DESCRIPTION:
URL:https://murphysboro.com/event/fundamentals-jiu-jitsu-age-13-black-tie-jiu-jitsu-3/2026-07-24/
CATEGORIES:Business,Sports
END:VEVENT
BEGIN:VEVENT
DTSTART;TZID=America/Chicago:20260731T180000
DTEND;TZID=America/Chicago:20260731T190000
DTSTAMP:20260225T175451
CREATED:20260104T113431Z
LAST-MODIFIED:20260104T113431Z
UID:10013577-1785520800-1785524400@murphysboro.com
SUMMARY:Fundamentals | Jiu Jitsu (age 13+) - Black Tie Jiu Jitsu
DESCRIPTION:
URL:https://murphysboro.com/event/fundamentals-jiu-jitsu-age-13-black-tie-jiu-jitsu-3/2026-07-31/
CATEGORIES:Business,Sports
END:VEVENT
BEGIN:VEVENT
DTSTART;TZID=America/Chicago:20260807T180000
DTEND;TZID=America/Chicago:20260807T190000
DTSTAMP:20260225T175451
CREATED:20260104T113431Z
LAST-MODIFIED:20260104T113431Z
UID:10013578-1786125600-1786129200@murphysboro.com
SUMMARY:Fundamentals | Jiu Jitsu (age 13+) - Black Tie Jiu Jitsu
DESCRIPTION:
URL:https://murphysboro.com/event/fundamentals-jiu-jitsu-age-13-black-tie-jiu-jitsu-3/2026-08-07/
CATEGORIES:Business,Sports
END:VEVENT
BEGIN:VEVENT
DTSTART;TZID=America/Chicago:20260814T180000
DTEND;TZID=America/Chicago:20260814T190000
DTSTAMP:20260225T175451
CREATED:20260104T113431Z
LAST-MODIFIED:20260104T113431Z
UID:10013579-1786730400-1786734000@murphysboro.com
SUMMARY:Fundamentals | Jiu Jitsu (age 13+) - Black Tie Jiu Jitsu
DESCRIPTION:
URL:https://murphysboro.com/event/fundamentals-jiu-jitsu-age-13-black-tie-jiu-jitsu-3/2026-08-14/
CATEGORIES:Business,Sports
END:VEVENT
BEGIN:VEVENT
DTSTART;TZID=America/Chicago:20260821T180000
DTEND;TZID=America/Chicago:20260821T190000
DTSTAMP:20260225T175451
CREATED:20260104T113431Z
LAST-MODIFIED:20260104T113431Z
UID:10013580-1787335200-1787338800@murphysboro.com
SUMMARY:Fundamentals | Jiu Jitsu (age 13+) - Black Tie Jiu Jitsu
DESCRIPTION:
URL:https://murphysboro.com/event/fundamentals-jiu-jitsu-age-13-black-tie-jiu-jitsu-3/2026-08-21/
CATEGORIES:Business,Sports
END:VEVENT
BEGIN:VEVENT
DTSTART;TZID=America/Chicago:20260828T180000
DTEND;TZID=America/Chicago:20260828T190000
DTSTAMP:20260225T175451
CREATED:20260104T113431Z
LAST-MODIFIED:20260104T113431Z
UID:10013581-1787940000-1787943600@murphysboro.com
SUMMARY:Fundamentals | Jiu Jitsu (age 13+) - Black Tie Jiu Jitsu
DESCRIPTION:
URL:https://murphysboro.com/event/fundamentals-jiu-jitsu-age-13-black-tie-jiu-jitsu-3/2026-08-28/
CATEGORIES:Business,Sports
END:VEVENT
BEGIN:VEVENT
DTSTART;TZID=America/Chicago:20260904T180000
DTEND;TZID=America/Chicago:20260904T190000
DTSTAMP:20260225T175451
CREATED:20260104T113431Z
LAST-MODIFIED:20260104T113431Z
UID:10013582-1788544800-1788548400@murphysboro.com
SUMMARY:Fundamentals | Jiu Jitsu (age 13+) - Black Tie Jiu Jitsu
DESCRIPTION:
URL:https://murphysboro.com/event/fundamentals-jiu-jitsu-age-13-black-tie-jiu-jitsu-3/2026-09-04/
CATEGORIES:Business,Sports
END:VEVENT
BEGIN:VEVENT
DTSTART;TZID=America/Chicago:20260911T180000
DTEND;TZID=America/Chicago:20260911T190000
DTSTAMP:20260225T175451
CREATED:20260104T113431Z
LAST-MODIFIED:20260104T113431Z
UID:10013583-1789149600-1789153200@murphysboro.com
SUMMARY:Fundamentals | Jiu Jitsu (age 13+) - Black Tie Jiu Jitsu
DESCRIPTION:
URL:https://murphysboro.com/event/fundamentals-jiu-jitsu-age-13-black-tie-jiu-jitsu-3/2026-09-11/
CATEGORIES:Business,Sports
END:VEVENT
BEGIN:VEVENT
DTSTART;TZID=America/Chicago:20260918T180000
DTEND;TZID=America/Chicago:20260918T190000
DTSTAMP:20260225T175451
CREATED:20260104T113431Z
LAST-MODIFIED:20260104T113431Z
UID:10013584-1789754400-1789758000@murphysboro.com
SUMMARY:Fundamentals | Jiu Jitsu (age 13+) - Black Tie Jiu Jitsu
DESCRIPTION:
URL:https://murphysboro.com/event/fundamentals-jiu-jitsu-age-13-black-tie-jiu-jitsu-3/2026-09-18/
CATEGORIES:Business,Sports
END:VEVENT
END:VCALENDAR