BEGIN:VCALENDAR
VERSION:2.0
PRODID:-//The City of Murphysboro - ECPv6.15.20//NONSGML v1.0//EN
CALSCALE:GREGORIAN
METHOD:PUBLISH
X-WR-CALNAME:The City of Murphysboro
X-ORIGINAL-URL:https://murphysboro.com
X-WR-CALDESC:Events for The City of Murphysboro
REFRESH-INTERVAL;VALUE=DURATION:PT1H
X-Robots-Tag:noindex
X-PUBLISHED-TTL:PT1H
BEGIN:VTIMEZONE
TZID:America/Chicago
BEGIN:DAYLIGHT
TZOFFSETFROM:-0600
TZOFFSETTO:-0500
TZNAME:CDT
DTSTART:20250309T080000
END:DAYLIGHT
BEGIN:STANDARD
TZOFFSETFROM:-0500
TZOFFSETTO:-0600
TZNAME:CST
DTSTART:20251102T070000
END:STANDARD
BEGIN:DAYLIGHT
TZOFFSETFROM:-0600
TZOFFSETTO:-0500
TZNAME:CDT
DTSTART:20260308T080000
END:DAYLIGHT
BEGIN:STANDARD
TZOFFSETFROM:-0500
TZOFFSETTO:-0600
TZNAME:CST
DTSTART:20261101T070000
END:STANDARD
BEGIN:DAYLIGHT
TZOFFSETFROM:-0600
TZOFFSETTO:-0500
TZNAME:CDT
DTSTART:20270314T080000
END:DAYLIGHT
BEGIN:STANDARD
TZOFFSETFROM:-0500
TZOFFSETTO:-0600
TZNAME:CST
DTSTART:20271107T070000
END:STANDARD
END:VTIMEZONE
BEGIN:VTIMEZONE
TZID:UTC
BEGIN:STANDARD
TZOFFSETFROM:+0000
TZOFFSETTO:+0000
TZNAME:UTC
DTSTART:20250101T000000
END:STANDARD
END:VTIMEZONE
BEGIN:VEVENT
DTSTART;TZID=America/Chicago:20261207T190000
DTEND;TZID=America/Chicago:20261207T200000
DTSTAMP:20260421T132120
CREATED:20260104T113624Z
LAST-MODIFIED:20260104T113624Z
UID:10013647-1796670000-1796673600@murphysboro.com
SUMMARY:Muay Thai (age 16+) - Black Tie Jiu Jitsu
DESCRIPTION:
URL:https://murphysboro.com/event/muay-thai-age-16-black-tie-jiu-jitsu/2026-12-07/
CATEGORIES:Business,Sports
END:VEVENT
BEGIN:VEVENT
DTSTART;TZID=America/Chicago:20261207T180000
DTEND;TZID=America/Chicago:20261207T210000
DTSTAMP:20260421T132120
CREATED:20251222T220139Z
LAST-MODIFIED:20251222T220139Z
UID:10011485-1796666400-1796677200@murphysboro.com
SUMMARY:Weekly Monday Pokémon League – A2Z Trading Card Games
DESCRIPTION:
URL:https://murphysboro.com/event/weekly-monday-pokemon-league-a2z-trading-card-games-3/2026-12-07/
CATEGORIES:Business
END:VEVENT
BEGIN:VEVENT
DTSTART;TZID=America/Chicago:20261207T180000
DTEND;TZID=America/Chicago:20261207T190000
DTSTAMP:20260421T132120
CREATED:20260104T113058Z
LAST-MODIFIED:20260104T113058Z
UID:10013489-1796666400-1796670000@murphysboro.com
SUMMARY:Fundamentals | Jiu Jitsu (age 13+) - Black Tie Jiu Jitsu
DESCRIPTION:
URL:https://murphysboro.com/event/fundamentals-jiu-jitsu-age-13-black-tie-jiu-jitsu/2026-12-07/
CATEGORIES:Business,Sports
END:VEVENT
BEGIN:VEVENT
DTSTART;TZID=America/Chicago:20261207T180000
DTEND;TZID=America/Chicago:20261207T190000
DTSTAMP:20260421T132120
CREATED:20251222T220009Z
LAST-MODIFIED:20251222T220009Z
UID:10011433-1796666400-1796670000@murphysboro.com
SUMMARY:Mindful Movement – Yoga on the Block
DESCRIPTION:
URL:https://murphysboro.com/event/mindful-movement-yoga-on-the-block-3/2026-12-07/
LOCATION:Yoga on the Block\, 1330 Walnut Street\, Murphysboro\, IL\, 62966\, United States
CATEGORIES:Business,Educational,Sports
END:VEVENT
BEGIN:VEVENT
DTSTART;TZID=America/Chicago:20261207T180000
DTEND;TZID=America/Chicago:20261207T190000
DTSTAMP:20260421T132120
CREATED:20250818T164806Z
LAST-MODIFIED:20250818T164806Z
UID:10009697-1796666400-1796670000@murphysboro.com
SUMMARY:Kiwanis Club - Silkworm Annex
DESCRIPTION:
URL:https://murphysboro.com/event/kiwanis-club-silkworm-annex/2026-12-07/
CATEGORIES:Community Event
END:VEVENT
BEGIN:VEVENT
DTSTART;TZID=America/Chicago:20261207T170000
DTEND;TZID=America/Chicago:20261207T190000
DTSTAMP:20260421T132120
CREATED:20251222T215807Z
LAST-MODIFIED:20251222T215807Z
UID:10011381-1796662800-1796670000@murphysboro.com
SUMMARY:Jessie’s Table (dinner) – 724 Ministries
DESCRIPTION:
URL:https://murphysboro.com/event/jessies-table-dinner-724-ministries-4/2026-12-07/
LOCATION:724 Ministries\, 724 Walnut Street\, Murphysboro\, IL\, 62966\, United States
CATEGORIES:Business,Community Event
END:VEVENT
BEGIN:VEVENT
DTSTART;TZID=America/Chicago:20261207T170000
DTEND;TZID=America/Chicago:20261207T183000
DTSTAMP:20260421T132120
CREATED:20251222T215630Z
LAST-MODIFIED:20251222T215630Z
UID:10011329-1796662800-1796668200@murphysboro.com
SUMMARY:Exercise Class – Topp Shape
DESCRIPTION:
URL:https://murphysboro.com/event/exercise-class-topp-shape-16/2026-12-07/
CATEGORIES:Business,Educational,Sports
END:VEVENT
BEGIN:VEVENT
DTSTART;TZID=America/Chicago:20261207T170000
DTEND;TZID=America/Chicago:20261207T180000
DTSTAMP:20260421T132120
CREATED:20260103T125012Z
LAST-MODIFIED:20260103T125012Z
UID:10013280-1796662800-1796666400@murphysboro.com
SUMMARY:Youth Black Tie Jiu Jitsu (age 7 - 12) - Black Tie Jiu Jitsu
DESCRIPTION:
URL:https://murphysboro.com/event/youth-black-tie-jiu-jitsu-age-7-12-black-tie-jiu-jitsu/2026-12-07/
CATEGORIES:Business,Sports
END:VEVENT
BEGIN:VEVENT
DTSTART;TZID=America/Chicago:20261207T130000
DTEND;TZID=America/Chicago:20261207T140000
DTSTAMP:20260421T132120
CREATED:20251222T212705Z
LAST-MODIFIED:20251222T212705Z
UID:10011276-1796648400-1796652000@murphysboro.com
SUMMARY:Chair/Stand Yoga – Yoga on the Block
DESCRIPTION:
URL:https://murphysboro.com/event/chair-stand-yoga-yoga-on-the-block-3/2026-12-07/
LOCATION:Yoga on the Block\, 1330 Walnut Street\, Murphysboro\, IL\, 62966\, United States
CATEGORIES:Business,Educational,Sports
END:VEVENT
BEGIN:VEVENT
DTSTART;TZID=America/Chicago:20261207T100000
DTEND;TZID=America/Chicago:20261207T233000
DTSTAMP:20260421T132120
CREATED:20251222T193747Z
LAST-MODIFIED:20251222T193747Z
UID:10011224-1796637600-1796686200@murphysboro.com
SUMMARY:Gentle Flow – Yoga on the Block
DESCRIPTION:
URL:https://murphysboro.com/event/gentle-flow-yoga-on-the-block-6/2026-12-07/
LOCATION:Yoga on the Block\, 1330 Walnut Street\, Murphysboro\, IL\, 62966\, United States
END:VEVENT
BEGIN:VEVENT
DTSTART;TZID=America/Chicago:20261207T080000
DTEND;TZID=America/Chicago:20261207T090000
DTSTAMP:20260421T132120
CREATED:20251222T122806Z
LAST-MODIFIED:20251222T122840Z
UID:10011120-1796630400-1796634000@murphysboro.com
SUMMARY:Exercise Class – Topp Shape
DESCRIPTION:
URL:https://murphysboro.com/event/exercise-class-topp-shape-15/2026-12-07/
CATEGORIES:Business,Educational,Sports
END:VEVENT
BEGIN:VEVENT
DTSTART;TZID=America/Chicago:20261206T170000
DTEND;TZID=America/Chicago:20261206T210000
DTSTAMP:20260421T132120
CREATED:20251223T010142Z
LAST-MODIFIED:20251223T010142Z
UID:10011594-1796576400-1796590800@murphysboro.com
SUMMARY:Weekly Sunday Pokémon League – A2Z Trading Card Games
DESCRIPTION:
URL:https://murphysboro.com/event/weekly-sunday-pokemon-league-a2z-trading-card-games-3/2026-12-06/
CATEGORIES:Business,Educational
END:VEVENT
BEGIN:VEVENT
DTSTART;TZID=America/Chicago:20261206T160000
DTEND;TZID=America/Chicago:20261206T180000
DTSTAMP:20260421T132120
CREATED:20251223T010008Z
LAST-MODIFIED:20251223T010008Z
UID:10011542-1796572800-1796580000@murphysboro.com
SUMMARY:Dinner on the House – 724 Ministries
DESCRIPTION:
URL:https://murphysboro.com/event/dinner-on-the-house-724-ministries-45/2026-12-06/
LOCATION:724 Ministries\, 724 Walnut Street\, Murphysboro\, IL\, 62966\, United States
CATEGORIES:Business,Fundraiser
END:VEVENT
BEGIN:VEVENT
DTSTART;TZID=America/Chicago:20261205T150000
DTEND;TZID=America/Chicago:20261205T200000
DTSTAMP:20260421T132120
CREATED:20251226T120431Z
LAST-MODIFIED:20251226T120431Z
UID:10013200-1796482800-1796500800@murphysboro.com
SUMMARY:Pokémon Open Play and Trade – A2Z Trading Card Games
DESCRIPTION:
URL:https://murphysboro.com/event/pokemon-open-play-and-trade-a2z-trading-card-games-3/2026-12-05/
LOCATION:A2Z Trading Card Games\, 1003 Chestnut Street\, Murphysboro\, IL\, 62966\, United States
CATEGORIES:Business,Educational
END:VEVENT
BEGIN:VEVENT
DTSTART;TZID=UTC:20261205T133000
DTEND;TZID=UTC:20261205T150000
DTSTAMP:20260421T132120
CREATED:20260116T122648Z
LAST-MODIFIED:20260116T122648Z
UID:10013833-1796477400-1796482800@murphysboro.com
SUMMARY:Lego Club – Sallie Logan Library
DESCRIPTION:
URL:https://murphysboro.com/event/lego-club-sallie-logan-library-3/2026-12-05/
LOCATION:Sallie Logan Library\, 1808 Walnut Street\, Murphysboro\, IL\, 62966\, United States
CATEGORIES:Educational,Kid Friendly
END:VEVENT
BEGIN:VEVENT
DTSTART;TZID=America/Chicago:20261205T133000
DTEND;TZID=America/Chicago:20261205T150000
DTSTAMP:20260421T132120
CREATED:20260116T122441Z
LAST-MODIFIED:20260116T122441Z
UID:10013821-1796477400-1796482800@murphysboro.com
SUMMARY:Color and Chill - Sallie Logan Library
DESCRIPTION:
URL:https://murphysboro.com/event/color-and-chill-sallie-logan-library-3/2026-12-05/
LOCATION:Sallie Logan Library\, 1808 Walnut Street\, Murphysboro\, IL\, 62966\, United States
CATEGORIES:Arts | Culture,Community Event,Educational
END:VEVENT
BEGIN:VEVENT
DTSTART;TZID=America/Chicago:20261205T130000
DTEND;TZID=America/Chicago:20261205T160000
DTSTAMP:20260421T132120
CREATED:20251226T120247Z
LAST-MODIFIED:20251226T120247Z
UID:10013149-1796475600-1796486400@murphysboro.com
SUMMARY:Open hours – Logan Museum
DESCRIPTION:
URL:https://murphysboro.com/event/open-hours-logan-museum-272/2026-12-05/
LOCATION:John A. Logan Museum\, 1613 Edith\, Murphysboro
CATEGORIES:Arts | Culture,Business,Educational
END:VEVENT
BEGIN:VEVENT
DTSTART;TZID=America/Chicago:20261205T093000
DTEND;TZID=America/Chicago:20261205T103000
DTSTAMP:20260421T132120
CREATED:20251226T120129Z
LAST-MODIFIED:20251226T120129Z
UID:10013098-1796463000-1796466600@murphysboro.com
SUMMARY:Body by Brent Bootcamp – Youth and Recreation Center
DESCRIPTION:
URL:https://murphysboro.com/event/body-by-brent-bootcamp-youth-and-recreation-center-10/2026-12-05/
LOCATION:Youth and Rec Center\, 1818 Walnut Street\, Murphysboro\, IL\, 62966\, United States
CATEGORIES:Business,Educational,Sports
END:VEVENT
BEGIN:VEVENT
DTSTART;TZID=America/Chicago:20261205T090000
DTEND;TZID=America/Chicago:20261205T100000
DTSTAMP:20260421T132120
CREATED:20260211T124017Z
LAST-MODIFIED:20260211T124017Z
UID:10013941-1796461200-1796464800@murphysboro.com
SUMMARY:Morning Mobility - Topp Shape
DESCRIPTION:
URL:https://murphysboro.com/event/morning-mobility-topp-shape/2026-12-05/
CATEGORIES:Business,Sports
END:VEVENT
BEGIN:VEVENT
DTSTART;TZID=America/Chicago:20261204T190000
DTEND;TZID=America/Chicago:20261204T200000
DTSTAMP:20260421T132120
CREATED:20260104T113819Z
LAST-MODIFIED:20260104T113819Z
UID:10013752-1796410800-1796414400@murphysboro.com
SUMMARY:Muay Thai (age 16+) - Black Tie Jiu Jitsu
DESCRIPTION:
URL:https://murphysboro.com/event/muay-thai-age-16-black-tie-jiu-jitsu-3/2026-12-04/
CATEGORIES:Business,Sports
END:VEVENT
BEGIN:VEVENT
DTSTART;TZID=America/Chicago:20261204T190000
DTEND;TZID=America/Chicago:20261204T200000
DTSTAMP:20260421T132120
CREATED:20251225T121600Z
LAST-MODIFIED:20251225T121600Z
UID:10013047-1796410800-1796414400@murphysboro.com
SUMMARY:Queen of Hearts – American Legion
DESCRIPTION:
URL:https://murphysboro.com/event/queen-of-hearts-american-legion-46/2026-12-04/
LOCATION:American Legion\, 1700 Gartside Street\, MURPHYSBORO\, IL\, 62966\, United States
CATEGORIES:Business,Community Event
END:VEVENT
BEGIN:VEVENT
DTSTART;TZID=America/Chicago:20261204T180000
DTEND;TZID=America/Chicago:20261204T220000
DTSTAMP:20260421T132120
CREATED:20251225T121452Z
LAST-MODIFIED:20251225T121452Z
UID:10012996-1796407200-1796421600@murphysboro.com
SUMMARY:Standard FNM – A2Z Trading Card Games
DESCRIPTION:
URL:https://murphysboro.com/event/standard-fnm-a2z-trading-card-games-3/2026-12-04/
LOCATION:A2Z Trading Card Games\, 1003 Chestnut Street\, Murphysboro\, IL\, 62966\, United States
CATEGORIES:Business
END:VEVENT
BEGIN:VEVENT
DTSTART;TZID=America/Chicago:20261204T180000
DTEND;TZID=America/Chicago:20261204T190000
DTSTAMP:20260421T132120
CREATED:20260104T113431Z
LAST-MODIFIED:20260104T113431Z
UID:10013595-1796407200-1796410800@murphysboro.com
SUMMARY:Fundamentals | Jiu Jitsu (age 13+) - Black Tie Jiu Jitsu
DESCRIPTION:
URL:https://murphysboro.com/event/fundamentals-jiu-jitsu-age-13-black-tie-jiu-jitsu-3/2026-12-04/
CATEGORIES:Business,Sports
END:VEVENT
BEGIN:VEVENT
DTSTART;TZID=America/Chicago:20261204T180000
DTEND;TZID=America/Chicago:20261204T190000
DTSTAMP:20260421T132120
CREATED:20251225T121332Z
LAST-MODIFIED:20251225T121332Z
UID:10012945-1796407200-1796410800@murphysboro.com
SUMMARY:Surya Flow – Yoga on the Block
DESCRIPTION:
URL:https://murphysboro.com/event/surya-flow-yoga-on-the-block-4/2026-12-04/
LOCATION:Yoga on the Block\, 1330 Walnut Street\, Murphysboro\, IL\, 62966\, United States
CATEGORIES:Business,Educational,Sports
END:VEVENT
BEGIN:VEVENT
DTSTART;TZID=America/Chicago:20261204T170000
DTEND;TZID=America/Chicago:20261204T180000
DTSTAMP:20260421T132120
CREATED:20260103T125305Z
LAST-MODIFIED:20260103T125305Z
UID:10013437-1796403600-1796407200@murphysboro.com
SUMMARY:Youth Black Tie Jiu Jitsu (age 7 - 12) - Black Tie Jiu Jitsu
DESCRIPTION:
URL:https://murphysboro.com/event/youth-black-tie-jiu-jitsu-age-7-12-black-tie-jiu-jitsu-3/2026-12-04/
CATEGORIES:Business,Sports
END:VEVENT
BEGIN:VEVENT
DTSTART;TZID=America/Chicago:20261204T130000
DTEND;TZID=America/Chicago:20261204T160000
DTSTAMP:20260421T132121
CREATED:20251225T121133Z
LAST-MODIFIED:20251225T121133Z
UID:10012894-1796389200-1796400000@murphysboro.com
SUMMARY:Open Hours – Logan Museum
DESCRIPTION:
URL:https://murphysboro.com/event/open-hours-logan-museum-271/2026-12-04/
LOCATION:John A. Logan Museum\, 1613 Edith\, Murphysboro
CATEGORIES:Business,Educational
END:VEVENT
BEGIN:VEVENT
DTSTART;TZID=America/Chicago:20261204T120000
DTEND;TZID=America/Chicago:20261204T150000
DTSTAMP:20260421T132121
CREATED:20251225T121036Z
LAST-MODIFIED:20251225T121036Z
UID:10012843-1796385600-1796396400@murphysboro.com
SUMMARY:Open hours – Jackson County Historical Society
DESCRIPTION:
URL:https://murphysboro.com/event/open-hours-jackson-county-historical-society-4/2026-12-04/
LOCATION:Jackson County Historical Society\, 1616 Edith Street\, Murphysboro\, IL\, 62966\, United States
CATEGORIES:Business,Educational
END:VEVENT
BEGIN:VEVENT
DTSTART;TZID=America/Chicago:20261204T080000
DTEND;TZID=America/Chicago:20261204T090000
DTSTAMP:20260421T132121
CREATED:20251225T120923Z
LAST-MODIFIED:20251225T120923Z
UID:10012792-1796371200-1796374800@murphysboro.com
SUMMARY:Exercise Class – Topp Shape
DESCRIPTION:
URL:https://murphysboro.com/event/exercise-class-topp-shape-19/2026-12-04/
CATEGORIES:Business,Educational,Sports
END:VEVENT
BEGIN:VEVENT
DTSTART;TZID=America/Chicago:20261203T200000
DTEND;TZID=America/Chicago:20261203T220000
DTSTAMP:20260421T132121
CREATED:20251224T120940Z
LAST-MODIFIED:20251224T120940Z
UID:10012740-1796328000-1796335200@murphysboro.com
SUMMARY:Trivia Night – Brews Brothers Taproom
DESCRIPTION:
URL:https://murphysboro.com/event/trivia-night-brews-brothers-taproom-47/2026-12-03/
LOCATION:Brews Brothers Taproom\, 1105 Chestnut Street\, Murphysboro\, IL\, 62966\, United States
CATEGORIES:Business
END:VEVENT
BEGIN:VEVENT
DTSTART;TZID=America/Chicago:20261203T190000
DTEND;TZID=America/Chicago:20261203T210000
DTSTAMP:20260421T132121
CREATED:20251224T120834Z
LAST-MODIFIED:20251224T120834Z
UID:10012688-1796324400-1796331600@murphysboro.com
SUMMARY:Bingo Night – American Legion
DESCRIPTION:
URL:https://murphysboro.com/event/bingo-night-american-legion-46/2026-12-03/
LOCATION:American Legion\, 1700 Gartside Street\, MURPHYSBORO\, IL\, 62966\, United States
CATEGORIES:Business
END:VEVENT
END:VCALENDAR