BEGIN:VCALENDAR
VERSION:2.0
PRODID:-//The City of Murphysboro - ECPv6.15.20//NONSGML v1.0//EN
CALSCALE:GREGORIAN
METHOD:PUBLISH
X-ORIGINAL-URL:https://murphysboro.com
X-WR-CALDESC:Events for The City of Murphysboro
REFRESH-INTERVAL;VALUE=DURATION:PT1H
X-Robots-Tag:noindex
X-PUBLISHED-TTL:PT1H
BEGIN:VTIMEZONE
TZID:America/Chicago
BEGIN:DAYLIGHT
TZOFFSETFROM:-0600
TZOFFSETTO:-0500
TZNAME:CDT
DTSTART:20250309T080000
END:DAYLIGHT
BEGIN:STANDARD
TZOFFSETFROM:-0500
TZOFFSETTO:-0600
TZNAME:CST
DTSTART:20251102T070000
END:STANDARD
BEGIN:DAYLIGHT
TZOFFSETFROM:-0600
TZOFFSETTO:-0500
TZNAME:CDT
DTSTART:20260308T080000
END:DAYLIGHT
BEGIN:STANDARD
TZOFFSETFROM:-0500
TZOFFSETTO:-0600
TZNAME:CST
DTSTART:20261101T070000
END:STANDARD
BEGIN:DAYLIGHT
TZOFFSETFROM:-0600
TZOFFSETTO:-0500
TZNAME:CDT
DTSTART:20270314T080000
END:DAYLIGHT
BEGIN:STANDARD
TZOFFSETFROM:-0500
TZOFFSETTO:-0600
TZNAME:CST
DTSTART:20271107T070000
END:STANDARD
END:VTIMEZONE
BEGIN:VEVENT
DTSTART;TZID=America/Chicago:20260902T080000
DTEND;TZID=America/Chicago:20260902T090000
DTSTAMP:20260425T231201
CREATED:20251223T143319Z
LAST-MODIFIED:20251223T143319Z
UID:10011999-1788336000-1788339600@murphysboro.com
SUMMARY:Exercise Class – Topp Shape
DESCRIPTION:
URL:https://murphysboro.com/event/exercise-class-topp-shape-17/2026-09-02/
LOCATION:IL
CATEGORIES:Business,Educational,Sports
END:VEVENT
BEGIN:VEVENT
DTSTART;TZID=America/Chicago:20260902T100000
DTEND;TZID=America/Chicago:20260902T110000
DTSTAMP:20260425T231201
CREATED:20251223T143612Z
LAST-MODIFIED:20251223T143612Z
UID:10012051-1788343200-1788346800@murphysboro.com
SUMMARY:Gentle Flow – Yoga on the Block
DESCRIPTION:
URL:https://murphysboro.com/event/gentle-flow-yoga-on-the-block-7/2026-09-02/
LOCATION:Yoga on the Block\, 1330 Walnut Street\, Murphysboro\, IL\, 62966\, United States
CATEGORIES:Business,Educational,Sports
END:VEVENT
BEGIN:VEVENT
DTSTART;TZID=America/Chicago:20260902T130000
DTEND;TZID=America/Chicago:20260902T140000
DTSTAMP:20260425T231201
CREATED:20251223T144039Z
LAST-MODIFIED:20251223T144039Z
UID:10012207-1788354000-1788357600@murphysboro.com
SUMMARY:Chair Yoga – Yoga on the Block
DESCRIPTION:
URL:https://murphysboro.com/event/chair-yoga-yoga-on-the-block-2/2026-09-02/
LOCATION:Yoga on the Block\, 1330 Walnut Street\, Murphysboro\, IL\, 62966\, United States
CATEGORIES:Business,Educational,Sports
END:VEVENT
BEGIN:VEVENT
DTSTART;TZID=America/Chicago:20260902T170000
DTEND;TZID=America/Chicago:20260902T180000
DTSTAMP:20260425T231201
CREATED:20260103T125155Z
LAST-MODIFIED:20260103T125155Z
UID:10013371-1788368400-1788372000@murphysboro.com
SUMMARY:Youth Black Tie Jiu Jitsu (age 7 - 12) - Black Tie Jiu Jitsu
DESCRIPTION:
URL:https://murphysboro.com/event/youth-black-tie-jiu-jitsu-age-7-12-black-tie-jiu-jitsu-2/2026-09-02/
LOCATION:IL
CATEGORIES:Business,Sports
END:VEVENT
BEGIN:VEVENT
DTSTART;TZID=America/Chicago:20260902T173000
DTEND;TZID=America/Chicago:20260902T183000
DTSTAMP:20260425T231201
CREATED:20251223T144437Z
LAST-MODIFIED:20251223T144437Z
UID:10012363-1788370200-1788373800@murphysboro.com
SUMMARY:Exercise Class – Topp Shape
DESCRIPTION:
URL:https://murphysboro.com/event/exercise-class-topp-shape-18/2026-09-02/
LOCATION:IL
CATEGORIES:Business,Educational,Sports
END:VEVENT
BEGIN:VEVENT
DTSTART;TZID=America/Chicago:20260902T180000
DTEND;TZID=America/Chicago:20260902T190000
DTSTAMP:20260425T231201
CREATED:20251223T144538Z
LAST-MODIFIED:20251223T144538Z
UID:10012415-1788372000-1788375600@murphysboro.com
SUMMARY:Peak Pose – Yoga on the Block
DESCRIPTION:
URL:https://murphysboro.com/event/peak-pose-yoga-on-the-block-3/2026-09-02/
LOCATION:Yoga on the Block\, 1330 Walnut Street\, Murphysboro\, IL\, 62966\, United States
CATEGORIES:Business,Sports
END:VEVENT
BEGIN:VEVENT
DTSTART;TZID=America/Chicago:20260902T180000
DTEND;TZID=America/Chicago:20260902T190000
DTSTAMP:20260425T231201
CREATED:20260104T113332Z
LAST-MODIFIED:20260104T113332Z
UID:10013529-1788372000-1788375600@murphysboro.com
SUMMARY:Fundamentals | Jiu Jitsu (age 13+) - Black Tie Jiu Jitsu
DESCRIPTION:
URL:https://murphysboro.com/event/fundamentals-jiu-jitsu-age-13-black-tie-jiu-jitsu-2/2026-09-02/
LOCATION:IL
CATEGORIES:Business,Sports
END:VEVENT
BEGIN:VEVENT
DTSTART;TZID=America/Chicago:20260902T190000
DTEND;TZID=America/Chicago:20260902T200000
DTSTAMP:20260425T231201
CREATED:20260104T113722Z
LAST-MODIFIED:20260104T113722Z
UID:10013686-1788375600-1788379200@murphysboro.com
SUMMARY:Muay Thai (age 16+) - Black Tie Jiu Jitsu
DESCRIPTION:
URL:https://murphysboro.com/event/muay-thai-age-16-black-tie-jiu-jitsu-2/2026-09-02/
LOCATION:IL
CATEGORIES:Business,Sports
END:VEVENT
BEGIN:VEVENT
DTSTART;TZID=America/Chicago:20260903T161500
DTEND;TZID=America/Chicago:20260903T171500
DTSTAMP:20260425T231201
CREATED:20251224T120408Z
LAST-MODIFIED:20251224T120408Z
UID:10012519-1788452100-1788455700@murphysboro.com
SUMMARY:Yoga Class – Event Center
DESCRIPTION:
URL:https://murphysboro.com/event/yoga-class-event-center-46/2026-09-03/
LOCATION:IL
CATEGORIES:Business,Sports
END:VEVENT
BEGIN:VEVENT
DTSTART;TZID=America/Chicago:20260904T080000
DTEND;TZID=America/Chicago:20260904T090000
DTSTAMP:20260425T231201
CREATED:20251225T120923Z
LAST-MODIFIED:20251225T120923Z
UID:10012779-1788508800-1788512400@murphysboro.com
SUMMARY:Exercise Class – Topp Shape
DESCRIPTION:
URL:https://murphysboro.com/event/exercise-class-topp-shape-19/2026-09-04/
LOCATION:IL
CATEGORIES:Business,Educational,Sports
END:VEVENT
BEGIN:VEVENT
DTSTART;TZID=America/Chicago:20260904T170000
DTEND;TZID=America/Chicago:20260904T180000
DTSTAMP:20260425T231201
CREATED:20260103T125305Z
LAST-MODIFIED:20260103T125305Z
UID:10013424-1788541200-1788544800@murphysboro.com
SUMMARY:Youth Black Tie Jiu Jitsu (age 7 - 12) - Black Tie Jiu Jitsu
DESCRIPTION:
URL:https://murphysboro.com/event/youth-black-tie-jiu-jitsu-age-7-12-black-tie-jiu-jitsu-3/2026-09-04/
LOCATION:IL
CATEGORIES:Business,Sports
END:VEVENT
BEGIN:VEVENT
DTSTART;TZID=America/Chicago:20260904T180000
DTEND;TZID=America/Chicago:20260904T190000
DTSTAMP:20260425T231201
CREATED:20251225T121332Z
LAST-MODIFIED:20251225T121332Z
UID:10012932-1788544800-1788548400@murphysboro.com
SUMMARY:Surya Flow – Yoga on the Block
DESCRIPTION:
URL:https://murphysboro.com/event/surya-flow-yoga-on-the-block-4/2026-09-04/
LOCATION:Yoga on the Block\, 1330 Walnut Street\, Murphysboro\, IL\, 62966\, United States
CATEGORIES:Business,Educational,Sports
END:VEVENT
BEGIN:VEVENT
DTSTART;TZID=America/Chicago:20260904T180000
DTEND;TZID=America/Chicago:20260904T190000
DTSTAMP:20260425T231201
CREATED:20260104T113431Z
LAST-MODIFIED:20260104T113431Z
UID:10013582-1788544800-1788548400@murphysboro.com
SUMMARY:Fundamentals | Jiu Jitsu (age 13+) - Black Tie Jiu Jitsu
DESCRIPTION:
URL:https://murphysboro.com/event/fundamentals-jiu-jitsu-age-13-black-tie-jiu-jitsu-3/2026-09-04/
LOCATION:IL
CATEGORIES:Business,Sports
END:VEVENT
BEGIN:VEVENT
DTSTART;TZID=America/Chicago:20260904T190000
DTEND;TZID=America/Chicago:20260904T200000
DTSTAMP:20260425T231201
CREATED:20260104T113819Z
LAST-MODIFIED:20260104T113819Z
UID:10013739-1788548400-1788552000@murphysboro.com
SUMMARY:Muay Thai (age 16+) - Black Tie Jiu Jitsu
DESCRIPTION:
URL:https://murphysboro.com/event/muay-thai-age-16-black-tie-jiu-jitsu-3/2026-09-04/
LOCATION:IL
CATEGORIES:Business,Sports
END:VEVENT
BEGIN:VEVENT
DTSTART;TZID=America/Chicago:20260905T090000
DTEND;TZID=America/Chicago:20260905T100000
DTSTAMP:20260425T231201
CREATED:20260211T124017Z
LAST-MODIFIED:20260211T124017Z
UID:10013928-1788598800-1788602400@murphysboro.com
SUMMARY:Morning Mobility - Topp Shape
DESCRIPTION:
URL:https://murphysboro.com/event/morning-mobility-topp-shape/2026-09-05/
LOCATION:IL
CATEGORIES:Business,Sports
END:VEVENT
BEGIN:VEVENT
DTSTART;TZID=America/Chicago:20260905T093000
DTEND;TZID=America/Chicago:20260905T103000
DTSTAMP:20260425T231201
CREATED:20251226T120129Z
LAST-MODIFIED:20251226T120129Z
UID:10013085-1788600600-1788604200@murphysboro.com
SUMMARY:Body by Brent Bootcamp – Youth and Recreation Center
DESCRIPTION:
URL:https://murphysboro.com/event/body-by-brent-bootcamp-youth-and-recreation-center-10/2026-09-05/
LOCATION:Youth and Rec Center\, 1818 Walnut Street\, Murphysboro\, IL\, 62966\, United States
CATEGORIES:Business,Educational,Sports
END:VEVENT
BEGIN:VEVENT
DTSTART;TZID=America/Chicago:20260907T080000
DTEND;TZID=America/Chicago:20260907T090000
DTSTAMP:20260425T231201
CREATED:20251222T122806Z
LAST-MODIFIED:20251222T122840Z
UID:10011107-1788768000-1788771600@murphysboro.com
SUMMARY:Exercise Class – Topp Shape
DESCRIPTION:
URL:https://murphysboro.com/event/exercise-class-topp-shape-15/2026-09-07/
LOCATION:IL
CATEGORIES:Business,Educational,Sports
END:VEVENT
BEGIN:VEVENT
DTSTART;TZID=America/Chicago:20260907T130000
DTEND;TZID=America/Chicago:20260907T140000
DTSTAMP:20260425T231201
CREATED:20251222T212705Z
LAST-MODIFIED:20251222T212705Z
UID:10011263-1788786000-1788789600@murphysboro.com
SUMMARY:Chair/Stand Yoga – Yoga on the Block
DESCRIPTION:
URL:https://murphysboro.com/event/chair-stand-yoga-yoga-on-the-block-3/2026-09-07/
LOCATION:Yoga on the Block\, 1330 Walnut Street\, Murphysboro\, IL\, 62966\, United States
CATEGORIES:Business,Educational,Sports
END:VEVENT
BEGIN:VEVENT
DTSTART;TZID=America/Chicago:20260907T170000
DTEND;TZID=America/Chicago:20260907T180000
DTSTAMP:20260425T231201
CREATED:20260103T125012Z
LAST-MODIFIED:20260103T125012Z
UID:10013267-1788800400-1788804000@murphysboro.com
SUMMARY:Youth Black Tie Jiu Jitsu (age 7 - 12) - Black Tie Jiu Jitsu
DESCRIPTION:
URL:https://murphysboro.com/event/youth-black-tie-jiu-jitsu-age-7-12-black-tie-jiu-jitsu/2026-09-07/
LOCATION:IL
CATEGORIES:Business,Sports
END:VEVENT
BEGIN:VEVENT
DTSTART;TZID=America/Chicago:20260907T170000
DTEND;TZID=America/Chicago:20260907T183000
DTSTAMP:20260425T231201
CREATED:20251222T215630Z
LAST-MODIFIED:20251222T215630Z
UID:10011316-1788800400-1788805800@murphysboro.com
SUMMARY:Exercise Class – Topp Shape
DESCRIPTION:
URL:https://murphysboro.com/event/exercise-class-topp-shape-16/2026-09-07/
LOCATION:IL
CATEGORIES:Business,Educational,Sports
END:VEVENT
BEGIN:VEVENT
DTSTART;TZID=America/Chicago:20260907T180000
DTEND;TZID=America/Chicago:20260907T190000
DTSTAMP:20260425T231201
CREATED:20251222T220009Z
LAST-MODIFIED:20251222T220009Z
UID:10011420-1788804000-1788807600@murphysboro.com
SUMMARY:Mindful Movement – Yoga on the Block
DESCRIPTION:
URL:https://murphysboro.com/event/mindful-movement-yoga-on-the-block-3/2026-09-07/
LOCATION:Yoga on the Block\, 1330 Walnut Street\, Murphysboro\, IL\, 62966\, United States
CATEGORIES:Business,Educational,Sports
END:VEVENT
BEGIN:VEVENT
DTSTART;TZID=America/Chicago:20260907T180000
DTEND;TZID=America/Chicago:20260907T190000
DTSTAMP:20260425T231201
CREATED:20260104T113058Z
LAST-MODIFIED:20260104T113058Z
UID:10013476-1788804000-1788807600@murphysboro.com
SUMMARY:Fundamentals | Jiu Jitsu (age 13+) - Black Tie Jiu Jitsu
DESCRIPTION:
URL:https://murphysboro.com/event/fundamentals-jiu-jitsu-age-13-black-tie-jiu-jitsu/2026-09-07/
LOCATION:IL
CATEGORIES:Business,Sports
END:VEVENT
BEGIN:VEVENT
DTSTART;TZID=America/Chicago:20260907T190000
DTEND;TZID=America/Chicago:20260907T200000
DTSTAMP:20260425T231201
CREATED:20260104T113624Z
LAST-MODIFIED:20260104T113624Z
UID:10013634-1788807600-1788811200@murphysboro.com
SUMMARY:Muay Thai (age 16+) - Black Tie Jiu Jitsu
DESCRIPTION:
URL:https://murphysboro.com/event/muay-thai-age-16-black-tie-jiu-jitsu/2026-09-07/
LOCATION:IL
CATEGORIES:Business,Sports
END:VEVENT
BEGIN:VEVENT
DTSTART;TZID=America/Chicago:20260908T090000
DTEND;TZID=America/Chicago:20260908T100000
DTSTAMP:20260425T231201
CREATED:20251223T121216Z
LAST-MODIFIED:20251223T121216Z
UID:10011636-1788858000-1788861600@murphysboro.com
SUMMARY:Intermediate Flow – Yoga on the Block
DESCRIPTION:
URL:https://murphysboro.com/event/intermediate-flow-yoga-on-the-block-2/2026-09-08/
LOCATION:Yoga on the Block\, 1330 Walnut Street\, Murphysboro\, IL\, 62966\, United States
CATEGORIES:Business,Educational,Sports
END:VEVENT
BEGIN:VEVENT
DTSTART;TZID=America/Chicago:20260908T180000
DTEND;TZID=America/Chicago:20260908T190000
DTSTAMP:20260425T231201
CREATED:20251223T121704Z
LAST-MODIFIED:20251223T121704Z
UID:10011844-1788890400-1788894000@murphysboro.com
SUMMARY:Body by Brent Bootcamp – Youth and Recreation Center
DESCRIPTION:
URL:https://murphysboro.com/event/body-by-brent-bootcamp-youth-and-recreation-center-8/2026-09-08/
LOCATION:Youth and Rec Center\, 1818 Walnut Street\, Murphysboro\, IL\, 62966\, United States
CATEGORIES:Business,Educational,Sports
END:VEVENT
BEGIN:VEVENT
DTSTART;TZID=America/Chicago:20260909T080000
DTEND;TZID=America/Chicago:20260909T090000
DTSTAMP:20260425T231201
CREATED:20251223T143319Z
LAST-MODIFIED:20251223T143319Z
UID:10012000-1788940800-1788944400@murphysboro.com
SUMMARY:Exercise Class – Topp Shape
DESCRIPTION:
URL:https://murphysboro.com/event/exercise-class-topp-shape-17/2026-09-09/
LOCATION:IL
CATEGORIES:Business,Educational,Sports
END:VEVENT
BEGIN:VEVENT
DTSTART;TZID=America/Chicago:20260909T100000
DTEND;TZID=America/Chicago:20260909T110000
DTSTAMP:20260425T231201
CREATED:20251223T143612Z
LAST-MODIFIED:20251223T143612Z
UID:10012052-1788948000-1788951600@murphysboro.com
SUMMARY:Gentle Flow – Yoga on the Block
DESCRIPTION:
URL:https://murphysboro.com/event/gentle-flow-yoga-on-the-block-7/2026-09-09/
LOCATION:Yoga on the Block\, 1330 Walnut Street\, Murphysboro\, IL\, 62966\, United States
CATEGORIES:Business,Educational,Sports
END:VEVENT
BEGIN:VEVENT
DTSTART;TZID=America/Chicago:20260909T130000
DTEND;TZID=America/Chicago:20260909T140000
DTSTAMP:20260425T231201
CREATED:20251223T144039Z
LAST-MODIFIED:20251223T144039Z
UID:10012208-1788958800-1788962400@murphysboro.com
SUMMARY:Chair Yoga – Yoga on the Block
DESCRIPTION:
URL:https://murphysboro.com/event/chair-yoga-yoga-on-the-block-2/2026-09-09/
LOCATION:Yoga on the Block\, 1330 Walnut Street\, Murphysboro\, IL\, 62966\, United States
CATEGORIES:Business,Educational,Sports
END:VEVENT
BEGIN:VEVENT
DTSTART;TZID=America/Chicago:20260909T170000
DTEND;TZID=America/Chicago:20260909T180000
DTSTAMP:20260425T231201
CREATED:20260103T125155Z
LAST-MODIFIED:20260103T125155Z
UID:10013372-1788973200-1788976800@murphysboro.com
SUMMARY:Youth Black Tie Jiu Jitsu (age 7 - 12) - Black Tie Jiu Jitsu
DESCRIPTION:
URL:https://murphysboro.com/event/youth-black-tie-jiu-jitsu-age-7-12-black-tie-jiu-jitsu-2/2026-09-09/
LOCATION:IL
CATEGORIES:Business,Sports
END:VEVENT
BEGIN:VEVENT
DTSTART;TZID=America/Chicago:20260909T173000
DTEND;TZID=America/Chicago:20260909T183000
DTSTAMP:20260425T231201
CREATED:20251223T144437Z
LAST-MODIFIED:20251223T144437Z
UID:10012364-1788975000-1788978600@murphysboro.com
SUMMARY:Exercise Class – Topp Shape
DESCRIPTION:
URL:https://murphysboro.com/event/exercise-class-topp-shape-18/2026-09-09/
LOCATION:IL
CATEGORIES:Business,Educational,Sports
END:VEVENT
END:VCALENDAR