BEGIN:VCALENDAR
VERSION:2.0
PRODID:-//The City of Murphysboro - ECPv6.15.20//NONSGML v1.0//EN
CALSCALE:GREGORIAN
METHOD:PUBLISH
X-ORIGINAL-URL:https://murphysboro.com
X-WR-CALDESC:Events for The City of Murphysboro
REFRESH-INTERVAL;VALUE=DURATION:PT1H
X-Robots-Tag:noindex
X-PUBLISHED-TTL:PT1H
BEGIN:VTIMEZONE
TZID:America/Chicago
BEGIN:DAYLIGHT
TZOFFSETFROM:-0600
TZOFFSETTO:-0500
TZNAME:CDT
DTSTART:20250309T080000
END:DAYLIGHT
BEGIN:STANDARD
TZOFFSETFROM:-0500
TZOFFSETTO:-0600
TZNAME:CST
DTSTART:20251102T070000
END:STANDARD
BEGIN:DAYLIGHT
TZOFFSETFROM:-0600
TZOFFSETTO:-0500
TZNAME:CDT
DTSTART:20260308T080000
END:DAYLIGHT
BEGIN:STANDARD
TZOFFSETFROM:-0500
TZOFFSETTO:-0600
TZNAME:CST
DTSTART:20261101T070000
END:STANDARD
BEGIN:DAYLIGHT
TZOFFSETFROM:-0600
TZOFFSETTO:-0500
TZNAME:CDT
DTSTART:20270314T080000
END:DAYLIGHT
BEGIN:STANDARD
TZOFFSETFROM:-0500
TZOFFSETTO:-0600
TZNAME:CST
DTSTART:20271107T070000
END:STANDARD
END:VTIMEZONE
BEGIN:VEVENT
DTSTART;TZID=America/Chicago:20260709T161500
DTEND;TZID=America/Chicago:20260709T171500
DTSTAMP:20260425T194127
CREATED:20251224T120408Z
LAST-MODIFIED:20251224T120408Z
UID:10012511-1783613700-1783617300@murphysboro.com
SUMMARY:Yoga Class – Event Center
DESCRIPTION:
URL:https://murphysboro.com/event/yoga-class-event-center-46/2026-07-09/
LOCATION:IL
CATEGORIES:Business,Sports
END:VEVENT
BEGIN:VEVENT
DTSTART;TZID=America/Chicago:20260710T080000
DTEND;TZID=America/Chicago:20260710T090000
DTSTAMP:20260425T194127
CREATED:20251225T120923Z
LAST-MODIFIED:20251225T120923Z
UID:10012771-1783670400-1783674000@murphysboro.com
SUMMARY:Exercise Class – Topp Shape
DESCRIPTION:
URL:https://murphysboro.com/event/exercise-class-topp-shape-19/2026-07-10/
LOCATION:IL
CATEGORIES:Business,Educational,Sports
END:VEVENT
BEGIN:VEVENT
DTSTART;TZID=America/Chicago:20260710T170000
DTEND;TZID=America/Chicago:20260710T180000
DTSTAMP:20260425T194127
CREATED:20260103T125305Z
LAST-MODIFIED:20260103T125305Z
UID:10013416-1783702800-1783706400@murphysboro.com
SUMMARY:Youth Black Tie Jiu Jitsu (age 7 - 12) - Black Tie Jiu Jitsu
DESCRIPTION:
URL:https://murphysboro.com/event/youth-black-tie-jiu-jitsu-age-7-12-black-tie-jiu-jitsu-3/2026-07-10/
LOCATION:IL
CATEGORIES:Business,Sports
END:VEVENT
BEGIN:VEVENT
DTSTART;TZID=America/Chicago:20260710T180000
DTEND;TZID=America/Chicago:20260710T190000
DTSTAMP:20260425T194127
CREATED:20251225T121332Z
LAST-MODIFIED:20251225T121332Z
UID:10012924-1783706400-1783710000@murphysboro.com
SUMMARY:Surya Flow – Yoga on the Block
DESCRIPTION:
URL:https://murphysboro.com/event/surya-flow-yoga-on-the-block-4/2026-07-10/
LOCATION:Yoga on the Block\, 1330 Walnut Street\, Murphysboro\, IL\, 62966\, United States
CATEGORIES:Business,Educational,Sports
END:VEVENT
BEGIN:VEVENT
DTSTART;TZID=America/Chicago:20260710T180000
DTEND;TZID=America/Chicago:20260710T190000
DTSTAMP:20260425T194127
CREATED:20260104T113431Z
LAST-MODIFIED:20260104T113431Z
UID:10013574-1783706400-1783710000@murphysboro.com
SUMMARY:Fundamentals | Jiu Jitsu (age 13+) - Black Tie Jiu Jitsu
DESCRIPTION:
URL:https://murphysboro.com/event/fundamentals-jiu-jitsu-age-13-black-tie-jiu-jitsu-3/2026-07-10/
LOCATION:IL
CATEGORIES:Business,Sports
END:VEVENT
BEGIN:VEVENT
DTSTART;TZID=America/Chicago:20260710T190000
DTEND;TZID=America/Chicago:20260710T200000
DTSTAMP:20260425T194127
CREATED:20260104T113819Z
LAST-MODIFIED:20260104T113819Z
UID:10013731-1783710000-1783713600@murphysboro.com
SUMMARY:Muay Thai (age 16+) - Black Tie Jiu Jitsu
DESCRIPTION:
URL:https://murphysboro.com/event/muay-thai-age-16-black-tie-jiu-jitsu-3/2026-07-10/
LOCATION:IL
CATEGORIES:Business,Sports
END:VEVENT
BEGIN:VEVENT
DTSTART;TZID=America/Chicago:20260711T090000
DTEND;TZID=America/Chicago:20260711T100000
DTSTAMP:20260425T194127
CREATED:20260211T124017Z
LAST-MODIFIED:20260211T124017Z
UID:10013920-1783760400-1783764000@murphysboro.com
SUMMARY:Morning Mobility - Topp Shape
DESCRIPTION:
URL:https://murphysboro.com/event/morning-mobility-topp-shape/2026-07-11/
LOCATION:IL
CATEGORIES:Business,Sports
END:VEVENT
BEGIN:VEVENT
DTSTART;TZID=America/Chicago:20260711T093000
DTEND;TZID=America/Chicago:20260711T103000
DTSTAMP:20260425T194127
CREATED:20251226T120129Z
LAST-MODIFIED:20251226T120129Z
UID:10013077-1783762200-1783765800@murphysboro.com
SUMMARY:Body by Brent Bootcamp – Youth and Recreation Center
DESCRIPTION:
URL:https://murphysboro.com/event/body-by-brent-bootcamp-youth-and-recreation-center-10/2026-07-11/
LOCATION:Youth and Rec Center\, 1818 Walnut Street\, Murphysboro\, IL\, 62966\, United States
CATEGORIES:Business,Educational,Sports
END:VEVENT
BEGIN:VEVENT
DTSTART;TZID=America/Chicago:20260713T080000
DTEND;TZID=America/Chicago:20260713T090000
DTSTAMP:20260425T194127
CREATED:20251222T122806Z
LAST-MODIFIED:20251222T122840Z
UID:10011099-1783929600-1783933200@murphysboro.com
SUMMARY:Exercise Class – Topp Shape
DESCRIPTION:
URL:https://murphysboro.com/event/exercise-class-topp-shape-15/2026-07-13/
LOCATION:IL
CATEGORIES:Business,Educational,Sports
END:VEVENT
BEGIN:VEVENT
DTSTART;TZID=America/Chicago:20260713T130000
DTEND;TZID=America/Chicago:20260713T140000
DTSTAMP:20260425T194127
CREATED:20251222T212705Z
LAST-MODIFIED:20251222T212705Z
UID:10011255-1783947600-1783951200@murphysboro.com
SUMMARY:Chair/Stand Yoga – Yoga on the Block
DESCRIPTION:
URL:https://murphysboro.com/event/chair-stand-yoga-yoga-on-the-block-3/2026-07-13/
LOCATION:Yoga on the Block\, 1330 Walnut Street\, Murphysboro\, IL\, 62966\, United States
CATEGORIES:Business,Educational,Sports
END:VEVENT
BEGIN:VEVENT
DTSTART;TZID=America/Chicago:20260713T170000
DTEND;TZID=America/Chicago:20260713T180000
DTSTAMP:20260425T194127
CREATED:20260103T125012Z
LAST-MODIFIED:20260103T125012Z
UID:10013259-1783962000-1783965600@murphysboro.com
SUMMARY:Youth Black Tie Jiu Jitsu (age 7 - 12) - Black Tie Jiu Jitsu
DESCRIPTION:
URL:https://murphysboro.com/event/youth-black-tie-jiu-jitsu-age-7-12-black-tie-jiu-jitsu/2026-07-13/
LOCATION:IL
CATEGORIES:Business,Sports
END:VEVENT
BEGIN:VEVENT
DTSTART;TZID=America/Chicago:20260713T170000
DTEND;TZID=America/Chicago:20260713T183000
DTSTAMP:20260425T194127
CREATED:20251222T215630Z
LAST-MODIFIED:20251222T215630Z
UID:10011308-1783962000-1783967400@murphysboro.com
SUMMARY:Exercise Class – Topp Shape
DESCRIPTION:
URL:https://murphysboro.com/event/exercise-class-topp-shape-16/2026-07-13/
LOCATION:IL
CATEGORIES:Business,Educational,Sports
END:VEVENT
BEGIN:VEVENT
DTSTART;TZID=America/Chicago:20260713T180000
DTEND;TZID=America/Chicago:20260713T190000
DTSTAMP:20260425T194127
CREATED:20251222T220009Z
LAST-MODIFIED:20251222T220009Z
UID:10011412-1783965600-1783969200@murphysboro.com
SUMMARY:Mindful Movement – Yoga on the Block
DESCRIPTION:
URL:https://murphysboro.com/event/mindful-movement-yoga-on-the-block-3/2026-07-13/
LOCATION:Yoga on the Block\, 1330 Walnut Street\, Murphysboro\, IL\, 62966\, United States
CATEGORIES:Business,Educational,Sports
END:VEVENT
BEGIN:VEVENT
DTSTART;TZID=America/Chicago:20260713T180000
DTEND;TZID=America/Chicago:20260713T190000
DTSTAMP:20260425T194127
CREATED:20260104T113058Z
LAST-MODIFIED:20260104T113058Z
UID:10013468-1783965600-1783969200@murphysboro.com
SUMMARY:Fundamentals | Jiu Jitsu (age 13+) - Black Tie Jiu Jitsu
DESCRIPTION:
URL:https://murphysboro.com/event/fundamentals-jiu-jitsu-age-13-black-tie-jiu-jitsu/2026-07-13/
LOCATION:IL
CATEGORIES:Business,Sports
END:VEVENT
BEGIN:VEVENT
DTSTART;TZID=America/Chicago:20260713T190000
DTEND;TZID=America/Chicago:20260713T200000
DTSTAMP:20260425T194127
CREATED:20260104T113624Z
LAST-MODIFIED:20260104T113624Z
UID:10013626-1783969200-1783972800@murphysboro.com
SUMMARY:Muay Thai (age 16+) - Black Tie Jiu Jitsu
DESCRIPTION:
URL:https://murphysboro.com/event/muay-thai-age-16-black-tie-jiu-jitsu/2026-07-13/
LOCATION:IL
CATEGORIES:Business,Sports
END:VEVENT
BEGIN:VEVENT
DTSTART;TZID=America/Chicago:20260714T090000
DTEND;TZID=America/Chicago:20260714T100000
DTSTAMP:20260425T194127
CREATED:20251223T121216Z
LAST-MODIFIED:20251223T121216Z
UID:10011628-1784019600-1784023200@murphysboro.com
SUMMARY:Intermediate Flow – Yoga on the Block
DESCRIPTION:
URL:https://murphysboro.com/event/intermediate-flow-yoga-on-the-block-2/2026-07-14/
LOCATION:Yoga on the Block\, 1330 Walnut Street\, Murphysboro\, IL\, 62966\, United States
CATEGORIES:Business,Educational,Sports
END:VEVENT
BEGIN:VEVENT
DTSTART;TZID=America/Chicago:20260714T180000
DTEND;TZID=America/Chicago:20260714T190000
DTSTAMP:20260425T194127
CREATED:20251223T121704Z
LAST-MODIFIED:20251223T121704Z
UID:10011836-1784052000-1784055600@murphysboro.com
SUMMARY:Body by Brent Bootcamp – Youth and Recreation Center
DESCRIPTION:
URL:https://murphysboro.com/event/body-by-brent-bootcamp-youth-and-recreation-center-8/2026-07-14/
LOCATION:Youth and Rec Center\, 1818 Walnut Street\, Murphysboro\, IL\, 62966\, United States
CATEGORIES:Business,Educational,Sports
END:VEVENT
BEGIN:VEVENT
DTSTART;TZID=America/Chicago:20260715T080000
DTEND;TZID=America/Chicago:20260715T090000
DTSTAMP:20260425T194127
CREATED:20251223T143319Z
LAST-MODIFIED:20251223T143319Z
UID:10011992-1784102400-1784106000@murphysboro.com
SUMMARY:Exercise Class – Topp Shape
DESCRIPTION:
URL:https://murphysboro.com/event/exercise-class-topp-shape-17/2026-07-15/
LOCATION:IL
CATEGORIES:Business,Educational,Sports
END:VEVENT
BEGIN:VEVENT
DTSTART;TZID=America/Chicago:20260715T100000
DTEND;TZID=America/Chicago:20260715T110000
DTSTAMP:20260425T194127
CREATED:20251223T143612Z
LAST-MODIFIED:20251223T143612Z
UID:10012044-1784109600-1784113200@murphysboro.com
SUMMARY:Gentle Flow – Yoga on the Block
DESCRIPTION:
URL:https://murphysboro.com/event/gentle-flow-yoga-on-the-block-7/2026-07-15/
LOCATION:Yoga on the Block\, 1330 Walnut Street\, Murphysboro\, IL\, 62966\, United States
CATEGORIES:Business,Educational,Sports
END:VEVENT
BEGIN:VEVENT
DTSTART;TZID=America/Chicago:20260715T130000
DTEND;TZID=America/Chicago:20260715T140000
DTSTAMP:20260425T194127
CREATED:20251223T144039Z
LAST-MODIFIED:20251223T144039Z
UID:10012200-1784120400-1784124000@murphysboro.com
SUMMARY:Chair Yoga – Yoga on the Block
DESCRIPTION:
URL:https://murphysboro.com/event/chair-yoga-yoga-on-the-block-2/2026-07-15/
LOCATION:Yoga on the Block\, 1330 Walnut Street\, Murphysboro\, IL\, 62966\, United States
CATEGORIES:Business,Educational,Sports
END:VEVENT
BEGIN:VEVENT
DTSTART;TZID=America/Chicago:20260715T170000
DTEND;TZID=America/Chicago:20260715T180000
DTSTAMP:20260425T194127
CREATED:20260103T125155Z
LAST-MODIFIED:20260103T125155Z
UID:10013364-1784134800-1784138400@murphysboro.com
SUMMARY:Youth Black Tie Jiu Jitsu (age 7 - 12) - Black Tie Jiu Jitsu
DESCRIPTION:
URL:https://murphysboro.com/event/youth-black-tie-jiu-jitsu-age-7-12-black-tie-jiu-jitsu-2/2026-07-15/
LOCATION:IL
CATEGORIES:Business,Sports
END:VEVENT
BEGIN:VEVENT
DTSTART;TZID=America/Chicago:20260715T173000
DTEND;TZID=America/Chicago:20260715T183000
DTSTAMP:20260425T194127
CREATED:20251223T144437Z
LAST-MODIFIED:20251223T144437Z
UID:10012356-1784136600-1784140200@murphysboro.com
SUMMARY:Exercise Class – Topp Shape
DESCRIPTION:
URL:https://murphysboro.com/event/exercise-class-topp-shape-18/2026-07-15/
LOCATION:IL
CATEGORIES:Business,Educational,Sports
END:VEVENT
BEGIN:VEVENT
DTSTART;TZID=America/Chicago:20260715T180000
DTEND;TZID=America/Chicago:20260715T190000
DTSTAMP:20260425T194127
CREATED:20251223T144538Z
LAST-MODIFIED:20251223T144538Z
UID:10012408-1784138400-1784142000@murphysboro.com
SUMMARY:Peak Pose – Yoga on the Block
DESCRIPTION:
URL:https://murphysboro.com/event/peak-pose-yoga-on-the-block-3/2026-07-15/
LOCATION:Yoga on the Block\, 1330 Walnut Street\, Murphysboro\, IL\, 62966\, United States
CATEGORIES:Business,Sports
END:VEVENT
BEGIN:VEVENT
DTSTART;TZID=America/Chicago:20260715T180000
DTEND;TZID=America/Chicago:20260715T190000
DTSTAMP:20260425T194127
CREATED:20260104T113332Z
LAST-MODIFIED:20260104T113332Z
UID:10013522-1784138400-1784142000@murphysboro.com
SUMMARY:Fundamentals | Jiu Jitsu (age 13+) - Black Tie Jiu Jitsu
DESCRIPTION:
URL:https://murphysboro.com/event/fundamentals-jiu-jitsu-age-13-black-tie-jiu-jitsu-2/2026-07-15/
LOCATION:IL
CATEGORIES:Business,Sports
END:VEVENT
BEGIN:VEVENT
DTSTART;TZID=America/Chicago:20260715T190000
DTEND;TZID=America/Chicago:20260715T200000
DTSTAMP:20260425T194127
CREATED:20260104T113722Z
LAST-MODIFIED:20260104T113722Z
UID:10013679-1784142000-1784145600@murphysboro.com
SUMMARY:Muay Thai (age 16+) - Black Tie Jiu Jitsu
DESCRIPTION:
URL:https://murphysboro.com/event/muay-thai-age-16-black-tie-jiu-jitsu-2/2026-07-15/
LOCATION:IL
CATEGORIES:Business,Sports
END:VEVENT
BEGIN:VEVENT
DTSTART;TZID=America/Chicago:20260716T161500
DTEND;TZID=America/Chicago:20260716T171500
DTSTAMP:20260425T194127
CREATED:20251224T120408Z
LAST-MODIFIED:20251224T120408Z
UID:10012512-1784218500-1784222100@murphysboro.com
SUMMARY:Yoga Class – Event Center
DESCRIPTION:
URL:https://murphysboro.com/event/yoga-class-event-center-46/2026-07-16/
LOCATION:IL
CATEGORIES:Business,Sports
END:VEVENT
BEGIN:VEVENT
DTSTART;TZID=America/Chicago:20260717T080000
DTEND;TZID=America/Chicago:20260717T090000
DTSTAMP:20260425T194127
CREATED:20251225T120923Z
LAST-MODIFIED:20251225T120923Z
UID:10012772-1784275200-1784278800@murphysboro.com
SUMMARY:Exercise Class – Topp Shape
DESCRIPTION:
URL:https://murphysboro.com/event/exercise-class-topp-shape-19/2026-07-17/
LOCATION:IL
CATEGORIES:Business,Educational,Sports
END:VEVENT
BEGIN:VEVENT
DTSTART;TZID=America/Chicago:20260717T170000
DTEND;TZID=America/Chicago:20260717T180000
DTSTAMP:20260425T194127
CREATED:20260103T125305Z
LAST-MODIFIED:20260103T125305Z
UID:10013417-1784307600-1784311200@murphysboro.com
SUMMARY:Youth Black Tie Jiu Jitsu (age 7 - 12) - Black Tie Jiu Jitsu
DESCRIPTION:
URL:https://murphysboro.com/event/youth-black-tie-jiu-jitsu-age-7-12-black-tie-jiu-jitsu-3/2026-07-17/
LOCATION:IL
CATEGORIES:Business,Sports
END:VEVENT
BEGIN:VEVENT
DTSTART;TZID=America/Chicago:20260717T180000
DTEND;TZID=America/Chicago:20260717T190000
DTSTAMP:20260425T194127
CREATED:20251225T121332Z
LAST-MODIFIED:20251225T121332Z
UID:10012925-1784311200-1784314800@murphysboro.com
SUMMARY:Surya Flow – Yoga on the Block
DESCRIPTION:
URL:https://murphysboro.com/event/surya-flow-yoga-on-the-block-4/2026-07-17/
LOCATION:Yoga on the Block\, 1330 Walnut Street\, Murphysboro\, IL\, 62966\, United States
CATEGORIES:Business,Educational,Sports
END:VEVENT
BEGIN:VEVENT
DTSTART;TZID=America/Chicago:20260717T180000
DTEND;TZID=America/Chicago:20260717T190000
DTSTAMP:20260425T194127
CREATED:20260104T113431Z
LAST-MODIFIED:20260104T113431Z
UID:10013575-1784311200-1784314800@murphysboro.com
SUMMARY:Fundamentals | Jiu Jitsu (age 13+) - Black Tie Jiu Jitsu
DESCRIPTION:
URL:https://murphysboro.com/event/fundamentals-jiu-jitsu-age-13-black-tie-jiu-jitsu-3/2026-07-17/
LOCATION:IL
CATEGORIES:Business,Sports
END:VEVENT
END:VCALENDAR