BEGIN:VCALENDAR
VERSION:2.0
PRODID:-//The City of Murphysboro - ECPv6.15.20//NONSGML v1.0//EN
CALSCALE:GREGORIAN
METHOD:PUBLISH
X-WR-CALNAME:The City of Murphysboro
X-ORIGINAL-URL:https://murphysboro.com
X-WR-CALDESC:Events for The City of Murphysboro
REFRESH-INTERVAL;VALUE=DURATION:PT1H
X-Robots-Tag:noindex
X-PUBLISHED-TTL:PT1H
BEGIN:VTIMEZONE
TZID:America/Chicago
BEGIN:DAYLIGHT
TZOFFSETFROM:-0600
TZOFFSETTO:-0500
TZNAME:CDT
DTSTART:20250309T080000
END:DAYLIGHT
BEGIN:STANDARD
TZOFFSETFROM:-0500
TZOFFSETTO:-0600
TZNAME:CST
DTSTART:20251102T070000
END:STANDARD
BEGIN:DAYLIGHT
TZOFFSETFROM:-0600
TZOFFSETTO:-0500
TZNAME:CDT
DTSTART:20260308T080000
END:DAYLIGHT
BEGIN:STANDARD
TZOFFSETFROM:-0500
TZOFFSETTO:-0600
TZNAME:CST
DTSTART:20261101T070000
END:STANDARD
BEGIN:DAYLIGHT
TZOFFSETFROM:-0600
TZOFFSETTO:-0500
TZNAME:CDT
DTSTART:20270314T080000
END:DAYLIGHT
BEGIN:STANDARD
TZOFFSETFROM:-0500
TZOFFSETTO:-0600
TZNAME:CST
DTSTART:20271107T070000
END:STANDARD
END:VTIMEZONE
BEGIN:VEVENT
DTSTART;TZID=America/Chicago:20260106T180000
DTEND;TZID=America/Chicago:20260106T190000
DTSTAMP:20260422T035438
CREATED:20251221T222603Z
LAST-MODIFIED:20251221T222603Z
UID:10011026-1767722400-1767726000@murphysboro.com
SUMMARY:Body by Brent Bootcamp – Youth and Recreation Center
DESCRIPTION:
URL:https://murphysboro.com/event/body-by-brent-bootcamp-youth-and-recreation-center-5/
LOCATION:Youth and Rec Center\, 1818 Walnut Street\, Murphysboro\, IL\, 62966\, United States
CATEGORIES:Business,Educational,Sports
END:VEVENT
BEGIN:VEVENT
DTSTART;TZID=America/Chicago:20260106T180000
DTEND;TZID=America/Chicago:20260106T210000
DTSTAMP:20260422T035438
CREATED:20251221T222719Z
LAST-MODIFIED:20251221T222719Z
UID:10011027-1767722400-1767733200@murphysboro.com
SUMMARY:Weekly Advanced Format Yugioh – A2Z Trading Card Games
DESCRIPTION:
URL:https://murphysboro.com/event/weekly-advanced-format-yugioh-a2z-trading-card-games-2/
LOCATION:IL
CATEGORIES:Business,Educational
END:VEVENT
BEGIN:VEVENT
DTSTART;TZID=America/Chicago:20260106T184500
DTEND;TZID=America/Chicago:20260106T201500
DTSTAMP:20260422T035438
CREATED:20260102T114504Z
LAST-MODIFIED:20260102T114504Z
UID:10013225-1767725100-1767730500@murphysboro.com
SUMMARY:Open Classes Premiere - Studio 84
DESCRIPTION:
URL:https://murphysboro.com/event/open-classes-premiere-studio-84-2/
LOCATION:IL
CATEGORIES:Business,Educational,Sports
END:VEVENT
BEGIN:VEVENT
DTSTART;TZID=America/Chicago:20260107T080000
DTEND;TZID=America/Chicago:20260107T090000
DTSTAMP:20260422T035438
CREATED:20251222T010317Z
LAST-MODIFIED:20251222T010317Z
UID:10011035-1767772800-1767776400@murphysboro.com
SUMMARY:Exercise Class – Topp Shape
DESCRIPTION:
URL:https://murphysboro.com/event/exercise-class-topp-shape-12/
LOCATION:IL
CATEGORIES:Business,Educational,Sports
END:VEVENT
BEGIN:VEVENT
DTSTART;TZID=America/Chicago:20260107T100000
DTEND;TZID=America/Chicago:20260107T110000
DTSTAMP:20260422T035438
CREATED:20251222T010442Z
LAST-MODIFIED:20251222T010442Z
UID:10011036-1767780000-1767783600@murphysboro.com
SUMMARY:Gentle Flow – Yoga on the Block
DESCRIPTION:
URL:https://murphysboro.com/event/gentle-flow-yoga-on-the-block-5/
LOCATION:Yoga on the Block\, 1330 Walnut Street\, Murphysboro\, IL\, 62966\, United States
CATEGORIES:Business,Educational,Sports
END:VEVENT
BEGIN:VEVENT
DTSTART;TZID=America/Chicago:20260107T103000
DTEND;TZID=America/Chicago:20260107T113000
DTSTAMP:20260422T035438
CREATED:20251222T011400Z
LAST-MODIFIED:20251222T011400Z
UID:10011043-1767781800-1767785400@murphysboro.com
SUMMARY:Storytime – Sallie Logan Library
DESCRIPTION:
URL:https://murphysboro.com/event/storytime-sallie-logan-library-6/
LOCATION:Sallie Logan Library\, 1808 Walnut Street\, Murphysboro\, IL\, 62966\, United States
CATEGORIES:Business,Educational,Kid Friendly
END:VEVENT
BEGIN:VEVENT
DTSTART;TZID=America/Chicago:20260107T120000
DTEND;TZID=America/Chicago:20260107T150000
DTSTAMP:20260422T035438
CREATED:20251222T010551Z
LAST-MODIFIED:20251222T010551Z
UID:10011037-1767787200-1767798000@murphysboro.com
SUMMARY:Open hours – Jackson County Historical Society
DESCRIPTION:
URL:https://murphysboro.com/event/open-hours-jackson-county-historical-society/
LOCATION:Jackson County Historical Society\, 1616 Edith Street\, Murphysboro\, IL\, 62966\, United States
CATEGORIES:Business,Educational
END:VEVENT
BEGIN:VEVENT
DTSTART;TZID=America/Chicago:20260107T130000
DTEND;TZID=America/Chicago:20260107T140000
DTSTAMP:20260422T035438
CREATED:20251222T010707Z
LAST-MODIFIED:20251222T010707Z
UID:10011038-1767790800-1767794400@murphysboro.com
SUMMARY:Chair Yoga – Yoga on the Block
DESCRIPTION:
URL:https://murphysboro.com/event/chair-yoga-yoga-on-the-block/
LOCATION:Yoga on the Block\, 1330 Walnut Street\, Murphysboro\, IL\, 62966\, United States
CATEGORIES:Business,Educational,Sports
END:VEVENT
BEGIN:VEVENT
DTSTART;TZID=America/Chicago:20260107T130000
DTEND;TZID=America/Chicago:20260107T160000
DTSTAMP:20260422T035438
CREATED:20251222T010815Z
LAST-MODIFIED:20251222T010815Z
UID:10011039-1767790800-1767801600@murphysboro.com
SUMMARY:Open hours – Logan Museum
DESCRIPTION:
URL:https://murphysboro.com/event/open-hours-logan-museum-265/
LOCATION:John A. Logan Museum\, 1613 Edith\, Murphysboro
CATEGORIES:Business,Educational
END:VEVENT
BEGIN:VEVENT
DTSTART;TZID=America/Chicago:20260107T173000
DTEND;TZID=America/Chicago:20260107T183000
DTSTAMP:20260422T035438
CREATED:20251222T011002Z
LAST-MODIFIED:20251222T011002Z
UID:10011041-1767807000-1767810600@murphysboro.com
SUMMARY:Exercise Class – Topp Shape
DESCRIPTION:
URL:https://murphysboro.com/event/exercise-class-topp-shape-13/
LOCATION:IL
CATEGORIES:Business,Educational,Sports
END:VEVENT
BEGIN:VEVENT
DTSTART;TZID=America/Chicago:20260108T180000
DTEND;TZID=America/Chicago:20260108T190000
DTSTAMP:20260422T035438
CREATED:20251222T030712Z
LAST-MODIFIED:20251222T030712Z
UID:10011047-1767895200-1767898800@murphysboro.com
SUMMARY:Body by Brent Bootcamp – Youth and Recreation Center
DESCRIPTION:
URL:https://murphysboro.com/event/body-by-brent-bootcamp-youth-and-recreation-center-6/
LOCATION:Youth and Rec Center\, 1818 Walnut Street\, Murphysboro\, IL\, 62966\, United States
CATEGORIES:Business,Educational
END:VEVENT
BEGIN:VEVENT
DTSTART;TZID=America/Chicago:20260108T180000
DTEND;TZID=America/Chicago:20260108T210000
DTSTAMP:20260422T035438
CREATED:20251222T193308Z
LAST-MODIFIED:20251222T193308Z
UID:10011126-1767895200-1767906000@murphysboro.com
SUMMARY:Weekly Yugioh Genesys Format Tournament - A2Z Trading Card Games
DESCRIPTION:
URL:https://murphysboro.com/event/weekly-yugioh-genesys-format-tournament-a2z-trading-card-games/2026-01-08/
LOCATION:A2Z Trading Card Games\, 1003 Chestnut Street\, Murphysboro\, IL\, 62966\, United States
CATEGORIES:Business,Educational
END:VEVENT
BEGIN:VEVENT
DTSTART;TZID=America/Chicago:20260108T184500
DTEND;TZID=America/Chicago:20260108T201500
DTSTAMP:20260422T035438
CREATED:20260102T114629Z
LAST-MODIFIED:20260102T114629Z
UID:10013226-1767897900-1767903300@murphysboro.com
SUMMARY:Open Classes Premiere - Studio 84
DESCRIPTION:
URL:https://murphysboro.com/event/open-classes-premiere-studio-84-3/
LOCATION:IL
CATEGORIES:Business,Educational,Sports
END:VEVENT
BEGIN:VEVENT
DTSTART;VALUE=DATE:20260109
DTEND;VALUE=DATE:20260110
DTSTAMP:20260422T035438
CREATED:20251222T123958Z
LAST-MODIFIED:20251222T123958Z
UID:10011124-1767916800-1768003199@murphysboro.com
SUMMARY:National Law Enforcement Appreciation Day
DESCRIPTION:
URL:https://murphysboro.com/event/national-law-enforcement-appreciation-day-2/
LOCATION:IL
CATEGORIES:Educational,Notable event
END:VEVENT
BEGIN:VEVENT
DTSTART;TZID=America/Chicago:20260109T080000
DTEND;TZID=America/Chicago:20260109T090000
DTSTAMP:20260422T035438
CREATED:20251222T114547Z
LAST-MODIFIED:20251222T114547Z
UID:10011052-1767945600-1767949200@murphysboro.com
SUMMARY:Exercise Class – Topp Shape
DESCRIPTION:
URL:https://murphysboro.com/event/exercise-class-topp-shape-14/
LOCATION:IL
CATEGORIES:Business,Educational,Sports
END:VEVENT
BEGIN:VEVENT
DTSTART;TZID=America/Chicago:20260109T120000
DTEND;TZID=America/Chicago:20260109T150000
DTSTAMP:20260422T035438
CREATED:20251222T114659Z
LAST-MODIFIED:20251222T114659Z
UID:10011053-1767960000-1767970800@murphysboro.com
SUMMARY:Open hours – Jackson County Historical Society
DESCRIPTION:
URL:https://murphysboro.com/event/open-hours-jackson-county-historical-society-2/
LOCATION:Jackson County Historical Society\, 1616 Edith Street\, Murphysboro\, IL\, 62966\, United States
CATEGORIES:Business,Educational
END:VEVENT
BEGIN:VEVENT
DTSTART;TZID=America/Chicago:20260109T130000
DTEND;TZID=America/Chicago:20260109T160000
DTSTAMP:20260422T035438
CREATED:20251222T114810Z
LAST-MODIFIED:20251222T114810Z
UID:10011054-1767963600-1767974400@murphysboro.com
SUMMARY:Open Hours – Logan Museum
DESCRIPTION:
URL:https://murphysboro.com/event/open-hours-logan-museum-267/
LOCATION:John A. Logan Museum\, 1613 Edith\, Murphysboro
CATEGORIES:Business,Educational
END:VEVENT
BEGIN:VEVENT
DTSTART;TZID=America/Chicago:20260109T180000
DTEND;TZID=America/Chicago:20260109T190000
DTSTAMP:20260422T035438
CREATED:20251222T114917Z
LAST-MODIFIED:20251222T114917Z
UID:10011055-1767981600-1767985200@murphysboro.com
SUMMARY:Surya Flow – Yoga on the Block
DESCRIPTION:
URL:https://murphysboro.com/event/surya-flow-yoga-on-the-block-3/
LOCATION:Yoga on the Block\, 1330 Walnut Street\, Murphysboro\, IL\, 62966\, United States
CATEGORIES:Business,Educational,Sports
END:VEVENT
BEGIN:VEVENT
DTSTART;TZID=America/Chicago:20260109T180000
DTEND;TZID=America/Chicago:20260109T200000
DTSTAMP:20260422T035438
CREATED:20260102T114910Z
LAST-MODIFIED:20260102T114910Z
UID:10013227-1767981600-1767988800@murphysboro.com
SUMMARY:Create Your Own Punch Card - Big Muddy Brewing
DESCRIPTION:
URL:https://murphysboro.com/event/create-your-own-punch-card-big-muddy-brewing/
LOCATION:Big Muddy Brewing\, 1510 North 7th Street\, Murphysboro\, IL\, 62966\, United States
CATEGORIES:Business,Educational
END:VEVENT
BEGIN:VEVENT
DTSTART;TZID=America/Chicago:20260110T093000
DTEND;TZID=America/Chicago:20260110T103000
DTSTAMP:20260422T035438
CREATED:20251222T121531Z
LAST-MODIFIED:20251222T121531Z
UID:10011069-1768037400-1768041000@murphysboro.com
SUMMARY:Body by Brent Bootcamp – Youth and Recreation Center
DESCRIPTION:
URL:https://murphysboro.com/event/body-by-brent-bootcamp-youth-and-recreation-center-7/
LOCATION:Youth and Rec Center\, 1818 Walnut Street\, Murphysboro\, IL\, 62966\, United States
CATEGORIES:Business,Educational,Sports
END:VEVENT
BEGIN:VEVENT
DTSTART;TZID=America/Chicago:20260110T130000
DTEND;TZID=America/Chicago:20260110T160000
DTSTAMP:20260422T035438
CREATED:20251222T121646Z
LAST-MODIFIED:20251222T121646Z
UID:10011070-1768050000-1768060800@murphysboro.com
SUMMARY:Open hours – Logan Museum
DESCRIPTION:
URL:https://murphysboro.com/event/open-hours-logan-museum-268/
LOCATION:John A. Logan Museum\, 1613 Edith\, Murphysboro
CATEGORIES:Arts | Culture,Business,Educational
END:VEVENT
BEGIN:VEVENT
DTSTART;TZID=America/Chicago:20260110T150000
DTEND;TZID=America/Chicago:20260110T200000
DTSTAMP:20260422T035438
CREATED:20251222T122017Z
LAST-MODIFIED:20251222T122017Z
UID:10011071-1768057200-1768075200@murphysboro.com
SUMMARY:Pokémon Open Play and Trade – A2Z Trading Card Games
DESCRIPTION:
URL:https://murphysboro.com/event/pokemon-open-play-and-trade-a2z-trading-card-games-2/
LOCATION:A2Z Trading Card Games\, 1003 Chestnut Street\, Murphysboro\, IL\, 62966\, United States
CATEGORIES:Business,Educational
END:VEVENT
BEGIN:VEVENT
DTSTART;TZID=America/Chicago:20260111T150000
DTEND;TZID=America/Chicago:20260111T161500
DTSTAMP:20260422T035438
CREATED:20260105T135342Z
LAST-MODIFIED:20260105T135342Z
UID:10013756-1768143600-1768148100@murphysboro.com
SUMMARY:Beginning Ballet Workshop: Informational and Welcome - Studio 84
DESCRIPTION:
URL:https://murphysboro.com/event/beginning-ballet-workshop-informational-and-welcome-studio-84/
LOCATION:IL
CATEGORIES:Business,Educational,Sports
END:VEVENT
BEGIN:VEVENT
DTSTART;TZID=America/Chicago:20260111T170000
DTEND;TZID=America/Chicago:20260111T210000
DTSTAMP:20260422T035438
CREATED:20251223T010142Z
LAST-MODIFIED:20251223T010142Z
UID:10011547-1768150800-1768165200@murphysboro.com
SUMMARY:Weekly Sunday Pokémon League – A2Z Trading Card Games
DESCRIPTION:
URL:https://murphysboro.com/event/weekly-sunday-pokemon-league-a2z-trading-card-games-3/2026-01-11/
LOCATION:IL
CATEGORIES:Business,Educational
END:VEVENT
BEGIN:VEVENT
DTSTART;TZID=America/Chicago:20260112T080000
DTEND;TZID=America/Chicago:20260112T090000
DTSTAMP:20260422T035438
CREATED:20251222T122806Z
LAST-MODIFIED:20251222T122840Z
UID:10011073-1768204800-1768208400@murphysboro.com
SUMMARY:Exercise Class – Topp Shape
DESCRIPTION:
URL:https://murphysboro.com/event/exercise-class-topp-shape-15/2026-01-12/
LOCATION:IL
CATEGORIES:Business,Educational,Sports
END:VEVENT
BEGIN:VEVENT
DTSTART;TZID=America/Chicago:20260112T130000
DTEND;TZID=America/Chicago:20260112T140000
DTSTAMP:20260422T035438
CREATED:20251222T212705Z
LAST-MODIFIED:20251222T212705Z
UID:10011229-1768222800-1768226400@murphysboro.com
SUMMARY:Chair/Stand Yoga – Yoga on the Block
DESCRIPTION:
URL:https://murphysboro.com/event/chair-stand-yoga-yoga-on-the-block-3/2026-01-12/
LOCATION:Yoga on the Block\, 1330 Walnut Street\, Murphysboro\, IL\, 62966\, United States
CATEGORIES:Business,Educational,Sports
END:VEVENT
BEGIN:VEVENT
DTSTART;TZID=America/Chicago:20260112T170000
DTEND;TZID=America/Chicago:20260112T183000
DTSTAMP:20260422T035438
CREATED:20251222T215630Z
LAST-MODIFIED:20251222T215630Z
UID:10011282-1768237200-1768242600@murphysboro.com
SUMMARY:Exercise Class – Topp Shape
DESCRIPTION:
URL:https://murphysboro.com/event/exercise-class-topp-shape-16/2026-01-12/
LOCATION:IL
CATEGORIES:Business,Educational,Sports
END:VEVENT
BEGIN:VEVENT
DTSTART;TZID=America/Chicago:20260112T180000
DTEND;TZID=America/Chicago:20260112T190000
DTSTAMP:20260422T035438
CREATED:20251222T220009Z
LAST-MODIFIED:20251222T220009Z
UID:10011386-1768240800-1768244400@murphysboro.com
SUMMARY:Mindful Movement – Yoga on the Block
DESCRIPTION:
URL:https://murphysboro.com/event/mindful-movement-yoga-on-the-block-3/2026-01-12/
LOCATION:Yoga on the Block\, 1330 Walnut Street\, Murphysboro\, IL\, 62966\, United States
CATEGORIES:Business,Educational,Sports
END:VEVENT
BEGIN:VEVENT
DTSTART;TZID=America/Chicago:20260113T090000
DTEND;TZID=America/Chicago:20260113T100000
DTSTAMP:20260422T035438
CREATED:20251223T121216Z
LAST-MODIFIED:20251223T121216Z
UID:10011602-1768294800-1768298400@murphysboro.com
SUMMARY:Intermediate Flow – Yoga on the Block
DESCRIPTION:
URL:https://murphysboro.com/event/intermediate-flow-yoga-on-the-block-2/2026-01-13/
LOCATION:Yoga on the Block\, 1330 Walnut Street\, Murphysboro\, IL\, 62966\, United States
CATEGORIES:Business,Educational,Sports
END:VEVENT
BEGIN:VEVENT
DTSTART;TZID=America/Chicago:20260113T130000
DTEND;TZID=America/Chicago:20260113T160000
DTSTAMP:20260422T035438
CREATED:20251223T121438Z
LAST-MODIFIED:20251223T121438Z
UID:10011706-1768309200-1768320000@murphysboro.com
SUMMARY:Open hours – Logan Museum
DESCRIPTION:
URL:https://murphysboro.com/event/open-hours-logan-museum-269/2026-01-13/
LOCATION:John A. Logan Museum\, 1613 Edith\, Murphysboro
CATEGORIES:Business,Educational
END:VEVENT
END:VCALENDAR