BEGIN:VCALENDAR
VERSION:2.0
PRODID:-//The City of Murphysboro - ECPv6.15.20//NONSGML v1.0//EN
CALSCALE:GREGORIAN
METHOD:PUBLISH
X-WR-CALNAME:The City of Murphysboro
X-ORIGINAL-URL:https://murphysboro.com
X-WR-CALDESC:Events for The City of Murphysboro
REFRESH-INTERVAL;VALUE=DURATION:PT1H
X-Robots-Tag:noindex
X-PUBLISHED-TTL:PT1H
BEGIN:VTIMEZONE
TZID:America/Chicago
BEGIN:DAYLIGHT
TZOFFSETFROM:-0600
TZOFFSETTO:-0500
TZNAME:CDT
DTSTART:20250309T080000
END:DAYLIGHT
BEGIN:STANDARD
TZOFFSETFROM:-0500
TZOFFSETTO:-0600
TZNAME:CST
DTSTART:20251102T070000
END:STANDARD
BEGIN:DAYLIGHT
TZOFFSETFROM:-0600
TZOFFSETTO:-0500
TZNAME:CDT
DTSTART:20260308T080000
END:DAYLIGHT
BEGIN:STANDARD
TZOFFSETFROM:-0500
TZOFFSETTO:-0600
TZNAME:CST
DTSTART:20261101T070000
END:STANDARD
BEGIN:DAYLIGHT
TZOFFSETFROM:-0600
TZOFFSETTO:-0500
TZNAME:CDT
DTSTART:20270314T080000
END:DAYLIGHT
BEGIN:STANDARD
TZOFFSETFROM:-0500
TZOFFSETTO:-0600
TZNAME:CST
DTSTART:20271107T070000
END:STANDARD
END:VTIMEZONE
BEGIN:VEVENT
DTSTART;TZID=America/Chicago:20260314T093000
DTEND;TZID=America/Chicago:20260314T103000
DTSTAMP:20260425T193612
CREATED:20251226T120129Z
LAST-MODIFIED:20251226T120129Z
UID:10013060-1773480600-1773484200@murphysboro.com
SUMMARY:Body by Brent Bootcamp – Youth and Recreation Center
DESCRIPTION:
URL:https://murphysboro.com/event/body-by-brent-bootcamp-youth-and-recreation-center-10/2026-03-14/
LOCATION:Youth and Rec Center\, 1818 Walnut Street\, Murphysboro\, IL\, 62966\, United States
CATEGORIES:Business,Educational,Sports
END:VEVENT
BEGIN:VEVENT
DTSTART;TZID=America/Chicago:20260314T113000
DTEND;TZID=America/Chicago:20260314T133000
DTSTAMP:20260425T193612
CREATED:20260213T224849Z
LAST-MODIFIED:20260213T224849Z
UID:10013964-1773487800-1773495000@murphysboro.com
SUMMARY:Kids Irish Heritage Fest - Youth and Rec Center
DESCRIPTION:
URL:https://murphysboro.com/event/kids-irish-heritage-fest-youth-and-rec-center-2/
LOCATION:Youth and Rec Center\, 1818 Walnut Street\, Murphysboro\, IL\, 62966\, United States
CATEGORIES:Community Event,Educational,Kid Friendly
END:VEVENT
BEGIN:VEVENT
DTSTART;TZID=America/Chicago:20260314T120000
DTEND;TZID=America/Chicago:20260314T170000
DTSTAMP:20260425T193612
CREATED:20251221T230040Z
LAST-MODIFIED:20251221T230040Z
UID:10011033-1773489600-1773507600@murphysboro.com
SUMMARY:Pokémon League Challenge – A2Z Trading Card Games
DESCRIPTION:
URL:https://murphysboro.com/event/pokemon-league-challenge-a2z-trading-card-games-3/
LOCATION:A2Z Trading Card Games\, 1003 Chestnut Street\, Murphysboro\, IL\, 62966\, United States
CATEGORIES:Business,Educational
END:VEVENT
BEGIN:VEVENT
DTSTART;TZID=America/Chicago:20260314T130000
DTEND;TZID=America/Chicago:20260314T160000
DTSTAMP:20260425T193612
CREATED:20251226T120247Z
LAST-MODIFIED:20251226T120247Z
UID:10013111-1773493200-1773504000@murphysboro.com
SUMMARY:Open hours – Logan Museum
DESCRIPTION:
URL:https://murphysboro.com/event/open-hours-logan-museum-272/2026-03-14/
LOCATION:John A. Logan Museum\, 1613 Edith\, Murphysboro
CATEGORIES:Arts | Culture,Business,Educational
END:VEVENT
BEGIN:VEVENT
DTSTART;TZID=America/Chicago:20260314T150000
DTEND;TZID=America/Chicago:20260314T200000
DTSTAMP:20260425T193612
CREATED:20251226T120431Z
LAST-MODIFIED:20251226T120431Z
UID:10013162-1773500400-1773518400@murphysboro.com
SUMMARY:Pokémon Open Play and Trade – A2Z Trading Card Games
DESCRIPTION:
URL:https://murphysboro.com/event/pokemon-open-play-and-trade-a2z-trading-card-games-3/2026-03-14/
LOCATION:A2Z Trading Card Games\, 1003 Chestnut Street\, Murphysboro\, IL\, 62966\, United States
CATEGORIES:Business,Educational
END:VEVENT
END:VCALENDAR