BEGIN:VCALENDAR
VERSION:2.0
PRODID:-//The City of Murphysboro - ECPv6.15.20//NONSGML v1.0//EN
CALSCALE:GREGORIAN
METHOD:PUBLISH
X-WR-CALNAME:The City of Murphysboro
X-ORIGINAL-URL:https://murphysboro.com
X-WR-CALDESC:Events for The City of Murphysboro
REFRESH-INTERVAL;VALUE=DURATION:PT1H
X-Robots-Tag:noindex
X-PUBLISHED-TTL:PT1H
BEGIN:VTIMEZONE
TZID:America/Chicago
BEGIN:DAYLIGHT
TZOFFSETFROM:-0600
TZOFFSETTO:-0500
TZNAME:CDT
DTSTART:20250309T080000
END:DAYLIGHT
BEGIN:STANDARD
TZOFFSETFROM:-0500
TZOFFSETTO:-0600
TZNAME:CST
DTSTART:20251102T070000
END:STANDARD
BEGIN:DAYLIGHT
TZOFFSETFROM:-0600
TZOFFSETTO:-0500
TZNAME:CDT
DTSTART:20260308T080000
END:DAYLIGHT
BEGIN:STANDARD
TZOFFSETFROM:-0500
TZOFFSETTO:-0600
TZNAME:CST
DTSTART:20261101T070000
END:STANDARD
BEGIN:DAYLIGHT
TZOFFSETFROM:-0600
TZOFFSETTO:-0500
TZNAME:CDT
DTSTART:20270314T080000
END:DAYLIGHT
BEGIN:STANDARD
TZOFFSETFROM:-0500
TZOFFSETTO:-0600
TZNAME:CST
DTSTART:20271107T070000
END:STANDARD
END:VTIMEZONE
BEGIN:VEVENT
DTSTART;VALUE=DATE:20260109
DTEND;VALUE=DATE:20260110
DTSTAMP:20260421T170516
CREATED:20251222T123958Z
LAST-MODIFIED:20251222T123958Z
UID:10011124-1767916800-1768003199@murphysboro.com
SUMMARY:National Law Enforcement Appreciation Day
DESCRIPTION:
URL:https://murphysboro.com/event/national-law-enforcement-appreciation-day-2/
LOCATION:Illinois
CATEGORIES:Educational,Notable event
END:VEVENT
BEGIN:VEVENT
DTSTART;TZID=America/Chicago:20260109T080000
DTEND;TZID=America/Chicago:20260109T090000
DTSTAMP:20260421T170516
CREATED:20251222T114547Z
LAST-MODIFIED:20251222T114547Z
UID:10011052-1767945600-1767949200@murphysboro.com
SUMMARY:Exercise Class – Topp Shape
DESCRIPTION:
URL:https://murphysboro.com/event/exercise-class-topp-shape-14/
LOCATION:Illinois
CATEGORIES:Business,Educational,Sports
END:VEVENT
BEGIN:VEVENT
DTSTART;TZID=America/Chicago:20260109T120000
DTEND;TZID=America/Chicago:20260109T150000
DTSTAMP:20260421T170516
CREATED:20251222T114659Z
LAST-MODIFIED:20251222T114659Z
UID:10011053-1767960000-1767970800@murphysboro.com
SUMMARY:Open hours – Jackson County Historical Society
DESCRIPTION:
URL:https://murphysboro.com/event/open-hours-jackson-county-historical-society-2/
LOCATION:Jackson County Historical Society\, 1616 Edith Street\, Murphysboro\, IL\, 62966\, United States
CATEGORIES:Business,Educational
END:VEVENT
BEGIN:VEVENT
DTSTART;TZID=America/Chicago:20260109T130000
DTEND;TZID=America/Chicago:20260109T160000
DTSTAMP:20260421T170516
CREATED:20251222T114810Z
LAST-MODIFIED:20251222T114810Z
UID:10011054-1767963600-1767974400@murphysboro.com
SUMMARY:Open Hours – Logan Museum
DESCRIPTION:
URL:https://murphysboro.com/event/open-hours-logan-museum-267/
LOCATION:John A. Logan Museum\, 1613 Edith\, Murphysboro
CATEGORIES:Business,Educational
END:VEVENT
BEGIN:VEVENT
DTSTART;TZID=America/Chicago:20260109T180000
DTEND;TZID=America/Chicago:20260109T190000
DTSTAMP:20260421T170516
CREATED:20251222T114917Z
LAST-MODIFIED:20251222T114917Z
UID:10011055-1767981600-1767985200@murphysboro.com
SUMMARY:Surya Flow – Yoga on the Block
DESCRIPTION:
URL:https://murphysboro.com/event/surya-flow-yoga-on-the-block-3/
LOCATION:Yoga on the Block\, 1330 Walnut Street\, Murphysboro\, IL\, 62966\, United States
CATEGORIES:Business,Educational,Sports
END:VEVENT
BEGIN:VEVENT
DTSTART;TZID=America/Chicago:20260109T180000
DTEND;TZID=America/Chicago:20260109T200000
DTSTAMP:20260421T170516
CREATED:20260102T114910Z
LAST-MODIFIED:20260102T114910Z
UID:10013227-1767981600-1767988800@murphysboro.com
SUMMARY:Create Your Own Punch Card - Big Muddy Brewing
DESCRIPTION:
URL:https://murphysboro.com/event/create-your-own-punch-card-big-muddy-brewing/
LOCATION:Big Muddy Brewing\, 1510 North 7th Street\, Murphysboro\, IL\, 62966\, United States
CATEGORIES:Business,Educational
END:VEVENT
END:VCALENDAR