BEGIN:VCALENDAR
VERSION:2.0
PRODID:-//The City of Murphysboro - ECPv6.15.20//NONSGML v1.0//EN
CALSCALE:GREGORIAN
METHOD:PUBLISH
X-ORIGINAL-URL:https://murphysboro.com
X-WR-CALDESC:Events for The City of Murphysboro
REFRESH-INTERVAL;VALUE=DURATION:PT1H
X-Robots-Tag:noindex
X-PUBLISHED-TTL:PT1H
BEGIN:VTIMEZONE
TZID:America/Chicago
BEGIN:DAYLIGHT
TZOFFSETFROM:-0600
TZOFFSETTO:-0500
TZNAME:CDT
DTSTART:20250309T080000
END:DAYLIGHT
BEGIN:STANDARD
TZOFFSETFROM:-0500
TZOFFSETTO:-0600
TZNAME:CST
DTSTART:20251102T070000
END:STANDARD
BEGIN:DAYLIGHT
TZOFFSETFROM:-0600
TZOFFSETTO:-0500
TZNAME:CDT
DTSTART:20260308T080000
END:DAYLIGHT
BEGIN:STANDARD
TZOFFSETFROM:-0500
TZOFFSETTO:-0600
TZNAME:CST
DTSTART:20261101T070000
END:STANDARD
BEGIN:DAYLIGHT
TZOFFSETFROM:-0600
TZOFFSETTO:-0500
TZNAME:CDT
DTSTART:20270314T080000
END:DAYLIGHT
BEGIN:STANDARD
TZOFFSETFROM:-0500
TZOFFSETTO:-0600
TZNAME:CST
DTSTART:20271107T070000
END:STANDARD
END:VTIMEZONE
BEGIN:VEVENT
DTSTART;TZID=America/Chicago:20260102T080000
DTEND;TZID=America/Chicago:20260102T090000
DTSTAMP:20260421T170722
CREATED:20251230T231439Z
LAST-MODIFIED:20251230T231439Z
UID:10013206-1767340800-1767344400@murphysboro.com
SUMMARY:Exercise Class – Topp Shape
DESCRIPTION:
URL:https://murphysboro.com/event/exercise-class-topp-shape-20/
LOCATION:Illinois
CATEGORIES:Business,Educational,Sports
END:VEVENT
BEGIN:VEVENT
DTSTART;TZID=America/Chicago:20260102T103000
DTEND;TZID=America/Chicago:20260102T113000
DTSTAMP:20260421T170722
CREATED:20251208T130255Z
LAST-MODIFIED:20251208T130255Z
UID:10010637-1767349800-1767353400@murphysboro.com
SUMMARY:Eat Play Grow - Sallie Logan Library
DESCRIPTION:
URL:https://murphysboro.com/event/eat-play-grow-sallie-logan-library-4/
LOCATION:Sallie Logan Library\, 1808 Walnut Street\, Murphysboro\, IL\, 62966\, United States
CATEGORIES:Business,Community Event,Educational
END:VEVENT
BEGIN:VEVENT
DTSTART;TZID=America/Chicago:20260102T120000
DTEND;TZID=America/Chicago:20260102T150000
DTSTAMP:20260421T170722
CREATED:20251230T231552Z
LAST-MODIFIED:20251230T231552Z
UID:10013207-1767355200-1767366000@murphysboro.com
SUMMARY:Open hours – Jackson County Historical Society
DESCRIPTION:
URL:https://murphysboro.com/event/open-hours-jackson-county-historical-society-5/
LOCATION:Jackson County Historical Society\, 1616 Edith Street\, Murphysboro\, IL\, 62966\, United States
CATEGORIES:Business,Educational
END:VEVENT
BEGIN:VEVENT
DTSTART;TZID=America/Chicago:20260102T130000
DTEND;TZID=America/Chicago:20260102T160000
DTSTAMP:20260421T170722
CREATED:20251230T231646Z
LAST-MODIFIED:20251230T231646Z
UID:10013208-1767358800-1767369600@murphysboro.com
SUMMARY:Open Hours – Logan Museum
DESCRIPTION:
URL:https://murphysboro.com/event/open-hours-logan-museum-273/
LOCATION:John A. Logan Museum\, 1613 Edith\, Murphysboro
CATEGORIES:Business,Educational
END:VEVENT
BEGIN:VEVENT
DTSTART;TZID=America/Chicago:20260102T180000
DTEND;TZID=America/Chicago:20260102T190000
DTSTAMP:20260421T170722
CREATED:20251230T231742Z
LAST-MODIFIED:20251230T231742Z
UID:10013209-1767376800-1767380400@murphysboro.com
SUMMARY:Surya Flow – Yoga on the Block
DESCRIPTION:
URL:https://murphysboro.com/event/surya-flow-yoga-on-the-block-5/
LOCATION:Yoga on the Block\, 1330 Walnut Street\, Murphysboro\, IL\, 62966\, United States
CATEGORIES:Business,Educational,Sports
END:VEVENT
END:VCALENDAR