BEGIN:VCALENDAR
VERSION:2.0
PRODID:-//The City of Murphysboro - ECPv6.15.20//NONSGML v1.0//EN
CALSCALE:GREGORIAN
METHOD:PUBLISH
X-ORIGINAL-URL:https://murphysboro.com
X-WR-CALDESC:Events for The City of Murphysboro
REFRESH-INTERVAL;VALUE=DURATION:PT1H
X-Robots-Tag:noindex
X-PUBLISHED-TTL:PT1H
BEGIN:VTIMEZONE
TZID:America/Chicago
BEGIN:DAYLIGHT
TZOFFSETFROM:-0600
TZOFFSETTO:-0500
TZNAME:CDT
DTSTART:20250309T080000
END:DAYLIGHT
BEGIN:STANDARD
TZOFFSETFROM:-0500
TZOFFSETTO:-0600
TZNAME:CST
DTSTART:20251102T070000
END:STANDARD
BEGIN:DAYLIGHT
TZOFFSETFROM:-0600
TZOFFSETTO:-0500
TZNAME:CDT
DTSTART:20260308T080000
END:DAYLIGHT
BEGIN:STANDARD
TZOFFSETFROM:-0500
TZOFFSETTO:-0600
TZNAME:CST
DTSTART:20261101T070000
END:STANDARD
BEGIN:DAYLIGHT
TZOFFSETFROM:-0600
TZOFFSETTO:-0500
TZNAME:CDT
DTSTART:20270314T080000
END:DAYLIGHT
BEGIN:STANDARD
TZOFFSETFROM:-0500
TZOFFSETTO:-0600
TZNAME:CST
DTSTART:20271107T070000
END:STANDARD
END:VTIMEZONE
BEGIN:VEVENT
DTSTART;VALUE=DATE:20260226
DTEND;VALUE=DATE:20260306
DTSTAMP:20260421T154609
CREATED:20260224T122042Z
LAST-MODIFIED:20260224T122042Z
UID:10014005-1772064000-1772755199@murphysboro.com
SUMMARY:Friends of the Library Book Sale - Sallie Logan Library
DESCRIPTION:
URL:https://murphysboro.com/event/friends-of-the-library-book-sale-sallie-logan-library/
LOCATION:Sallie Logan Library\, 1808 Walnut Street\, Murphysboro\, IL\, 62966\, United States
CATEGORIES:Arts | Culture,Business,Community Event,Fundraiser
END:VEVENT
BEGIN:VEVENT
DTSTART;TZID=America/Chicago:20260226T093000
DTEND;TZID=America/Chicago:20260226T110000
DTSTAMP:20260421T154609
CREATED:20251224T120255Z
LAST-MODIFIED:20251224T120255Z
UID:10012440-1772098200-1772103600@murphysboro.com
SUMMARY:Line Dancing – Senior Center
DESCRIPTION:
URL:https://murphysboro.com/event/line-dancing-senior-center-46/2026-02-26/
CATEGORIES:Business
END:VEVENT
BEGIN:VEVENT
DTSTART;TZID=America/Chicago:20260226T161500
DTEND;TZID=America/Chicago:20260226T171500
DTSTAMP:20260421T154609
CREATED:20251224T120408Z
LAST-MODIFIED:20251224T120408Z
UID:10012492-1772122500-1772126100@murphysboro.com
SUMMARY:Yoga Class – Event Center
DESCRIPTION:
URL:https://murphysboro.com/event/yoga-class-event-center-46/2026-02-26/
CATEGORIES:Business,Sports
END:VEVENT
BEGIN:VEVENT
DTSTART;TZID=America/Chicago:20260226T180000
DTEND;TZID=America/Chicago:20260226T190000
DTSTAMP:20260421T154609
CREATED:20251224T120534Z
LAST-MODIFIED:20251224T120534Z
UID:10012544-1772128800-1772132400@murphysboro.com
SUMMARY:Body by Brent Bootcamp – Youth and Recreation Center
DESCRIPTION:
URL:https://murphysboro.com/event/body-by-brent-bootcamp-youth-and-recreation-center-9/2026-02-26/
LOCATION:Youth and Rec Center\, 1818 Walnut Street\, Murphysboro\, IL\, 62966\, United States
CATEGORIES:Business,Educational
END:VEVENT
BEGIN:VEVENT
DTSTART;TZID=America/Chicago:20260226T180000
DTEND;TZID=America/Chicago:20260226T200000
DTSTAMP:20260421T154609
CREATED:20251224T120708Z
LAST-MODIFIED:20251224T120708Z
UID:10012596-1772128800-1772136000@murphysboro.com
SUMMARY:Last Queen Standing – Rosie’s Video Gaming
DESCRIPTION:
URL:https://murphysboro.com/event/last-queen-standing-rosies-video-gaming-3/2026-02-26/
CATEGORIES:Business
END:VEVENT
BEGIN:VEVENT
DTSTART;TZID=America/Chicago:20260226T180000
DTEND;TZID=America/Chicago:20260226T210000
DTSTAMP:20260421T154609
CREATED:20251222T193308Z
LAST-MODIFIED:20251222T193308Z
UID:10011133-1772128800-1772139600@murphysboro.com
SUMMARY:Weekly Yugioh Genesys Format Tournament - A2Z Trading Card Games
DESCRIPTION:
URL:https://murphysboro.com/event/weekly-yugioh-genesys-format-tournament-a2z-trading-card-games/2026-02-26/
LOCATION:A2Z Trading Card Games\, 1003 Chestnut Street\, Murphysboro\, IL\, 62966\, United States
CATEGORIES:Business,Educational
END:VEVENT
BEGIN:VEVENT
DTSTART;TZID=America/Chicago:20260226T180000
DTEND;TZID=America/Chicago:20260226T210000
DTSTAMP:20260421T154609
CREATED:20260123T121614Z
LAST-MODIFIED:20260123T121614Z
UID:10013863-1772128800-1772139600@murphysboro.com
SUMMARY:Crimson Express Color Guard Auditions - Carruthers Gym
DESCRIPTION:
URL:https://murphysboro.com/event/crimson-express-color-guard-auditions-carruthers-gym-3/
CATEGORIES:Camp,Educational,Sports
END:VEVENT
BEGIN:VEVENT
DTSTART;TZID=America/Chicago:20260226T190000
DTEND;TZID=America/Chicago:20260226T210000
DTSTAMP:20260421T154609
CREATED:20251224T120834Z
LAST-MODIFIED:20251224T120834Z
UID:10012648-1772132400-1772139600@murphysboro.com
SUMMARY:Bingo Night – American Legion
DESCRIPTION:
URL:https://murphysboro.com/event/bingo-night-american-legion-46/2026-02-26/
LOCATION:American Legion\, 1700 Gartside Street\, MURPHYSBORO\, IL\, 62966\, United States
CATEGORIES:Business
END:VEVENT
BEGIN:VEVENT
DTSTART;TZID=America/Chicago:20260226T200000
DTEND;TZID=America/Chicago:20260226T220000
DTSTAMP:20260421T154609
CREATED:20251224T120940Z
LAST-MODIFIED:20251224T120940Z
UID:10012700-1772136000-1772143200@murphysboro.com
SUMMARY:Trivia Night – Brews Brothers Taproom
DESCRIPTION:
URL:https://murphysboro.com/event/trivia-night-brews-brothers-taproom-47/2026-02-26/
LOCATION:Brews Brothers Taproom\, 1105 Chestnut Street\, Murphysboro\, IL\, 62966\, United States
CATEGORIES:Business
END:VEVENT
END:VCALENDAR