BEGIN:VCALENDAR
VERSION:2.0
PRODID:-//The City of Murphysboro - ECPv6.15.20//NONSGML v1.0//EN
CALSCALE:GREGORIAN
METHOD:PUBLISH
X-ORIGINAL-URL:https://murphysboro.com
X-WR-CALDESC:Events for The City of Murphysboro
REFRESH-INTERVAL;VALUE=DURATION:PT1H
X-Robots-Tag:noindex
X-PUBLISHED-TTL:PT1H
BEGIN:VTIMEZONE
TZID:UTC
BEGIN:STANDARD
TZOFFSETFROM:+0000
TZOFFSETTO:+0000
TZNAME:UTC
DTSTART:20230101T000000
END:STANDARD
END:VTIMEZONE
BEGIN:VTIMEZONE
TZID:America/Chicago
BEGIN:DAYLIGHT
TZOFFSETFROM:-0600
TZOFFSETTO:-0500
TZNAME:CDT
DTSTART:20230312T080000
END:DAYLIGHT
BEGIN:STANDARD
TZOFFSETFROM:-0500
TZOFFSETTO:-0600
TZNAME:CST
DTSTART:20231105T070000
END:STANDARD
BEGIN:DAYLIGHT
TZOFFSETFROM:-0600
TZOFFSETTO:-0500
TZNAME:CDT
DTSTART:20240310T080000
END:DAYLIGHT
BEGIN:STANDARD
TZOFFSETFROM:-0500
TZOFFSETTO:-0600
TZNAME:CST
DTSTART:20241103T070000
END:STANDARD
BEGIN:DAYLIGHT
TZOFFSETFROM:-0600
TZOFFSETTO:-0500
TZNAME:CDT
DTSTART:20250309T080000
END:DAYLIGHT
BEGIN:STANDARD
TZOFFSETFROM:-0500
TZOFFSETTO:-0600
TZNAME:CST
DTSTART:20251102T070000
END:STANDARD
END:VTIMEZONE
BEGIN:VEVENT
DTSTART;TZID=UTC:20241109T090000
DTEND;TZID=UTC:20241109T140000
DTSTAMP:20260421T110453
CREATED:20230222T155214Z
LAST-MODIFIED:20241104T121013Z
UID:10000193-1731142800-1731160800@murphysboro.com
SUMMARY:Fall Cleanup and Repair Day - John A. Logan Museum
DESCRIPTION:
URL:https://murphysboro.com/event/yoga-class-yoga-on-the-block-28/
LOCATION:John A. Logan Museum\, 1613 Edith\, Murphysboro
CATEGORIES:Community Event
END:VEVENT
BEGIN:VEVENT
DTSTART;TZID=America/Chicago:20241109T093000
DTEND;TZID=America/Chicago:20241109T103000
DTSTAMP:20260421T110453
CREATED:20240109T023350Z
LAST-MODIFIED:20240109T023350Z
UID:10005714-1731144600-1731148200@murphysboro.com
SUMMARY:Body by Brent Bootcamp - Youth and Recreation Center
DESCRIPTION:
URL:https://murphysboro.com/event/body-by-brent-bootcamp-youth-and-recreation-center-3/2024-11-09/
LOCATION:Youth and Rec Center\, 1818 Walnut Street\, Murphysboro\, IL\, 62966\, United States
CATEGORIES:Camp,Community Event
END:VEVENT
BEGIN:VEVENT
DTSTART;TZID=UTC:20241109T120000
DTEND;TZID=UTC:20241109T150000
DTSTAMP:20260421T110453
CREATED:20230222T155347Z
LAST-MODIFIED:20241020T224509Z
UID:10000603-1731153600-1731164400@murphysboro.com
SUMMARY:Bags Tournament - Murphysboro Veterans Support Group
DESCRIPTION:
URL:https://murphysboro.com/event/open-hours-logan-museum-192/
CATEGORIES:Fundraiser
END:VEVENT
BEGIN:VEVENT
DTSTART;TZID=UTC:20241109T130000
DTEND;TZID=UTC:20241109T150000
DTSTAMP:20260421T110453
CREATED:20230222T155157Z
LAST-MODIFIED:20241103T111130Z
UID:10000127-1731157200-1731164400@murphysboro.com
SUMMARY:Bird Feeder Craft - Sallie Logan Library
DESCRIPTION:
URL:https://murphysboro.com/event/game-night-sallie-logan-library-5/
LOCATION:Sallie Logan Library\, 1808 Walnut Street\, Murphysboro\, IL\, 62966\, United States
CATEGORIES:Community Event,Educational,Kid Friendly
END:VEVENT
BEGIN:VEVENT
DTSTART;TZID=UTC:20241109T150000
DTEND;TZID=UTC:20241109T170000
DTSTAMP:20260421T110453
CREATED:20230222T155206Z
LAST-MODIFIED:20241106T115850Z
UID:10000147-1731164400-1731171600@murphysboro.com
SUMMARY:Football Playoff Game - High School
DESCRIPTION:
URL:https://murphysboro.com/event/canasta-senior-center-5/
LOCATION:Murphysboro High School\, 50 Blackwood Drive\, Murphysboro\, 62966\, United States
CATEGORIES:Community Event,Sports
END:VEVENT
END:VCALENDAR